BEGIN:VCALENDAR
VERSION:2.0
PRODID:-//AikidoContraCosta.com - ECPv6.15.20//NONSGML v1.0//EN
CALSCALE:GREGORIAN
METHOD:PUBLISH
X-ORIGINAL-URL:https://aikido-contracosta.com
X-WR-CALDESC:Events for AikidoContraCosta.com
REFRESH-INTERVAL;VALUE=DURATION:PT1H
X-Robots-Tag:noindex
X-PUBLISHED-TTL:PT1H
BEGIN:VTIMEZONE
TZID:America/Los_Angeles
BEGIN:DAYLIGHT
TZOFFSETFROM:-0800
TZOFFSETTO:-0700
TZNAME:PDT
DTSTART:20250309T100000
END:DAYLIGHT
BEGIN:STANDARD
TZOFFSETFROM:-0700
TZOFFSETTO:-0800
TZNAME:PST
DTSTART:20251102T090000
END:STANDARD
BEGIN:DAYLIGHT
TZOFFSETFROM:-0800
TZOFFSETTO:-0700
TZNAME:PDT
DTSTART:20260308T100000
END:DAYLIGHT
BEGIN:STANDARD
TZOFFSETFROM:-0700
TZOFFSETTO:-0800
TZNAME:PST
DTSTART:20261101T090000
END:STANDARD
BEGIN:DAYLIGHT
TZOFFSETFROM:-0800
TZOFFSETTO:-0700
TZNAME:PDT
DTSTART:20270314T100000
END:DAYLIGHT
BEGIN:STANDARD
TZOFFSETFROM:-0700
TZOFFSETTO:-0800
TZNAME:PST
DTSTART:20271107T090000
END:STANDARD
BEGIN:DAYLIGHT
TZOFFSETFROM:-0800
TZOFFSETTO:-0700
TZNAME:PDT
DTSTART:20280312T100000
END:DAYLIGHT
BEGIN:STANDARD
TZOFFSETFROM:-0700
TZOFFSETTO:-0800
TZNAME:PST
DTSTART:20281105T090000
END:STANDARD
END:VTIMEZONE
BEGIN:VEVENT
DTSTART;TZID=America/Los_Angeles:20261008T193000
DTEND;TZID=America/Los_Angeles:20261008T210000
DTSTAMP:20260423T170333
CREATED:20250116T225203Z
LAST-MODIFIED:20250116T225205Z
UID:10001810-1791487800-1791493200@aikido-contracosta.com
SUMMARY:Regular Class
DESCRIPTION:
URL:https://aikido-contracosta.com/events/regular-class-327-2/2026-10-08/
LOCATION:Wah Dojo
END:VEVENT
BEGIN:VEVENT
DTSTART;TZID=America/Los_Angeles:20261013T193000
DTEND;TZID=America/Los_Angeles:20261013T210000
DTSTAMP:20260423T170333
CREATED:20250116T225203Z
LAST-MODIFIED:20250116T225205Z
UID:10001811-1791919800-1791925200@aikido-contracosta.com
SUMMARY:Regular Class
DESCRIPTION:
URL:https://aikido-contracosta.com/events/regular-class-327-2/2026-10-13/
LOCATION:Wah Dojo
END:VEVENT
BEGIN:VEVENT
DTSTART;TZID=America/Los_Angeles:20261015T193000
DTEND;TZID=America/Los_Angeles:20261015T210000
DTSTAMP:20260423T170333
CREATED:20250116T225203Z
LAST-MODIFIED:20250116T225205Z
UID:10001812-1792092600-1792098000@aikido-contracosta.com
SUMMARY:Regular Class
DESCRIPTION:
URL:https://aikido-contracosta.com/events/regular-class-327-2/2026-10-15/
LOCATION:Wah Dojo
END:VEVENT
BEGIN:VEVENT
DTSTART;TZID=America/Los_Angeles:20261020T193000
DTEND;TZID=America/Los_Angeles:20261020T210000
DTSTAMP:20260423T170333
CREATED:20250116T225203Z
LAST-MODIFIED:20250116T225205Z
UID:10001813-1792524600-1792530000@aikido-contracosta.com
SUMMARY:Regular Class
DESCRIPTION:
URL:https://aikido-contracosta.com/events/regular-class-327-2/2026-10-20/
LOCATION:Wah Dojo
END:VEVENT
BEGIN:VEVENT
DTSTART;TZID=America/Los_Angeles:20261022T193000
DTEND;TZID=America/Los_Angeles:20261022T210000
DTSTAMP:20260423T170333
CREATED:20250116T225203Z
LAST-MODIFIED:20250116T225205Z
UID:10001814-1792697400-1792702800@aikido-contracosta.com
SUMMARY:Regular Class
DESCRIPTION:
URL:https://aikido-contracosta.com/events/regular-class-327-2/2026-10-22/
LOCATION:Wah Dojo
END:VEVENT
BEGIN:VEVENT
DTSTART;TZID=America/Los_Angeles:20261027T193000
DTEND;TZID=America/Los_Angeles:20261027T210000
DTSTAMP:20260423T170333
CREATED:20250116T225203Z
LAST-MODIFIED:20250116T225205Z
UID:10001815-1793129400-1793134800@aikido-contracosta.com
SUMMARY:Regular Class
DESCRIPTION:
URL:https://aikido-contracosta.com/events/regular-class-327-2/2026-10-27/
LOCATION:Wah Dojo
END:VEVENT
BEGIN:VEVENT
DTSTART;TZID=America/Los_Angeles:20261029T193000
DTEND;TZID=America/Los_Angeles:20261029T210000
DTSTAMP:20260423T170333
CREATED:20250116T225203Z
LAST-MODIFIED:20250116T225205Z
UID:10001816-1793302200-1793307600@aikido-contracosta.com
SUMMARY:Regular Class
DESCRIPTION:
URL:https://aikido-contracosta.com/events/regular-class-327-2/2026-10-29/
LOCATION:Wah Dojo
END:VEVENT
BEGIN:VEVENT
DTSTART;TZID=America/Los_Angeles:20261103T193000
DTEND;TZID=America/Los_Angeles:20261103T210000
DTSTAMP:20260423T170333
CREATED:20250116T225203Z
LAST-MODIFIED:20250116T225205Z
UID:10001817-1793734200-1793739600@aikido-contracosta.com
SUMMARY:Regular Class
DESCRIPTION:
URL:https://aikido-contracosta.com/events/regular-class-327-2/2026-11-03/
LOCATION:Wah Dojo
END:VEVENT
BEGIN:VEVENT
DTSTART;TZID=America/Los_Angeles:20261105T193000
DTEND;TZID=America/Los_Angeles:20261105T210000
DTSTAMP:20260423T170333
CREATED:20250116T225203Z
LAST-MODIFIED:20250116T225205Z
UID:10001818-1793907000-1793912400@aikido-contracosta.com
SUMMARY:Regular Class
DESCRIPTION:
URL:https://aikido-contracosta.com/events/regular-class-327-2/2026-11-05/
LOCATION:Wah Dojo
END:VEVENT
BEGIN:VEVENT
DTSTART;TZID=America/Los_Angeles:20261110T193000
DTEND;TZID=America/Los_Angeles:20261110T210000
DTSTAMP:20260423T170333
CREATED:20250116T225203Z
LAST-MODIFIED:20250116T225205Z
UID:10001819-1794339000-1794344400@aikido-contracosta.com
SUMMARY:Regular Class
DESCRIPTION:
URL:https://aikido-contracosta.com/events/regular-class-327-2/2026-11-10/
LOCATION:Wah Dojo
END:VEVENT
BEGIN:VEVENT
DTSTART;TZID=America/Los_Angeles:20261112T193000
DTEND;TZID=America/Los_Angeles:20261112T210000
DTSTAMP:20260423T170333
CREATED:20250116T225203Z
LAST-MODIFIED:20250116T225205Z
UID:10001820-1794511800-1794517200@aikido-contracosta.com
SUMMARY:Regular Class
DESCRIPTION:
URL:https://aikido-contracosta.com/events/regular-class-327-2/2026-11-12/
LOCATION:Wah Dojo
END:VEVENT
BEGIN:VEVENT
DTSTART;TZID=America/Los_Angeles:20261117T193000
DTEND;TZID=America/Los_Angeles:20261117T210000
DTSTAMP:20260423T170333
CREATED:20250116T225203Z
LAST-MODIFIED:20250116T225205Z
UID:10001821-1794943800-1794949200@aikido-contracosta.com
SUMMARY:Regular Class
DESCRIPTION:
URL:https://aikido-contracosta.com/events/regular-class-327-2/2026-11-17/
LOCATION:Wah Dojo
END:VEVENT
BEGIN:VEVENT
DTSTART;TZID=America/Los_Angeles:20261119T193000
DTEND;TZID=America/Los_Angeles:20261119T210000
DTSTAMP:20260423T170333
CREATED:20250116T225203Z
LAST-MODIFIED:20250116T225205Z
UID:10001822-1795116600-1795122000@aikido-contracosta.com
SUMMARY:Regular Class
DESCRIPTION:
URL:https://aikido-contracosta.com/events/regular-class-327-2/2026-11-19/
LOCATION:Wah Dojo
END:VEVENT
BEGIN:VEVENT
DTSTART;TZID=America/Los_Angeles:20261124T193000
DTEND;TZID=America/Los_Angeles:20261124T210000
DTSTAMP:20260423T170333
CREATED:20250116T225203Z
LAST-MODIFIED:20250116T225205Z
UID:10001823-1795548600-1795554000@aikido-contracosta.com
SUMMARY:Regular Class
DESCRIPTION:
URL:https://aikido-contracosta.com/events/regular-class-327-2/2026-11-24/
LOCATION:Wah Dojo
END:VEVENT
BEGIN:VEVENT
DTSTART;TZID=America/Los_Angeles:20261126T193000
DTEND;TZID=America/Los_Angeles:20261126T210000
DTSTAMP:20260423T170333
CREATED:20250116T225203Z
LAST-MODIFIED:20250116T225205Z
UID:10001824-1795721400-1795726800@aikido-contracosta.com
SUMMARY:Regular Class
DESCRIPTION:
URL:https://aikido-contracosta.com/events/regular-class-327-2/2026-11-26/
LOCATION:Wah Dojo
END:VEVENT
BEGIN:VEVENT
DTSTART;TZID=America/Los_Angeles:20261201T193000
DTEND;TZID=America/Los_Angeles:20261201T210000
DTSTAMP:20260423T170333
CREATED:20250116T225203Z
LAST-MODIFIED:20250116T225205Z
UID:10001825-1796153400-1796158800@aikido-contracosta.com
SUMMARY:Regular Class
DESCRIPTION:
URL:https://aikido-contracosta.com/events/regular-class-327-2/2026-12-01/
LOCATION:Wah Dojo
END:VEVENT
BEGIN:VEVENT
DTSTART;TZID=America/Los_Angeles:20261203T193000
DTEND;TZID=America/Los_Angeles:20261203T210000
DTSTAMP:20260423T170333
CREATED:20250116T225203Z
LAST-MODIFIED:20250116T225205Z
UID:10001826-1796326200-1796331600@aikido-contracosta.com
SUMMARY:Regular Class
DESCRIPTION:
URL:https://aikido-contracosta.com/events/regular-class-327-2/2026-12-03/
LOCATION:Wah Dojo
END:VEVENT
BEGIN:VEVENT
DTSTART;TZID=America/Los_Angeles:20261208T193000
DTEND;TZID=America/Los_Angeles:20261208T210000
DTSTAMP:20260423T170333
CREATED:20250116T225203Z
LAST-MODIFIED:20250116T225205Z
UID:10001827-1796758200-1796763600@aikido-contracosta.com
SUMMARY:Regular Class
DESCRIPTION:
URL:https://aikido-contracosta.com/events/regular-class-327-2/2026-12-08/
LOCATION:Wah Dojo
END:VEVENT
BEGIN:VEVENT
DTSTART;TZID=America/Los_Angeles:20261210T193000
DTEND;TZID=America/Los_Angeles:20261210T210000
DTSTAMP:20260423T170333
CREATED:20250116T225203Z
LAST-MODIFIED:20250116T225205Z
UID:10001828-1796931000-1796936400@aikido-contracosta.com
SUMMARY:Regular Class
DESCRIPTION:
URL:https://aikido-contracosta.com/events/regular-class-327-2/2026-12-10/
LOCATION:Wah Dojo
END:VEVENT
BEGIN:VEVENT
DTSTART;TZID=America/Los_Angeles:20261215T193000
DTEND;TZID=America/Los_Angeles:20261215T210000
DTSTAMP:20260423T170333
CREATED:20250116T225203Z
LAST-MODIFIED:20250116T225205Z
UID:10001829-1797363000-1797368400@aikido-contracosta.com
SUMMARY:Regular Class
DESCRIPTION:
URL:https://aikido-contracosta.com/events/regular-class-327-2/2026-12-15/
LOCATION:Wah Dojo
END:VEVENT
BEGIN:VEVENT
DTSTART;TZID=America/Los_Angeles:20261217T193000
DTEND;TZID=America/Los_Angeles:20261217T210000
DTSTAMP:20260423T170333
CREATED:20250116T225203Z
LAST-MODIFIED:20250116T225205Z
UID:10001830-1797535800-1797541200@aikido-contracosta.com
SUMMARY:Regular Class
DESCRIPTION:
URL:https://aikido-contracosta.com/events/regular-class-327-2/2026-12-17/
LOCATION:Wah Dojo
END:VEVENT
BEGIN:VEVENT
DTSTART;TZID=America/Los_Angeles:20261222T193000
DTEND;TZID=America/Los_Angeles:20261222T210000
DTSTAMP:20260423T170333
CREATED:20250116T225203Z
LAST-MODIFIED:20250116T225205Z
UID:10001831-1797967800-1797973200@aikido-contracosta.com
SUMMARY:Regular Class
DESCRIPTION:
URL:https://aikido-contracosta.com/events/regular-class-327-2/2026-12-22/
LOCATION:Wah Dojo
END:VEVENT
BEGIN:VEVENT
DTSTART;TZID=America/Los_Angeles:20261224T193000
DTEND;TZID=America/Los_Angeles:20261224T210000
DTSTAMP:20260423T170333
CREATED:20250116T225203Z
LAST-MODIFIED:20250116T225205Z
UID:10001832-1798140600-1798146000@aikido-contracosta.com
SUMMARY:Regular Class
DESCRIPTION:
URL:https://aikido-contracosta.com/events/regular-class-327-2/2026-12-24/
LOCATION:Wah Dojo
END:VEVENT
BEGIN:VEVENT
DTSTART;TZID=America/Los_Angeles:20261229T193000
DTEND;TZID=America/Los_Angeles:20261229T210000
DTSTAMP:20260423T170333
CREATED:20250116T225203Z
LAST-MODIFIED:20250116T225205Z
UID:10001833-1798572600-1798578000@aikido-contracosta.com
SUMMARY:Regular Class
DESCRIPTION:
URL:https://aikido-contracosta.com/events/regular-class-327-2/2026-12-29/
LOCATION:Wah Dojo
END:VEVENT
BEGIN:VEVENT
DTSTART;TZID=America/Los_Angeles:20261231T193000
DTEND;TZID=America/Los_Angeles:20261231T210000
DTSTAMP:20260423T170333
CREATED:20250116T225203Z
LAST-MODIFIED:20250116T225205Z
UID:10001834-1798745400-1798750800@aikido-contracosta.com
SUMMARY:Regular Class
DESCRIPTION:
URL:https://aikido-contracosta.com/events/regular-class-327-2/2026-12-31/
LOCATION:Wah Dojo
END:VEVENT
BEGIN:VEVENT
DTSTART;TZID=America/Los_Angeles:20270105T193000
DTEND;TZID=America/Los_Angeles:20270105T210000
DTSTAMP:20260423T170333
CREATED:20250116T225203Z
LAST-MODIFIED:20250116T225205Z
UID:10001835-1799177400-1799182800@aikido-contracosta.com
SUMMARY:Regular Class
DESCRIPTION:
URL:https://aikido-contracosta.com/events/regular-class-327-2/2027-01-05/
LOCATION:Wah Dojo
END:VEVENT
BEGIN:VEVENT
DTSTART;TZID=America/Los_Angeles:20270107T193000
DTEND;TZID=America/Los_Angeles:20270107T210000
DTSTAMP:20260423T170333
CREATED:20250116T225203Z
LAST-MODIFIED:20250116T225205Z
UID:10001836-1799350200-1799355600@aikido-contracosta.com
SUMMARY:Regular Class
DESCRIPTION:
URL:https://aikido-contracosta.com/events/regular-class-327-2/2027-01-07/
LOCATION:Wah Dojo
END:VEVENT
BEGIN:VEVENT
DTSTART;TZID=America/Los_Angeles:20270112T193000
DTEND;TZID=America/Los_Angeles:20270112T210000
DTSTAMP:20260423T170333
CREATED:20250116T225203Z
LAST-MODIFIED:20250116T225205Z
UID:10001837-1799782200-1799787600@aikido-contracosta.com
SUMMARY:Regular Class
DESCRIPTION:
URL:https://aikido-contracosta.com/events/regular-class-327-2/2027-01-12/
LOCATION:Wah Dojo
END:VEVENT
BEGIN:VEVENT
DTSTART;TZID=America/Los_Angeles:20270114T193000
DTEND;TZID=America/Los_Angeles:20270114T210000
DTSTAMP:20260423T170333
CREATED:20250116T225203Z
LAST-MODIFIED:20250116T225205Z
UID:10001838-1799955000-1799960400@aikido-contracosta.com
SUMMARY:Regular Class
DESCRIPTION:
URL:https://aikido-contracosta.com/events/regular-class-327-2/2027-01-14/
LOCATION:Wah Dojo
END:VEVENT
BEGIN:VEVENT
DTSTART;TZID=America/Los_Angeles:20270119T193000
DTEND;TZID=America/Los_Angeles:20270119T210000
DTSTAMP:20260423T170333
CREATED:20250116T225203Z
LAST-MODIFIED:20250116T225205Z
UID:10001839-1800387000-1800392400@aikido-contracosta.com
SUMMARY:Regular Class
DESCRIPTION:
URL:https://aikido-contracosta.com/events/regular-class-327-2/2027-01-19/
LOCATION:Wah Dojo
END:VEVENT
END:VCALENDAR