BEGIN:VCALENDAR
VERSION:2.0
PRODID:-//AikidoContraCosta.com - ECPv6.15.20//NONSGML v1.0//EN
CALSCALE:GREGORIAN
METHOD:PUBLISH
X-ORIGINAL-URL:https://aikido-contracosta.com
X-WR-CALDESC:Events for AikidoContraCosta.com
REFRESH-INTERVAL;VALUE=DURATION:PT1H
X-Robots-Tag:noindex
X-PUBLISHED-TTL:PT1H
BEGIN:VTIMEZONE
TZID:America/Los_Angeles
BEGIN:DAYLIGHT
TZOFFSETFROM:-0800
TZOFFSETTO:-0700
TZNAME:PDT
DTSTART:20280312T100000
END:DAYLIGHT
BEGIN:STANDARD
TZOFFSETFROM:-0700
TZOFFSETTO:-0800
TZNAME:PST
DTSTART:20281105T090000
END:STANDARD
BEGIN:DAYLIGHT
TZOFFSETFROM:-0800
TZOFFSETTO:-0700
TZNAME:PDT
DTSTART:20290311T100000
END:DAYLIGHT
BEGIN:STANDARD
TZOFFSETFROM:-0700
TZOFFSETTO:-0800
TZNAME:PST
DTSTART:20291104T090000
END:STANDARD
BEGIN:DAYLIGHT
TZOFFSETFROM:-0800
TZOFFSETTO:-0700
TZNAME:PDT
DTSTART:20300310T100000
END:DAYLIGHT
BEGIN:STANDARD
TZOFFSETFROM:-0700
TZOFFSETTO:-0800
TZNAME:PST
DTSTART:20301103T090000
END:STANDARD
END:VTIMEZONE
BEGIN:VEVENT
DTSTART;TZID=America/Los_Angeles:20290828T193000
DTEND;TZID=America/Los_Angeles:20290828T210000
DTSTAMP:20260425T090809
CREATED:20250116T225203Z
LAST-MODIFIED:20250116T225205Z
UID:10002111-1882639800-1882645200@aikido-contracosta.com
SUMMARY:Regular Class
DESCRIPTION:
URL:https://aikido-contracosta.com/events/regular-class-327-2/2029-08-28/
LOCATION:Wah Dojo
END:VEVENT
BEGIN:VEVENT
DTSTART;TZID=America/Los_Angeles:20290830T193000
DTEND;TZID=America/Los_Angeles:20290830T210000
DTSTAMP:20260425T090809
CREATED:20250116T225203Z
LAST-MODIFIED:20250116T225205Z
UID:10002112-1882812600-1882818000@aikido-contracosta.com
SUMMARY:Regular Class
DESCRIPTION:
URL:https://aikido-contracosta.com/events/regular-class-327-2/2029-08-30/
LOCATION:Wah Dojo
END:VEVENT
BEGIN:VEVENT
DTSTART;TZID=America/Los_Angeles:20290904T193000
DTEND;TZID=America/Los_Angeles:20290904T210000
DTSTAMP:20260425T090809
CREATED:20250116T225203Z
LAST-MODIFIED:20250116T225205Z
UID:10002113-1883244600-1883250000@aikido-contracosta.com
SUMMARY:Regular Class
DESCRIPTION:
URL:https://aikido-contracosta.com/events/regular-class-327-2/2029-09-04/
LOCATION:Wah Dojo
END:VEVENT
BEGIN:VEVENT
DTSTART;TZID=America/Los_Angeles:20290906T193000
DTEND;TZID=America/Los_Angeles:20290906T210000
DTSTAMP:20260425T090809
CREATED:20250116T225203Z
LAST-MODIFIED:20250116T225205Z
UID:10002114-1883417400-1883422800@aikido-contracosta.com
SUMMARY:Regular Class
DESCRIPTION:
URL:https://aikido-contracosta.com/events/regular-class-327-2/2029-09-06/
LOCATION:Wah Dojo
END:VEVENT
BEGIN:VEVENT
DTSTART;TZID=America/Los_Angeles:20290911T193000
DTEND;TZID=America/Los_Angeles:20290911T210000
DTSTAMP:20260425T090809
CREATED:20250116T225203Z
LAST-MODIFIED:20250116T225205Z
UID:10002115-1883849400-1883854800@aikido-contracosta.com
SUMMARY:Regular Class
DESCRIPTION:
URL:https://aikido-contracosta.com/events/regular-class-327-2/2029-09-11/
LOCATION:Wah Dojo
END:VEVENT
BEGIN:VEVENT
DTSTART;TZID=America/Los_Angeles:20290913T193000
DTEND;TZID=America/Los_Angeles:20290913T210000
DTSTAMP:20260425T090809
CREATED:20250116T225203Z
LAST-MODIFIED:20250116T225205Z
UID:10002116-1884022200-1884027600@aikido-contracosta.com
SUMMARY:Regular Class
DESCRIPTION:
URL:https://aikido-contracosta.com/events/regular-class-327-2/2029-09-13/
LOCATION:Wah Dojo
END:VEVENT
BEGIN:VEVENT
DTSTART;TZID=America/Los_Angeles:20290918T193000
DTEND;TZID=America/Los_Angeles:20290918T210000
DTSTAMP:20260425T090809
CREATED:20250116T225203Z
LAST-MODIFIED:20250116T225205Z
UID:10002117-1884454200-1884459600@aikido-contracosta.com
SUMMARY:Regular Class
DESCRIPTION:
URL:https://aikido-contracosta.com/events/regular-class-327-2/2029-09-18/
LOCATION:Wah Dojo
END:VEVENT
BEGIN:VEVENT
DTSTART;TZID=America/Los_Angeles:20290920T193000
DTEND;TZID=America/Los_Angeles:20290920T210000
DTSTAMP:20260425T090809
CREATED:20250116T225203Z
LAST-MODIFIED:20250116T225205Z
UID:10002118-1884627000-1884632400@aikido-contracosta.com
SUMMARY:Regular Class
DESCRIPTION:
URL:https://aikido-contracosta.com/events/regular-class-327-2/2029-09-20/
LOCATION:Wah Dojo
END:VEVENT
BEGIN:VEVENT
DTSTART;TZID=America/Los_Angeles:20290925T193000
DTEND;TZID=America/Los_Angeles:20290925T210000
DTSTAMP:20260425T090809
CREATED:20250116T225203Z
LAST-MODIFIED:20250116T225205Z
UID:10002119-1885059000-1885064400@aikido-contracosta.com
SUMMARY:Regular Class
DESCRIPTION:
URL:https://aikido-contracosta.com/events/regular-class-327-2/2029-09-25/
LOCATION:Wah Dojo
END:VEVENT
BEGIN:VEVENT
DTSTART;TZID=America/Los_Angeles:20290927T193000
DTEND;TZID=America/Los_Angeles:20290927T210000
DTSTAMP:20260425T090809
CREATED:20250116T225203Z
LAST-MODIFIED:20250116T225205Z
UID:10002120-1885231800-1885237200@aikido-contracosta.com
SUMMARY:Regular Class
DESCRIPTION:
URL:https://aikido-contracosta.com/events/regular-class-327-2/2029-09-27/
LOCATION:Wah Dojo
END:VEVENT
BEGIN:VEVENT
DTSTART;TZID=America/Los_Angeles:20291002T193000
DTEND;TZID=America/Los_Angeles:20291002T210000
DTSTAMP:20260425T090809
CREATED:20250116T225203Z
LAST-MODIFIED:20250116T225205Z
UID:10002121-1885663800-1885669200@aikido-contracosta.com
SUMMARY:Regular Class
DESCRIPTION:
URL:https://aikido-contracosta.com/events/regular-class-327-2/2029-10-02/
LOCATION:Wah Dojo
END:VEVENT
BEGIN:VEVENT
DTSTART;TZID=America/Los_Angeles:20291004T193000
DTEND;TZID=America/Los_Angeles:20291004T210000
DTSTAMP:20260425T090809
CREATED:20250116T225203Z
LAST-MODIFIED:20250116T225205Z
UID:10002122-1885836600-1885842000@aikido-contracosta.com
SUMMARY:Regular Class
DESCRIPTION:
URL:https://aikido-contracosta.com/events/regular-class-327-2/2029-10-04/
LOCATION:Wah Dojo
END:VEVENT
BEGIN:VEVENT
DTSTART;TZID=America/Los_Angeles:20291009T193000
DTEND;TZID=America/Los_Angeles:20291009T210000
DTSTAMP:20260425T090809
CREATED:20250116T225203Z
LAST-MODIFIED:20250116T225205Z
UID:10002123-1886268600-1886274000@aikido-contracosta.com
SUMMARY:Regular Class
DESCRIPTION:
URL:https://aikido-contracosta.com/events/regular-class-327-2/2029-10-09/
LOCATION:Wah Dojo
END:VEVENT
BEGIN:VEVENT
DTSTART;TZID=America/Los_Angeles:20291011T193000
DTEND;TZID=America/Los_Angeles:20291011T210000
DTSTAMP:20260425T090809
CREATED:20250116T225203Z
LAST-MODIFIED:20250116T225205Z
UID:10002124-1886441400-1886446800@aikido-contracosta.com
SUMMARY:Regular Class
DESCRIPTION:
URL:https://aikido-contracosta.com/events/regular-class-327-2/2029-10-11/
LOCATION:Wah Dojo
END:VEVENT
BEGIN:VEVENT
DTSTART;TZID=America/Los_Angeles:20291016T193000
DTEND;TZID=America/Los_Angeles:20291016T210000
DTSTAMP:20260425T090809
CREATED:20250116T225203Z
LAST-MODIFIED:20250116T225205Z
UID:10002125-1886873400-1886878800@aikido-contracosta.com
SUMMARY:Regular Class
DESCRIPTION:
URL:https://aikido-contracosta.com/events/regular-class-327-2/2029-10-16/
LOCATION:Wah Dojo
END:VEVENT
BEGIN:VEVENT
DTSTART;TZID=America/Los_Angeles:20291018T193000
DTEND;TZID=America/Los_Angeles:20291018T210000
DTSTAMP:20260425T090809
CREATED:20250116T225203Z
LAST-MODIFIED:20250116T225205Z
UID:10002126-1887046200-1887051600@aikido-contracosta.com
SUMMARY:Regular Class
DESCRIPTION:
URL:https://aikido-contracosta.com/events/regular-class-327-2/2029-10-18/
LOCATION:Wah Dojo
END:VEVENT
BEGIN:VEVENT
DTSTART;TZID=America/Los_Angeles:20291023T193000
DTEND;TZID=America/Los_Angeles:20291023T210000
DTSTAMP:20260425T090809
CREATED:20250116T225203Z
LAST-MODIFIED:20250116T225205Z
UID:10002127-1887478200-1887483600@aikido-contracosta.com
SUMMARY:Regular Class
DESCRIPTION:
URL:https://aikido-contracosta.com/events/regular-class-327-2/2029-10-23/
LOCATION:Wah Dojo
END:VEVENT
BEGIN:VEVENT
DTSTART;TZID=America/Los_Angeles:20291025T193000
DTEND;TZID=America/Los_Angeles:20291025T210000
DTSTAMP:20260425T090809
CREATED:20250116T225203Z
LAST-MODIFIED:20250116T225205Z
UID:10002128-1887651000-1887656400@aikido-contracosta.com
SUMMARY:Regular Class
DESCRIPTION:
URL:https://aikido-contracosta.com/events/regular-class-327-2/2029-10-25/
LOCATION:Wah Dojo
END:VEVENT
BEGIN:VEVENT
DTSTART;TZID=America/Los_Angeles:20291030T193000
DTEND;TZID=America/Los_Angeles:20291030T210000
DTSTAMP:20260425T090809
CREATED:20250116T225203Z
LAST-MODIFIED:20250116T225205Z
UID:10002129-1888083000-1888088400@aikido-contracosta.com
SUMMARY:Regular Class
DESCRIPTION:
URL:https://aikido-contracosta.com/events/regular-class-327-2/2029-10-30/
LOCATION:Wah Dojo
END:VEVENT
BEGIN:VEVENT
DTSTART;TZID=America/Los_Angeles:20291101T193000
DTEND;TZID=America/Los_Angeles:20291101T210000
DTSTAMP:20260425T090809
CREATED:20250116T225203Z
LAST-MODIFIED:20250116T225205Z
UID:10002130-1888255800-1888261200@aikido-contracosta.com
SUMMARY:Regular Class
DESCRIPTION:
URL:https://aikido-contracosta.com/events/regular-class-327-2/2029-11-01/
LOCATION:Wah Dojo
END:VEVENT
BEGIN:VEVENT
DTSTART;TZID=America/Los_Angeles:20291106T193000
DTEND;TZID=America/Los_Angeles:20291106T210000
DTSTAMP:20260425T090809
CREATED:20250116T225203Z
LAST-MODIFIED:20250116T225205Z
UID:10002139-1888687800-1888693200@aikido-contracosta.com
SUMMARY:Regular Class
DESCRIPTION:
URL:https://aikido-contracosta.com/events/regular-class-327-2/2029-11-06/
LOCATION:Wah Dojo
END:VEVENT
BEGIN:VEVENT
DTSTART;TZID=America/Los_Angeles:20291108T193000
DTEND;TZID=America/Los_Angeles:20291108T210000
DTSTAMP:20260425T090809
CREATED:20250116T225203Z
LAST-MODIFIED:20250116T225205Z
UID:10002140-1888860600-1888866000@aikido-contracosta.com
SUMMARY:Regular Class
DESCRIPTION:
URL:https://aikido-contracosta.com/events/regular-class-327-2/2029-11-08/
LOCATION:Wah Dojo
END:VEVENT
BEGIN:VEVENT
DTSTART;TZID=America/Los_Angeles:20291113T193000
DTEND;TZID=America/Los_Angeles:20291113T210000
DTSTAMP:20260425T090809
CREATED:20250116T225203Z
LAST-MODIFIED:20250116T225205Z
UID:10002141-1889292600-1889298000@aikido-contracosta.com
SUMMARY:Regular Class
DESCRIPTION:
URL:https://aikido-contracosta.com/events/regular-class-327-2/2029-11-13/
LOCATION:Wah Dojo
END:VEVENT
BEGIN:VEVENT
DTSTART;TZID=America/Los_Angeles:20291115T193000
DTEND;TZID=America/Los_Angeles:20291115T210000
DTSTAMP:20260425T090809
CREATED:20250116T225203Z
LAST-MODIFIED:20250116T225205Z
UID:10002142-1889465400-1889470800@aikido-contracosta.com
SUMMARY:Regular Class
DESCRIPTION:
URL:https://aikido-contracosta.com/events/regular-class-327-2/2029-11-15/
LOCATION:Wah Dojo
END:VEVENT
BEGIN:VEVENT
DTSTART;TZID=America/Los_Angeles:20291120T193000
DTEND;TZID=America/Los_Angeles:20291120T210000
DTSTAMP:20260425T090809
CREATED:20250116T225203Z
LAST-MODIFIED:20250116T225205Z
UID:10002409-1889897400-1889902800@aikido-contracosta.com
SUMMARY:Regular Class
DESCRIPTION:
URL:https://aikido-contracosta.com/events/regular-class-327-2/2029-11-20/
LOCATION:Wah Dojo
END:VEVENT
BEGIN:VEVENT
DTSTART;TZID=America/Los_Angeles:20291122T193000
DTEND;TZID=America/Los_Angeles:20291122T210000
DTSTAMP:20260425T090809
CREATED:20250116T225203Z
LAST-MODIFIED:20250116T225205Z
UID:10002410-1890070200-1890075600@aikido-contracosta.com
SUMMARY:Regular Class
DESCRIPTION:
URL:https://aikido-contracosta.com/events/regular-class-327-2/2029-11-22/
LOCATION:Wah Dojo
END:VEVENT
BEGIN:VEVENT
DTSTART;TZID=America/Los_Angeles:20291127T193000
DTEND;TZID=America/Los_Angeles:20291127T210000
DTSTAMP:20260425T090809
CREATED:20250116T225203Z
LAST-MODIFIED:20250116T225205Z
UID:10002411-1890502200-1890507600@aikido-contracosta.com
SUMMARY:Regular Class
DESCRIPTION:
URL:https://aikido-contracosta.com/events/regular-class-327-2/2029-11-27/
LOCATION:Wah Dojo
END:VEVENT
BEGIN:VEVENT
DTSTART;TZID=America/Los_Angeles:20291129T193000
DTEND;TZID=America/Los_Angeles:20291129T210000
DTSTAMP:20260425T090809
CREATED:20250116T225203Z
LAST-MODIFIED:20250116T225205Z
UID:10002412-1890675000-1890680400@aikido-contracosta.com
SUMMARY:Regular Class
DESCRIPTION:
URL:https://aikido-contracosta.com/events/regular-class-327-2/2029-11-29/
LOCATION:Wah Dojo
END:VEVENT
BEGIN:VEVENT
DTSTART;TZID=America/Los_Angeles:20291204T193000
DTEND;TZID=America/Los_Angeles:20291204T210000
DTSTAMP:20260425T090809
CREATED:20250116T225203Z
LAST-MODIFIED:20250116T225205Z
UID:10002413-1891107000-1891112400@aikido-contracosta.com
SUMMARY:Regular Class
DESCRIPTION:
URL:https://aikido-contracosta.com/events/regular-class-327-2/2029-12-04/
LOCATION:Wah Dojo
END:VEVENT
BEGIN:VEVENT
DTSTART;TZID=America/Los_Angeles:20291206T193000
DTEND;TZID=America/Los_Angeles:20291206T210000
DTSTAMP:20260425T090809
CREATED:20250116T225203Z
LAST-MODIFIED:20250116T225205Z
UID:10002414-1891279800-1891285200@aikido-contracosta.com
SUMMARY:Regular Class
DESCRIPTION:
URL:https://aikido-contracosta.com/events/regular-class-327-2/2029-12-06/
LOCATION:Wah Dojo
END:VEVENT
END:VCALENDAR