BEGIN:VCALENDAR
VERSION:2.0
PRODID:-//AikidoContraCosta.com - ECPv6.15.20//NONSGML v1.0//EN
CALSCALE:GREGORIAN
METHOD:PUBLISH
X-ORIGINAL-URL:https://aikido-contracosta.com
X-WR-CALDESC:Events for AikidoContraCosta.com
REFRESH-INTERVAL;VALUE=DURATION:PT1H
X-Robots-Tag:noindex
X-PUBLISHED-TTL:PT1H
BEGIN:VTIMEZONE
TZID:America/Los_Angeles
BEGIN:DAYLIGHT
TZOFFSETFROM:-0800
TZOFFSETTO:-0700
TZNAME:PDT
DTSTART:20250309T100000
END:DAYLIGHT
BEGIN:STANDARD
TZOFFSETFROM:-0700
TZOFFSETTO:-0800
TZNAME:PST
DTSTART:20251102T090000
END:STANDARD
BEGIN:DAYLIGHT
TZOFFSETFROM:-0800
TZOFFSETTO:-0700
TZNAME:PDT
DTSTART:20260308T100000
END:DAYLIGHT
BEGIN:STANDARD
TZOFFSETFROM:-0700
TZOFFSETTO:-0800
TZNAME:PST
DTSTART:20261101T090000
END:STANDARD
BEGIN:DAYLIGHT
TZOFFSETFROM:-0800
TZOFFSETTO:-0700
TZNAME:PDT
DTSTART:20270314T100000
END:DAYLIGHT
BEGIN:STANDARD
TZOFFSETFROM:-0700
TZOFFSETTO:-0800
TZNAME:PST
DTSTART:20271107T090000
END:STANDARD
END:VTIMEZONE
BEGIN:VEVENT
DTSTART;TZID=America/Los_Angeles:20260716T193000
DTEND;TZID=America/Los_Angeles:20260716T210000
DTSTAMP:20260423T140804
CREATED:20250116T225203Z
LAST-MODIFIED:20250116T225205Z
UID:10001786-1784230200-1784235600@aikido-contracosta.com
SUMMARY:Regular Class
DESCRIPTION:
URL:https://aikido-contracosta.com/events/regular-class-327-2/2026-07-16/
LOCATION:Wah Dojo
END:VEVENT
BEGIN:VEVENT
DTSTART;TZID=America/Los_Angeles:20260721T193000
DTEND;TZID=America/Los_Angeles:20260721T210000
DTSTAMP:20260423T140804
CREATED:20250116T225203Z
LAST-MODIFIED:20250116T225205Z
UID:10001787-1784662200-1784667600@aikido-contracosta.com
SUMMARY:Regular Class
DESCRIPTION:
URL:https://aikido-contracosta.com/events/regular-class-327-2/2026-07-21/
LOCATION:Wah Dojo
END:VEVENT
BEGIN:VEVENT
DTSTART;TZID=America/Los_Angeles:20260723T193000
DTEND;TZID=America/Los_Angeles:20260723T210000
DTSTAMP:20260423T140804
CREATED:20250116T225203Z
LAST-MODIFIED:20250116T225205Z
UID:10001788-1784835000-1784840400@aikido-contracosta.com
SUMMARY:Regular Class
DESCRIPTION:
URL:https://aikido-contracosta.com/events/regular-class-327-2/2026-07-23/
LOCATION:Wah Dojo
END:VEVENT
BEGIN:VEVENT
DTSTART;TZID=America/Los_Angeles:20260728T193000
DTEND;TZID=America/Los_Angeles:20260728T210000
DTSTAMP:20260423T140804
CREATED:20250116T225203Z
LAST-MODIFIED:20250116T225205Z
UID:10001789-1785267000-1785272400@aikido-contracosta.com
SUMMARY:Regular Class
DESCRIPTION:
URL:https://aikido-contracosta.com/events/regular-class-327-2/2026-07-28/
LOCATION:Wah Dojo
END:VEVENT
BEGIN:VEVENT
DTSTART;TZID=America/Los_Angeles:20260730T193000
DTEND;TZID=America/Los_Angeles:20260730T210000
DTSTAMP:20260423T140804
CREATED:20250116T225203Z
LAST-MODIFIED:20250116T225205Z
UID:10001790-1785439800-1785445200@aikido-contracosta.com
SUMMARY:Regular Class
DESCRIPTION:
URL:https://aikido-contracosta.com/events/regular-class-327-2/2026-07-30/
LOCATION:Wah Dojo
END:VEVENT
BEGIN:VEVENT
DTSTART;TZID=America/Los_Angeles:20260804T193000
DTEND;TZID=America/Los_Angeles:20260804T210000
DTSTAMP:20260423T140804
CREATED:20250116T225203Z
LAST-MODIFIED:20250116T225205Z
UID:10001791-1785871800-1785877200@aikido-contracosta.com
SUMMARY:Regular Class
DESCRIPTION:
URL:https://aikido-contracosta.com/events/regular-class-327-2/2026-08-04/
LOCATION:Wah Dojo
END:VEVENT
BEGIN:VEVENT
DTSTART;TZID=America/Los_Angeles:20260806T193000
DTEND;TZID=America/Los_Angeles:20260806T210000
DTSTAMP:20260423T140804
CREATED:20250116T225203Z
LAST-MODIFIED:20250116T225205Z
UID:10001792-1786044600-1786050000@aikido-contracosta.com
SUMMARY:Regular Class
DESCRIPTION:
URL:https://aikido-contracosta.com/events/regular-class-327-2/2026-08-06/
LOCATION:Wah Dojo
END:VEVENT
BEGIN:VEVENT
DTSTART;TZID=America/Los_Angeles:20260811T193000
DTEND;TZID=America/Los_Angeles:20260811T210000
DTSTAMP:20260423T140804
CREATED:20250116T225203Z
LAST-MODIFIED:20250116T225205Z
UID:10001793-1786476600-1786482000@aikido-contracosta.com
SUMMARY:Regular Class
DESCRIPTION:
URL:https://aikido-contracosta.com/events/regular-class-327-2/2026-08-11/
LOCATION:Wah Dojo
END:VEVENT
BEGIN:VEVENT
DTSTART;TZID=America/Los_Angeles:20260813T193000
DTEND;TZID=America/Los_Angeles:20260813T210000
DTSTAMP:20260423T140804
CREATED:20250116T225203Z
LAST-MODIFIED:20250116T225205Z
UID:10001794-1786649400-1786654800@aikido-contracosta.com
SUMMARY:Regular Class
DESCRIPTION:
URL:https://aikido-contracosta.com/events/regular-class-327-2/2026-08-13/
LOCATION:Wah Dojo
END:VEVENT
BEGIN:VEVENT
DTSTART;TZID=America/Los_Angeles:20260818T193000
DTEND;TZID=America/Los_Angeles:20260818T210000
DTSTAMP:20260423T140804
CREATED:20250116T225203Z
LAST-MODIFIED:20250116T225205Z
UID:10001795-1787081400-1787086800@aikido-contracosta.com
SUMMARY:Regular Class
DESCRIPTION:
URL:https://aikido-contracosta.com/events/regular-class-327-2/2026-08-18/
LOCATION:Wah Dojo
END:VEVENT
BEGIN:VEVENT
DTSTART;TZID=America/Los_Angeles:20260820T193000
DTEND;TZID=America/Los_Angeles:20260820T210000
DTSTAMP:20260423T140804
CREATED:20250116T225203Z
LAST-MODIFIED:20250116T225205Z
UID:10001796-1787254200-1787259600@aikido-contracosta.com
SUMMARY:Regular Class
DESCRIPTION:
URL:https://aikido-contracosta.com/events/regular-class-327-2/2026-08-20/
LOCATION:Wah Dojo
END:VEVENT
BEGIN:VEVENT
DTSTART;TZID=America/Los_Angeles:20260825T193000
DTEND;TZID=America/Los_Angeles:20260825T210000
DTSTAMP:20260423T140804
CREATED:20250116T225203Z
LAST-MODIFIED:20250116T225205Z
UID:10001797-1787686200-1787691600@aikido-contracosta.com
SUMMARY:Regular Class
DESCRIPTION:
URL:https://aikido-contracosta.com/events/regular-class-327-2/2026-08-25/
LOCATION:Wah Dojo
END:VEVENT
BEGIN:VEVENT
DTSTART;TZID=America/Los_Angeles:20260827T193000
DTEND;TZID=America/Los_Angeles:20260827T210000
DTSTAMP:20260423T140804
CREATED:20250116T225203Z
LAST-MODIFIED:20250116T225205Z
UID:10001798-1787859000-1787864400@aikido-contracosta.com
SUMMARY:Regular Class
DESCRIPTION:
URL:https://aikido-contracosta.com/events/regular-class-327-2/2026-08-27/
LOCATION:Wah Dojo
END:VEVENT
BEGIN:VEVENT
DTSTART;TZID=America/Los_Angeles:20260901T193000
DTEND;TZID=America/Los_Angeles:20260901T210000
DTSTAMP:20260423T140804
CREATED:20250116T225203Z
LAST-MODIFIED:20250116T225205Z
UID:10001799-1788291000-1788296400@aikido-contracosta.com
SUMMARY:Regular Class
DESCRIPTION:
URL:https://aikido-contracosta.com/events/regular-class-327-2/2026-09-01/
LOCATION:Wah Dojo
END:VEVENT
BEGIN:VEVENT
DTSTART;TZID=America/Los_Angeles:20260903T193000
DTEND;TZID=America/Los_Angeles:20260903T210000
DTSTAMP:20260423T140804
CREATED:20250116T225203Z
LAST-MODIFIED:20250116T225205Z
UID:10001800-1788463800-1788469200@aikido-contracosta.com
SUMMARY:Regular Class
DESCRIPTION:
URL:https://aikido-contracosta.com/events/regular-class-327-2/2026-09-03/
LOCATION:Wah Dojo
END:VEVENT
BEGIN:VEVENT
DTSTART;TZID=America/Los_Angeles:20260908T193000
DTEND;TZID=America/Los_Angeles:20260908T210000
DTSTAMP:20260423T140804
CREATED:20250116T225203Z
LAST-MODIFIED:20250116T225205Z
UID:10001801-1788895800-1788901200@aikido-contracosta.com
SUMMARY:Regular Class
DESCRIPTION:
URL:https://aikido-contracosta.com/events/regular-class-327-2/2026-09-08/
LOCATION:Wah Dojo
END:VEVENT
BEGIN:VEVENT
DTSTART;TZID=America/Los_Angeles:20260910T193000
DTEND;TZID=America/Los_Angeles:20260910T210000
DTSTAMP:20260423T140804
CREATED:20250116T225203Z
LAST-MODIFIED:20250116T225205Z
UID:10001802-1789068600-1789074000@aikido-contracosta.com
SUMMARY:Regular Class
DESCRIPTION:
URL:https://aikido-contracosta.com/events/regular-class-327-2/2026-09-10/
LOCATION:Wah Dojo
END:VEVENT
BEGIN:VEVENT
DTSTART;TZID=America/Los_Angeles:20260915T193000
DTEND;TZID=America/Los_Angeles:20260915T210000
DTSTAMP:20260423T140804
CREATED:20250116T225203Z
LAST-MODIFIED:20250116T225205Z
UID:10001803-1789500600-1789506000@aikido-contracosta.com
SUMMARY:Regular Class
DESCRIPTION:
URL:https://aikido-contracosta.com/events/regular-class-327-2/2026-09-15/
LOCATION:Wah Dojo
END:VEVENT
BEGIN:VEVENT
DTSTART;TZID=America/Los_Angeles:20260917T193000
DTEND;TZID=America/Los_Angeles:20260917T210000
DTSTAMP:20260423T140804
CREATED:20250116T225203Z
LAST-MODIFIED:20250116T225205Z
UID:10001804-1789673400-1789678800@aikido-contracosta.com
SUMMARY:Regular Class
DESCRIPTION:
URL:https://aikido-contracosta.com/events/regular-class-327-2/2026-09-17/
LOCATION:Wah Dojo
END:VEVENT
BEGIN:VEVENT
DTSTART;TZID=America/Los_Angeles:20260922T193000
DTEND;TZID=America/Los_Angeles:20260922T210000
DTSTAMP:20260423T140804
CREATED:20250116T225203Z
LAST-MODIFIED:20250116T225205Z
UID:10001805-1790105400-1790110800@aikido-contracosta.com
SUMMARY:Regular Class
DESCRIPTION:
URL:https://aikido-contracosta.com/events/regular-class-327-2/2026-09-22/
LOCATION:Wah Dojo
END:VEVENT
BEGIN:VEVENT
DTSTART;TZID=America/Los_Angeles:20260924T193000
DTEND;TZID=America/Los_Angeles:20260924T210000
DTSTAMP:20260423T140804
CREATED:20250116T225203Z
LAST-MODIFIED:20250116T225205Z
UID:10001806-1790278200-1790283600@aikido-contracosta.com
SUMMARY:Regular Class
DESCRIPTION:
URL:https://aikido-contracosta.com/events/regular-class-327-2/2026-09-24/
LOCATION:Wah Dojo
END:VEVENT
BEGIN:VEVENT
DTSTART;TZID=America/Los_Angeles:20260929T193000
DTEND;TZID=America/Los_Angeles:20260929T210000
DTSTAMP:20260423T140804
CREATED:20250116T225203Z
LAST-MODIFIED:20250116T225205Z
UID:10001807-1790710200-1790715600@aikido-contracosta.com
SUMMARY:Regular Class
DESCRIPTION:
URL:https://aikido-contracosta.com/events/regular-class-327-2/2026-09-29/
LOCATION:Wah Dojo
END:VEVENT
BEGIN:VEVENT
DTSTART;TZID=America/Los_Angeles:20261001T193000
DTEND;TZID=America/Los_Angeles:20261001T210000
DTSTAMP:20260423T140804
CREATED:20250116T225203Z
LAST-MODIFIED:20250116T225205Z
UID:10001808-1790883000-1790888400@aikido-contracosta.com
SUMMARY:Regular Class
DESCRIPTION:
URL:https://aikido-contracosta.com/events/regular-class-327-2/2026-10-01/
LOCATION:Wah Dojo
END:VEVENT
BEGIN:VEVENT
DTSTART;TZID=America/Los_Angeles:20261006T193000
DTEND;TZID=America/Los_Angeles:20261006T210000
DTSTAMP:20260423T140804
CREATED:20250116T225203Z
LAST-MODIFIED:20250116T225205Z
UID:10001809-1791315000-1791320400@aikido-contracosta.com
SUMMARY:Regular Class
DESCRIPTION:
URL:https://aikido-contracosta.com/events/regular-class-327-2/2026-10-06/
LOCATION:Wah Dojo
END:VEVENT
BEGIN:VEVENT
DTSTART;TZID=America/Los_Angeles:20261008T193000
DTEND;TZID=America/Los_Angeles:20261008T210000
DTSTAMP:20260423T140804
CREATED:20250116T225203Z
LAST-MODIFIED:20250116T225205Z
UID:10001810-1791487800-1791493200@aikido-contracosta.com
SUMMARY:Regular Class
DESCRIPTION:
URL:https://aikido-contracosta.com/events/regular-class-327-2/2026-10-08/
LOCATION:Wah Dojo
END:VEVENT
BEGIN:VEVENT
DTSTART;TZID=America/Los_Angeles:20261013T193000
DTEND;TZID=America/Los_Angeles:20261013T210000
DTSTAMP:20260423T140804
CREATED:20250116T225203Z
LAST-MODIFIED:20250116T225205Z
UID:10001811-1791919800-1791925200@aikido-contracosta.com
SUMMARY:Regular Class
DESCRIPTION:
URL:https://aikido-contracosta.com/events/regular-class-327-2/2026-10-13/
LOCATION:Wah Dojo
END:VEVENT
BEGIN:VEVENT
DTSTART;TZID=America/Los_Angeles:20261015T193000
DTEND;TZID=America/Los_Angeles:20261015T210000
DTSTAMP:20260423T140804
CREATED:20250116T225203Z
LAST-MODIFIED:20250116T225205Z
UID:10001812-1792092600-1792098000@aikido-contracosta.com
SUMMARY:Regular Class
DESCRIPTION:
URL:https://aikido-contracosta.com/events/regular-class-327-2/2026-10-15/
LOCATION:Wah Dojo
END:VEVENT
BEGIN:VEVENT
DTSTART;TZID=America/Los_Angeles:20261020T193000
DTEND;TZID=America/Los_Angeles:20261020T210000
DTSTAMP:20260423T140804
CREATED:20250116T225203Z
LAST-MODIFIED:20250116T225205Z
UID:10001813-1792524600-1792530000@aikido-contracosta.com
SUMMARY:Regular Class
DESCRIPTION:
URL:https://aikido-contracosta.com/events/regular-class-327-2/2026-10-20/
LOCATION:Wah Dojo
END:VEVENT
BEGIN:VEVENT
DTSTART;TZID=America/Los_Angeles:20261022T193000
DTEND;TZID=America/Los_Angeles:20261022T210000
DTSTAMP:20260423T140804
CREATED:20250116T225203Z
LAST-MODIFIED:20250116T225205Z
UID:10001814-1792697400-1792702800@aikido-contracosta.com
SUMMARY:Regular Class
DESCRIPTION:
URL:https://aikido-contracosta.com/events/regular-class-327-2/2026-10-22/
LOCATION:Wah Dojo
END:VEVENT
BEGIN:VEVENT
DTSTART;TZID=America/Los_Angeles:20261027T193000
DTEND;TZID=America/Los_Angeles:20261027T210000
DTSTAMP:20260423T140804
CREATED:20250116T225203Z
LAST-MODIFIED:20250116T225205Z
UID:10001815-1793129400-1793134800@aikido-contracosta.com
SUMMARY:Regular Class
DESCRIPTION:
URL:https://aikido-contracosta.com/events/regular-class-327-2/2026-10-27/
LOCATION:Wah Dojo
END:VEVENT
END:VCALENDAR