BEGIN:VCALENDAR
VERSION:2.0
PRODID:-//AikidoContraCosta.com - ECPv6.15.20//NONSGML v1.0//EN
CALSCALE:GREGORIAN
METHOD:PUBLISH
X-ORIGINAL-URL:https://aikido-contracosta.com
X-WR-CALDESC:Events for AikidoContraCosta.com
REFRESH-INTERVAL;VALUE=DURATION:PT1H
X-Robots-Tag:noindex
X-PUBLISHED-TTL:PT1H
BEGIN:VTIMEZONE
TZID:America/Los_Angeles
BEGIN:DAYLIGHT
TZOFFSETFROM:-0800
TZOFFSETTO:-0700
TZNAME:PDT
DTSTART:20280312T100000
END:DAYLIGHT
BEGIN:STANDARD
TZOFFSETFROM:-0700
TZOFFSETTO:-0800
TZNAME:PST
DTSTART:20281105T090000
END:STANDARD
BEGIN:DAYLIGHT
TZOFFSETFROM:-0800
TZOFFSETTO:-0700
TZNAME:PDT
DTSTART:20290311T100000
END:DAYLIGHT
BEGIN:STANDARD
TZOFFSETFROM:-0700
TZOFFSETTO:-0800
TZNAME:PST
DTSTART:20291104T090000
END:STANDARD
BEGIN:DAYLIGHT
TZOFFSETFROM:-0800
TZOFFSETTO:-0700
TZNAME:PDT
DTSTART:20300310T100000
END:DAYLIGHT
BEGIN:STANDARD
TZOFFSETFROM:-0700
TZOFFSETTO:-0800
TZNAME:PST
DTSTART:20301103T090000
END:STANDARD
END:VTIMEZONE
BEGIN:VEVENT
DTSTART;TZID=America/Los_Angeles:20290605T193000
DTEND;TZID=America/Los_Angeles:20290605T210000
DTSTAMP:20260425T054938
CREATED:20250116T225203Z
LAST-MODIFIED:20250116T225205Z
UID:10002087-1875382200-1875387600@aikido-contracosta.com
SUMMARY:Regular Class
DESCRIPTION:
URL:https://aikido-contracosta.com/events/regular-class-327-2/2029-06-05/
LOCATION:Wah Dojo
END:VEVENT
BEGIN:VEVENT
DTSTART;TZID=America/Los_Angeles:20290607T193000
DTEND;TZID=America/Los_Angeles:20290607T210000
DTSTAMP:20260425T054938
CREATED:20250116T225203Z
LAST-MODIFIED:20250116T225205Z
UID:10002088-1875555000-1875560400@aikido-contracosta.com
SUMMARY:Regular Class
DESCRIPTION:
URL:https://aikido-contracosta.com/events/regular-class-327-2/2029-06-07/
LOCATION:Wah Dojo
END:VEVENT
BEGIN:VEVENT
DTSTART;TZID=America/Los_Angeles:20290612T193000
DTEND;TZID=America/Los_Angeles:20290612T210000
DTSTAMP:20260425T054938
CREATED:20250116T225203Z
LAST-MODIFIED:20250116T225205Z
UID:10002089-1875987000-1875992400@aikido-contracosta.com
SUMMARY:Regular Class
DESCRIPTION:
URL:https://aikido-contracosta.com/events/regular-class-327-2/2029-06-12/
LOCATION:Wah Dojo
END:VEVENT
BEGIN:VEVENT
DTSTART;TZID=America/Los_Angeles:20290614T193000
DTEND;TZID=America/Los_Angeles:20290614T210000
DTSTAMP:20260425T054938
CREATED:20250116T225203Z
LAST-MODIFIED:20250116T225205Z
UID:10002090-1876159800-1876165200@aikido-contracosta.com
SUMMARY:Regular Class
DESCRIPTION:
URL:https://aikido-contracosta.com/events/regular-class-327-2/2029-06-14/
LOCATION:Wah Dojo
END:VEVENT
BEGIN:VEVENT
DTSTART;TZID=America/Los_Angeles:20290619T193000
DTEND;TZID=America/Los_Angeles:20290619T210000
DTSTAMP:20260425T054938
CREATED:20250116T225203Z
LAST-MODIFIED:20250116T225205Z
UID:10002091-1876591800-1876597200@aikido-contracosta.com
SUMMARY:Regular Class
DESCRIPTION:
URL:https://aikido-contracosta.com/events/regular-class-327-2/2029-06-19/
LOCATION:Wah Dojo
END:VEVENT
BEGIN:VEVENT
DTSTART;TZID=America/Los_Angeles:20290621T193000
DTEND;TZID=America/Los_Angeles:20290621T210000
DTSTAMP:20260425T054938
CREATED:20250116T225203Z
LAST-MODIFIED:20250116T225205Z
UID:10002092-1876764600-1876770000@aikido-contracosta.com
SUMMARY:Regular Class
DESCRIPTION:
URL:https://aikido-contracosta.com/events/regular-class-327-2/2029-06-21/
LOCATION:Wah Dojo
END:VEVENT
BEGIN:VEVENT
DTSTART;TZID=America/Los_Angeles:20290626T193000
DTEND;TZID=America/Los_Angeles:20290626T210000
DTSTAMP:20260425T054938
CREATED:20250116T225203Z
LAST-MODIFIED:20250116T225205Z
UID:10002093-1877196600-1877202000@aikido-contracosta.com
SUMMARY:Regular Class
DESCRIPTION:
URL:https://aikido-contracosta.com/events/regular-class-327-2/2029-06-26/
LOCATION:Wah Dojo
END:VEVENT
BEGIN:VEVENT
DTSTART;TZID=America/Los_Angeles:20290628T193000
DTEND;TZID=America/Los_Angeles:20290628T210000
DTSTAMP:20260425T054938
CREATED:20250116T225203Z
LAST-MODIFIED:20250116T225205Z
UID:10002094-1877369400-1877374800@aikido-contracosta.com
SUMMARY:Regular Class
DESCRIPTION:
URL:https://aikido-contracosta.com/events/regular-class-327-2/2029-06-28/
LOCATION:Wah Dojo
END:VEVENT
BEGIN:VEVENT
DTSTART;TZID=America/Los_Angeles:20290703T193000
DTEND;TZID=America/Los_Angeles:20290703T210000
DTSTAMP:20260425T054938
CREATED:20250116T225203Z
LAST-MODIFIED:20250116T225205Z
UID:10002095-1877801400-1877806800@aikido-contracosta.com
SUMMARY:Regular Class
DESCRIPTION:
URL:https://aikido-contracosta.com/events/regular-class-327-2/2029-07-03/
LOCATION:Wah Dojo
END:VEVENT
BEGIN:VEVENT
DTSTART;TZID=America/Los_Angeles:20290705T193000
DTEND;TZID=America/Los_Angeles:20290705T210000
DTSTAMP:20260425T054938
CREATED:20250116T225203Z
LAST-MODIFIED:20250116T225205Z
UID:10002096-1877974200-1877979600@aikido-contracosta.com
SUMMARY:Regular Class
DESCRIPTION:
URL:https://aikido-contracosta.com/events/regular-class-327-2/2029-07-05/
LOCATION:Wah Dojo
END:VEVENT
BEGIN:VEVENT
DTSTART;TZID=America/Los_Angeles:20290710T193000
DTEND;TZID=America/Los_Angeles:20290710T210000
DTSTAMP:20260425T054938
CREATED:20250116T225203Z
LAST-MODIFIED:20250116T225205Z
UID:10002097-1878406200-1878411600@aikido-contracosta.com
SUMMARY:Regular Class
DESCRIPTION:
URL:https://aikido-contracosta.com/events/regular-class-327-2/2029-07-10/
LOCATION:Wah Dojo
END:VEVENT
BEGIN:VEVENT
DTSTART;TZID=America/Los_Angeles:20290712T193000
DTEND;TZID=America/Los_Angeles:20290712T210000
DTSTAMP:20260425T054938
CREATED:20250116T225203Z
LAST-MODIFIED:20250116T225205Z
UID:10002098-1878579000-1878584400@aikido-contracosta.com
SUMMARY:Regular Class
DESCRIPTION:
URL:https://aikido-contracosta.com/events/regular-class-327-2/2029-07-12/
LOCATION:Wah Dojo
END:VEVENT
BEGIN:VEVENT
DTSTART;TZID=America/Los_Angeles:20290717T193000
DTEND;TZID=America/Los_Angeles:20290717T210000
DTSTAMP:20260425T054938
CREATED:20250116T225203Z
LAST-MODIFIED:20250116T225205Z
UID:10002099-1879011000-1879016400@aikido-contracosta.com
SUMMARY:Regular Class
DESCRIPTION:
URL:https://aikido-contracosta.com/events/regular-class-327-2/2029-07-17/
LOCATION:Wah Dojo
END:VEVENT
BEGIN:VEVENT
DTSTART;TZID=America/Los_Angeles:20290719T193000
DTEND;TZID=America/Los_Angeles:20290719T210000
DTSTAMP:20260425T054938
CREATED:20250116T225203Z
LAST-MODIFIED:20250116T225205Z
UID:10002100-1879183800-1879189200@aikido-contracosta.com
SUMMARY:Regular Class
DESCRIPTION:
URL:https://aikido-contracosta.com/events/regular-class-327-2/2029-07-19/
LOCATION:Wah Dojo
END:VEVENT
BEGIN:VEVENT
DTSTART;TZID=America/Los_Angeles:20290724T193000
DTEND;TZID=America/Los_Angeles:20290724T210000
DTSTAMP:20260425T054938
CREATED:20250116T225203Z
LAST-MODIFIED:20250116T225205Z
UID:10002101-1879615800-1879621200@aikido-contracosta.com
SUMMARY:Regular Class
DESCRIPTION:
URL:https://aikido-contracosta.com/events/regular-class-327-2/2029-07-24/
LOCATION:Wah Dojo
END:VEVENT
BEGIN:VEVENT
DTSTART;TZID=America/Los_Angeles:20290726T193000
DTEND;TZID=America/Los_Angeles:20290726T210000
DTSTAMP:20260425T054938
CREATED:20250116T225203Z
LAST-MODIFIED:20250116T225205Z
UID:10002102-1879788600-1879794000@aikido-contracosta.com
SUMMARY:Regular Class
DESCRIPTION:
URL:https://aikido-contracosta.com/events/regular-class-327-2/2029-07-26/
LOCATION:Wah Dojo
END:VEVENT
BEGIN:VEVENT
DTSTART;TZID=America/Los_Angeles:20290731T193000
DTEND;TZID=America/Los_Angeles:20290731T210000
DTSTAMP:20260425T054938
CREATED:20250116T225203Z
LAST-MODIFIED:20250116T225205Z
UID:10002103-1880220600-1880226000@aikido-contracosta.com
SUMMARY:Regular Class
DESCRIPTION:
URL:https://aikido-contracosta.com/events/regular-class-327-2/2029-07-31/
LOCATION:Wah Dojo
END:VEVENT
BEGIN:VEVENT
DTSTART;TZID=America/Los_Angeles:20290802T193000
DTEND;TZID=America/Los_Angeles:20290802T210000
DTSTAMP:20260425T054938
CREATED:20250116T225203Z
LAST-MODIFIED:20250116T225205Z
UID:10002104-1880393400-1880398800@aikido-contracosta.com
SUMMARY:Regular Class
DESCRIPTION:
URL:https://aikido-contracosta.com/events/regular-class-327-2/2029-08-02/
LOCATION:Wah Dojo
END:VEVENT
BEGIN:VEVENT
DTSTART;TZID=America/Los_Angeles:20290807T193000
DTEND;TZID=America/Los_Angeles:20290807T210000
DTSTAMP:20260425T054938
CREATED:20250116T225203Z
LAST-MODIFIED:20250116T225205Z
UID:10002105-1880825400-1880830800@aikido-contracosta.com
SUMMARY:Regular Class
DESCRIPTION:
URL:https://aikido-contracosta.com/events/regular-class-327-2/2029-08-07/
LOCATION:Wah Dojo
END:VEVENT
BEGIN:VEVENT
DTSTART;TZID=America/Los_Angeles:20290809T193000
DTEND;TZID=America/Los_Angeles:20290809T210000
DTSTAMP:20260425T054938
CREATED:20250116T225203Z
LAST-MODIFIED:20250116T225205Z
UID:10002106-1880998200-1881003600@aikido-contracosta.com
SUMMARY:Regular Class
DESCRIPTION:
URL:https://aikido-contracosta.com/events/regular-class-327-2/2029-08-09/
LOCATION:Wah Dojo
END:VEVENT
BEGIN:VEVENT
DTSTART;TZID=America/Los_Angeles:20290814T193000
DTEND;TZID=America/Los_Angeles:20290814T210000
DTSTAMP:20260425T054938
CREATED:20250116T225203Z
LAST-MODIFIED:20250116T225205Z
UID:10002107-1881430200-1881435600@aikido-contracosta.com
SUMMARY:Regular Class
DESCRIPTION:
URL:https://aikido-contracosta.com/events/regular-class-327-2/2029-08-14/
LOCATION:Wah Dojo
END:VEVENT
BEGIN:VEVENT
DTSTART;TZID=America/Los_Angeles:20290816T193000
DTEND;TZID=America/Los_Angeles:20290816T210000
DTSTAMP:20260425T054938
CREATED:20250116T225203Z
LAST-MODIFIED:20250116T225205Z
UID:10002108-1881603000-1881608400@aikido-contracosta.com
SUMMARY:Regular Class
DESCRIPTION:
URL:https://aikido-contracosta.com/events/regular-class-327-2/2029-08-16/
LOCATION:Wah Dojo
END:VEVENT
BEGIN:VEVENT
DTSTART;TZID=America/Los_Angeles:20290821T193000
DTEND;TZID=America/Los_Angeles:20290821T210000
DTSTAMP:20260425T054938
CREATED:20250116T225203Z
LAST-MODIFIED:20250116T225205Z
UID:10002109-1882035000-1882040400@aikido-contracosta.com
SUMMARY:Regular Class
DESCRIPTION:
URL:https://aikido-contracosta.com/events/regular-class-327-2/2029-08-21/
LOCATION:Wah Dojo
END:VEVENT
BEGIN:VEVENT
DTSTART;TZID=America/Los_Angeles:20290823T193000
DTEND;TZID=America/Los_Angeles:20290823T210000
DTSTAMP:20260425T054938
CREATED:20250116T225203Z
LAST-MODIFIED:20250116T225205Z
UID:10002110-1882207800-1882213200@aikido-contracosta.com
SUMMARY:Regular Class
DESCRIPTION:
URL:https://aikido-contracosta.com/events/regular-class-327-2/2029-08-23/
LOCATION:Wah Dojo
END:VEVENT
BEGIN:VEVENT
DTSTART;TZID=America/Los_Angeles:20290828T193000
DTEND;TZID=America/Los_Angeles:20290828T210000
DTSTAMP:20260425T054938
CREATED:20250116T225203Z
LAST-MODIFIED:20250116T225205Z
UID:10002111-1882639800-1882645200@aikido-contracosta.com
SUMMARY:Regular Class
DESCRIPTION:
URL:https://aikido-contracosta.com/events/regular-class-327-2/2029-08-28/
LOCATION:Wah Dojo
END:VEVENT
BEGIN:VEVENT
DTSTART;TZID=America/Los_Angeles:20290830T193000
DTEND;TZID=America/Los_Angeles:20290830T210000
DTSTAMP:20260425T054938
CREATED:20250116T225203Z
LAST-MODIFIED:20250116T225205Z
UID:10002112-1882812600-1882818000@aikido-contracosta.com
SUMMARY:Regular Class
DESCRIPTION:
URL:https://aikido-contracosta.com/events/regular-class-327-2/2029-08-30/
LOCATION:Wah Dojo
END:VEVENT
BEGIN:VEVENT
DTSTART;TZID=America/Los_Angeles:20290904T193000
DTEND;TZID=America/Los_Angeles:20290904T210000
DTSTAMP:20260425T054938
CREATED:20250116T225203Z
LAST-MODIFIED:20250116T225205Z
UID:10002113-1883244600-1883250000@aikido-contracosta.com
SUMMARY:Regular Class
DESCRIPTION:
URL:https://aikido-contracosta.com/events/regular-class-327-2/2029-09-04/
LOCATION:Wah Dojo
END:VEVENT
BEGIN:VEVENT
DTSTART;TZID=America/Los_Angeles:20290906T193000
DTEND;TZID=America/Los_Angeles:20290906T210000
DTSTAMP:20260425T054938
CREATED:20250116T225203Z
LAST-MODIFIED:20250116T225205Z
UID:10002114-1883417400-1883422800@aikido-contracosta.com
SUMMARY:Regular Class
DESCRIPTION:
URL:https://aikido-contracosta.com/events/regular-class-327-2/2029-09-06/
LOCATION:Wah Dojo
END:VEVENT
BEGIN:VEVENT
DTSTART;TZID=America/Los_Angeles:20290911T193000
DTEND;TZID=America/Los_Angeles:20290911T210000
DTSTAMP:20260425T054938
CREATED:20250116T225203Z
LAST-MODIFIED:20250116T225205Z
UID:10002115-1883849400-1883854800@aikido-contracosta.com
SUMMARY:Regular Class
DESCRIPTION:
URL:https://aikido-contracosta.com/events/regular-class-327-2/2029-09-11/
LOCATION:Wah Dojo
END:VEVENT
BEGIN:VEVENT
DTSTART;TZID=America/Los_Angeles:20290913T193000
DTEND;TZID=America/Los_Angeles:20290913T210000
DTSTAMP:20260425T054938
CREATED:20250116T225203Z
LAST-MODIFIED:20250116T225205Z
UID:10002116-1884022200-1884027600@aikido-contracosta.com
SUMMARY:Regular Class
DESCRIPTION:
URL:https://aikido-contracosta.com/events/regular-class-327-2/2029-09-13/
LOCATION:Wah Dojo
END:VEVENT
END:VCALENDAR