BEGIN:VCALENDAR
VERSION:2.0
PRODID:-//AikidoContraCosta.com - ECPv6.15.20//NONSGML v1.0//EN
CALSCALE:GREGORIAN
METHOD:PUBLISH
X-WR-CALNAME:AikidoContraCosta.com
X-ORIGINAL-URL:https://aikido-contracosta.com
X-WR-CALDESC:Events for AikidoContraCosta.com
REFRESH-INTERVAL;VALUE=DURATION:PT1H
X-Robots-Tag:noindex
X-PUBLISHED-TTL:PT1H
BEGIN:VTIMEZONE
TZID:America/Los_Angeles
BEGIN:DAYLIGHT
TZOFFSETFROM:-0800
TZOFFSETTO:-0700
TZNAME:PDT
DTSTART:20270314T100000
END:DAYLIGHT
BEGIN:STANDARD
TZOFFSETFROM:-0700
TZOFFSETTO:-0800
TZNAME:PST
DTSTART:20271107T090000
END:STANDARD
BEGIN:DAYLIGHT
TZOFFSETFROM:-0800
TZOFFSETTO:-0700
TZNAME:PDT
DTSTART:20280312T100000
END:DAYLIGHT
BEGIN:STANDARD
TZOFFSETFROM:-0700
TZOFFSETTO:-0800
TZNAME:PST
DTSTART:20281105T090000
END:STANDARD
BEGIN:DAYLIGHT
TZOFFSETFROM:-0800
TZOFFSETTO:-0700
TZNAME:PDT
DTSTART:20290311T100000
END:DAYLIGHT
BEGIN:STANDARD
TZOFFSETFROM:-0700
TZOFFSETTO:-0800
TZNAME:PST
DTSTART:20291104T090000
END:STANDARD
END:VTIMEZONE
BEGIN:VEVENT
DTSTART;TZID=America/Los_Angeles:20280704T193000
DTEND;TZID=America/Los_Angeles:20280704T210000
DTSTAMP:20260424T163620
CREATED:20250116T225203Z
LAST-MODIFIED:20250116T225205Z
UID:10001991-1846351800-1846357200@aikido-contracosta.com
SUMMARY:Regular Class
DESCRIPTION:
URL:https://aikido-contracosta.com/events/regular-class-327-2/2028-07-04/
LOCATION:Wah Dojo
END:VEVENT
BEGIN:VEVENT
DTSTART;TZID=America/Los_Angeles:20280706T193000
DTEND;TZID=America/Los_Angeles:20280706T210000
DTSTAMP:20260424T163620
CREATED:20250116T225203Z
LAST-MODIFIED:20250116T225205Z
UID:10001992-1846524600-1846530000@aikido-contracosta.com
SUMMARY:Regular Class
DESCRIPTION:
URL:https://aikido-contracosta.com/events/regular-class-327-2/2028-07-06/
LOCATION:Wah Dojo
END:VEVENT
BEGIN:VEVENT
DTSTART;TZID=America/Los_Angeles:20280711T193000
DTEND;TZID=America/Los_Angeles:20280711T210000
DTSTAMP:20260424T163620
CREATED:20250116T225203Z
LAST-MODIFIED:20250116T225205Z
UID:10001993-1846956600-1846962000@aikido-contracosta.com
SUMMARY:Regular Class
DESCRIPTION:
URL:https://aikido-contracosta.com/events/regular-class-327-2/2028-07-11/
LOCATION:Wah Dojo
END:VEVENT
BEGIN:VEVENT
DTSTART;TZID=America/Los_Angeles:20280713T193000
DTEND;TZID=America/Los_Angeles:20280713T210000
DTSTAMP:20260424T163620
CREATED:20250116T225203Z
LAST-MODIFIED:20250116T225205Z
UID:10001994-1847129400-1847134800@aikido-contracosta.com
SUMMARY:Regular Class
DESCRIPTION:
URL:https://aikido-contracosta.com/events/regular-class-327-2/2028-07-13/
LOCATION:Wah Dojo
END:VEVENT
BEGIN:VEVENT
DTSTART;TZID=America/Los_Angeles:20280718T193000
DTEND;TZID=America/Los_Angeles:20280718T210000
DTSTAMP:20260424T163620
CREATED:20250116T225203Z
LAST-MODIFIED:20250116T225205Z
UID:10001995-1847561400-1847566800@aikido-contracosta.com
SUMMARY:Regular Class
DESCRIPTION:
URL:https://aikido-contracosta.com/events/regular-class-327-2/2028-07-18/
LOCATION:Wah Dojo
END:VEVENT
BEGIN:VEVENT
DTSTART;TZID=America/Los_Angeles:20280720T193000
DTEND;TZID=America/Los_Angeles:20280720T210000
DTSTAMP:20260424T163620
CREATED:20250116T225203Z
LAST-MODIFIED:20250116T225205Z
UID:10001996-1847734200-1847739600@aikido-contracosta.com
SUMMARY:Regular Class
DESCRIPTION:
URL:https://aikido-contracosta.com/events/regular-class-327-2/2028-07-20/
LOCATION:Wah Dojo
END:VEVENT
BEGIN:VEVENT
DTSTART;TZID=America/Los_Angeles:20280725T193000
DTEND;TZID=America/Los_Angeles:20280725T210000
DTSTAMP:20260424T163620
CREATED:20250116T225203Z
LAST-MODIFIED:20250116T225205Z
UID:10001997-1848166200-1848171600@aikido-contracosta.com
SUMMARY:Regular Class
DESCRIPTION:
URL:https://aikido-contracosta.com/events/regular-class-327-2/2028-07-25/
LOCATION:Wah Dojo
END:VEVENT
BEGIN:VEVENT
DTSTART;TZID=America/Los_Angeles:20280727T193000
DTEND;TZID=America/Los_Angeles:20280727T210000
DTSTAMP:20260424T163620
CREATED:20250116T225203Z
LAST-MODIFIED:20250116T225205Z
UID:10001998-1848339000-1848344400@aikido-contracosta.com
SUMMARY:Regular Class
DESCRIPTION:
URL:https://aikido-contracosta.com/events/regular-class-327-2/2028-07-27/
LOCATION:Wah Dojo
END:VEVENT
BEGIN:VEVENT
DTSTART;TZID=America/Los_Angeles:20280801T193000
DTEND;TZID=America/Los_Angeles:20280801T210000
DTSTAMP:20260424T163620
CREATED:20250116T225203Z
LAST-MODIFIED:20250116T225205Z
UID:10001999-1848771000-1848776400@aikido-contracosta.com
SUMMARY:Regular Class
DESCRIPTION:
URL:https://aikido-contracosta.com/events/regular-class-327-2/2028-08-01/
LOCATION:Wah Dojo
END:VEVENT
BEGIN:VEVENT
DTSTART;TZID=America/Los_Angeles:20280803T193000
DTEND;TZID=America/Los_Angeles:20280803T210000
DTSTAMP:20260424T163620
CREATED:20250116T225203Z
LAST-MODIFIED:20250116T225205Z
UID:10002000-1848943800-1848949200@aikido-contracosta.com
SUMMARY:Regular Class
DESCRIPTION:
URL:https://aikido-contracosta.com/events/regular-class-327-2/2028-08-03/
LOCATION:Wah Dojo
END:VEVENT
BEGIN:VEVENT
DTSTART;TZID=America/Los_Angeles:20280808T193000
DTEND;TZID=America/Los_Angeles:20280808T210000
DTSTAMP:20260424T163620
CREATED:20250116T225203Z
LAST-MODIFIED:20250116T225205Z
UID:10002001-1849375800-1849381200@aikido-contracosta.com
SUMMARY:Regular Class
DESCRIPTION:
URL:https://aikido-contracosta.com/events/regular-class-327-2/2028-08-08/
LOCATION:Wah Dojo
END:VEVENT
BEGIN:VEVENT
DTSTART;TZID=America/Los_Angeles:20280810T193000
DTEND;TZID=America/Los_Angeles:20280810T210000
DTSTAMP:20260424T163620
CREATED:20250116T225203Z
LAST-MODIFIED:20250116T225205Z
UID:10002002-1849548600-1849554000@aikido-contracosta.com
SUMMARY:Regular Class
DESCRIPTION:
URL:https://aikido-contracosta.com/events/regular-class-327-2/2028-08-10/
LOCATION:Wah Dojo
END:VEVENT
BEGIN:VEVENT
DTSTART;TZID=America/Los_Angeles:20280815T193000
DTEND;TZID=America/Los_Angeles:20280815T210000
DTSTAMP:20260424T163620
CREATED:20250116T225203Z
LAST-MODIFIED:20250116T225205Z
UID:10002003-1849980600-1849986000@aikido-contracosta.com
SUMMARY:Regular Class
DESCRIPTION:
URL:https://aikido-contracosta.com/events/regular-class-327-2/2028-08-15/
LOCATION:Wah Dojo
END:VEVENT
BEGIN:VEVENT
DTSTART;TZID=America/Los_Angeles:20280817T193000
DTEND;TZID=America/Los_Angeles:20280817T210000
DTSTAMP:20260424T163620
CREATED:20250116T225203Z
LAST-MODIFIED:20250116T225205Z
UID:10002004-1850153400-1850158800@aikido-contracosta.com
SUMMARY:Regular Class
DESCRIPTION:
URL:https://aikido-contracosta.com/events/regular-class-327-2/2028-08-17/
LOCATION:Wah Dojo
END:VEVENT
BEGIN:VEVENT
DTSTART;TZID=America/Los_Angeles:20280822T193000
DTEND;TZID=America/Los_Angeles:20280822T210000
DTSTAMP:20260424T163620
CREATED:20250116T225203Z
LAST-MODIFIED:20250116T225205Z
UID:10002005-1850585400-1850590800@aikido-contracosta.com
SUMMARY:Regular Class
DESCRIPTION:
URL:https://aikido-contracosta.com/events/regular-class-327-2/2028-08-22/
LOCATION:Wah Dojo
END:VEVENT
BEGIN:VEVENT
DTSTART;TZID=America/Los_Angeles:20280824T193000
DTEND;TZID=America/Los_Angeles:20280824T210000
DTSTAMP:20260424T163620
CREATED:20250116T225203Z
LAST-MODIFIED:20250116T225205Z
UID:10002006-1850758200-1850763600@aikido-contracosta.com
SUMMARY:Regular Class
DESCRIPTION:
URL:https://aikido-contracosta.com/events/regular-class-327-2/2028-08-24/
LOCATION:Wah Dojo
END:VEVENT
BEGIN:VEVENT
DTSTART;TZID=America/Los_Angeles:20280829T193000
DTEND;TZID=America/Los_Angeles:20280829T210000
DTSTAMP:20260424T163620
CREATED:20250116T225203Z
LAST-MODIFIED:20250116T225205Z
UID:10002007-1851190200-1851195600@aikido-contracosta.com
SUMMARY:Regular Class
DESCRIPTION:
URL:https://aikido-contracosta.com/events/regular-class-327-2/2028-08-29/
LOCATION:Wah Dojo
END:VEVENT
BEGIN:VEVENT
DTSTART;TZID=America/Los_Angeles:20280831T193000
DTEND;TZID=America/Los_Angeles:20280831T210000
DTSTAMP:20260424T163620
CREATED:20250116T225203Z
LAST-MODIFIED:20250116T225205Z
UID:10002008-1851363000-1851368400@aikido-contracosta.com
SUMMARY:Regular Class
DESCRIPTION:
URL:https://aikido-contracosta.com/events/regular-class-327-2/2028-08-31/
LOCATION:Wah Dojo
END:VEVENT
BEGIN:VEVENT
DTSTART;TZID=America/Los_Angeles:20280905T193000
DTEND;TZID=America/Los_Angeles:20280905T210000
DTSTAMP:20260424T163620
CREATED:20250116T225203Z
LAST-MODIFIED:20250116T225205Z
UID:10002009-1851795000-1851800400@aikido-contracosta.com
SUMMARY:Regular Class
DESCRIPTION:
URL:https://aikido-contracosta.com/events/regular-class-327-2/2028-09-05/
LOCATION:Wah Dojo
END:VEVENT
BEGIN:VEVENT
DTSTART;TZID=America/Los_Angeles:20280907T193000
DTEND;TZID=America/Los_Angeles:20280907T210000
DTSTAMP:20260424T163620
CREATED:20250116T225203Z
LAST-MODIFIED:20250116T225205Z
UID:10002010-1851967800-1851973200@aikido-contracosta.com
SUMMARY:Regular Class
DESCRIPTION:
URL:https://aikido-contracosta.com/events/regular-class-327-2/2028-09-07/
LOCATION:Wah Dojo
END:VEVENT
BEGIN:VEVENT
DTSTART;TZID=America/Los_Angeles:20280912T193000
DTEND;TZID=America/Los_Angeles:20280912T210000
DTSTAMP:20260424T163620
CREATED:20250116T225203Z
LAST-MODIFIED:20250116T225205Z
UID:10002011-1852399800-1852405200@aikido-contracosta.com
SUMMARY:Regular Class
DESCRIPTION:
URL:https://aikido-contracosta.com/events/regular-class-327-2/2028-09-12/
LOCATION:Wah Dojo
END:VEVENT
BEGIN:VEVENT
DTSTART;TZID=America/Los_Angeles:20280914T193000
DTEND;TZID=America/Los_Angeles:20280914T210000
DTSTAMP:20260424T163620
CREATED:20250116T225203Z
LAST-MODIFIED:20250116T225205Z
UID:10002012-1852572600-1852578000@aikido-contracosta.com
SUMMARY:Regular Class
DESCRIPTION:
URL:https://aikido-contracosta.com/events/regular-class-327-2/2028-09-14/
LOCATION:Wah Dojo
END:VEVENT
BEGIN:VEVENT
DTSTART;TZID=America/Los_Angeles:20280919T193000
DTEND;TZID=America/Los_Angeles:20280919T210000
DTSTAMP:20260424T163620
CREATED:20250116T225203Z
LAST-MODIFIED:20250116T225205Z
UID:10002013-1853004600-1853010000@aikido-contracosta.com
SUMMARY:Regular Class
DESCRIPTION:
URL:https://aikido-contracosta.com/events/regular-class-327-2/2028-09-19/
LOCATION:Wah Dojo
END:VEVENT
BEGIN:VEVENT
DTSTART;TZID=America/Los_Angeles:20280921T193000
DTEND;TZID=America/Los_Angeles:20280921T210000
DTSTAMP:20260424T163620
CREATED:20250116T225203Z
LAST-MODIFIED:20250116T225205Z
UID:10002014-1853177400-1853182800@aikido-contracosta.com
SUMMARY:Regular Class
DESCRIPTION:
URL:https://aikido-contracosta.com/events/regular-class-327-2/2028-09-21/
LOCATION:Wah Dojo
END:VEVENT
BEGIN:VEVENT
DTSTART;TZID=America/Los_Angeles:20280926T193000
DTEND;TZID=America/Los_Angeles:20280926T210000
DTSTAMP:20260424T163620
CREATED:20250116T225203Z
LAST-MODIFIED:20250116T225205Z
UID:10002015-1853609400-1853614800@aikido-contracosta.com
SUMMARY:Regular Class
DESCRIPTION:
URL:https://aikido-contracosta.com/events/regular-class-327-2/2028-09-26/
LOCATION:Wah Dojo
END:VEVENT
BEGIN:VEVENT
DTSTART;TZID=America/Los_Angeles:20280928T193000
DTEND;TZID=America/Los_Angeles:20280928T210000
DTSTAMP:20260424T163620
CREATED:20250116T225203Z
LAST-MODIFIED:20250116T225205Z
UID:10002016-1853782200-1853787600@aikido-contracosta.com
SUMMARY:Regular Class
DESCRIPTION:
URL:https://aikido-contracosta.com/events/regular-class-327-2/2028-09-28/
LOCATION:Wah Dojo
END:VEVENT
BEGIN:VEVENT
DTSTART;TZID=America/Los_Angeles:20281003T193000
DTEND;TZID=America/Los_Angeles:20281003T210000
DTSTAMP:20260424T163620
CREATED:20250116T225203Z
LAST-MODIFIED:20250116T225205Z
UID:10002017-1854214200-1854219600@aikido-contracosta.com
SUMMARY:Regular Class
DESCRIPTION:
URL:https://aikido-contracosta.com/events/regular-class-327-2/2028-10-03/
LOCATION:Wah Dojo
END:VEVENT
BEGIN:VEVENT
DTSTART;TZID=America/Los_Angeles:20281005T193000
DTEND;TZID=America/Los_Angeles:20281005T210000
DTSTAMP:20260424T163620
CREATED:20250116T225203Z
LAST-MODIFIED:20250116T225205Z
UID:10002018-1854387000-1854392400@aikido-contracosta.com
SUMMARY:Regular Class
DESCRIPTION:
URL:https://aikido-contracosta.com/events/regular-class-327-2/2028-10-05/
LOCATION:Wah Dojo
END:VEVENT
BEGIN:VEVENT
DTSTART;TZID=America/Los_Angeles:20281010T193000
DTEND;TZID=America/Los_Angeles:20281010T210000
DTSTAMP:20260424T163620
CREATED:20250116T225203Z
LAST-MODIFIED:20250116T225205Z
UID:10002019-1854819000-1854824400@aikido-contracosta.com
SUMMARY:Regular Class
DESCRIPTION:
URL:https://aikido-contracosta.com/events/regular-class-327-2/2028-10-10/
LOCATION:Wah Dojo
END:VEVENT
BEGIN:VEVENT
DTSTART;TZID=America/Los_Angeles:20281012T193000
DTEND;TZID=America/Los_Angeles:20281012T210000
DTSTAMP:20260424T163620
CREATED:20250116T225203Z
LAST-MODIFIED:20250116T225205Z
UID:10002020-1854991800-1854997200@aikido-contracosta.com
SUMMARY:Regular Class
DESCRIPTION:
URL:https://aikido-contracosta.com/events/regular-class-327-2/2028-10-12/
LOCATION:Wah Dojo
END:VEVENT
END:VCALENDAR