BEGIN:VCALENDAR
VERSION:2.0
PRODID:-//AikidoContraCosta.com - ECPv6.15.20//NONSGML v1.0//EN
CALSCALE:GREGORIAN
METHOD:PUBLISH
X-WR-CALNAME:AikidoContraCosta.com
X-ORIGINAL-URL:https://aikido-contracosta.com
X-WR-CALDESC:Events for AikidoContraCosta.com
REFRESH-INTERVAL;VALUE=DURATION:PT1H
X-Robots-Tag:noindex
X-PUBLISHED-TTL:PT1H
BEGIN:VTIMEZONE
TZID:America/Los_Angeles
BEGIN:DAYLIGHT
TZOFFSETFROM:-0800
TZOFFSETTO:-0700
TZNAME:PDT
DTSTART:20260308T100000
END:DAYLIGHT
BEGIN:STANDARD
TZOFFSETFROM:-0700
TZOFFSETTO:-0800
TZNAME:PST
DTSTART:20261101T090000
END:STANDARD
BEGIN:DAYLIGHT
TZOFFSETFROM:-0800
TZOFFSETTO:-0700
TZNAME:PDT
DTSTART:20270314T100000
END:DAYLIGHT
BEGIN:STANDARD
TZOFFSETFROM:-0700
TZOFFSETTO:-0800
TZNAME:PST
DTSTART:20271107T090000
END:STANDARD
BEGIN:DAYLIGHT
TZOFFSETFROM:-0800
TZOFFSETTO:-0700
TZNAME:PDT
DTSTART:20280312T100000
END:DAYLIGHT
BEGIN:STANDARD
TZOFFSETFROM:-0700
TZOFFSETTO:-0800
TZNAME:PST
DTSTART:20281105T090000
END:STANDARD
BEGIN:DAYLIGHT
TZOFFSETFROM:-0800
TZOFFSETTO:-0700
TZNAME:PDT
DTSTART:20290311T100000
END:DAYLIGHT
BEGIN:STANDARD
TZOFFSETFROM:-0700
TZOFFSETTO:-0800
TZNAME:PST
DTSTART:20291104T090000
END:STANDARD
END:VTIMEZONE
BEGIN:VEVENT
DTSTART;TZID=America/Los_Angeles:20271207T193000
DTEND;TZID=America/Los_Angeles:20271207T210000
DTSTAMP:20260424T085223
CREATED:20250116T225203Z
LAST-MODIFIED:20250116T225205Z
UID:10001931-1828207800-1828213200@aikido-contracosta.com
SUMMARY:Regular Class
DESCRIPTION:
URL:https://aikido-contracosta.com/events/regular-class-327-2/2027-12-07/
LOCATION:Wah Dojo
END:VEVENT
BEGIN:VEVENT
DTSTART;TZID=America/Los_Angeles:20271209T193000
DTEND;TZID=America/Los_Angeles:20271209T210000
DTSTAMP:20260424T085223
CREATED:20250116T225203Z
LAST-MODIFIED:20250116T225205Z
UID:10001932-1828380600-1828386000@aikido-contracosta.com
SUMMARY:Regular Class
DESCRIPTION:
URL:https://aikido-contracosta.com/events/regular-class-327-2/2027-12-09/
LOCATION:Wah Dojo
END:VEVENT
BEGIN:VEVENT
DTSTART;TZID=America/Los_Angeles:20271214T193000
DTEND;TZID=America/Los_Angeles:20271214T210000
DTSTAMP:20260424T085223
CREATED:20250116T225203Z
LAST-MODIFIED:20250116T225205Z
UID:10001933-1828812600-1828818000@aikido-contracosta.com
SUMMARY:Regular Class
DESCRIPTION:
URL:https://aikido-contracosta.com/events/regular-class-327-2/2027-12-14/
LOCATION:Wah Dojo
END:VEVENT
BEGIN:VEVENT
DTSTART;TZID=America/Los_Angeles:20271216T193000
DTEND;TZID=America/Los_Angeles:20271216T210000
DTSTAMP:20260424T085223
CREATED:20250116T225203Z
LAST-MODIFIED:20250116T225205Z
UID:10001934-1828985400-1828990800@aikido-contracosta.com
SUMMARY:Regular Class
DESCRIPTION:
URL:https://aikido-contracosta.com/events/regular-class-327-2/2027-12-16/
LOCATION:Wah Dojo
END:VEVENT
BEGIN:VEVENT
DTSTART;TZID=America/Los_Angeles:20271221T193000
DTEND;TZID=America/Los_Angeles:20271221T210000
DTSTAMP:20260424T085223
CREATED:20250116T225203Z
LAST-MODIFIED:20250116T225205Z
UID:10001935-1829417400-1829422800@aikido-contracosta.com
SUMMARY:Regular Class
DESCRIPTION:
URL:https://aikido-contracosta.com/events/regular-class-327-2/2027-12-21/
LOCATION:Wah Dojo
END:VEVENT
BEGIN:VEVENT
DTSTART;TZID=America/Los_Angeles:20271223T193000
DTEND;TZID=America/Los_Angeles:20271223T210000
DTSTAMP:20260424T085223
CREATED:20250116T225203Z
LAST-MODIFIED:20250116T225205Z
UID:10001936-1829590200-1829595600@aikido-contracosta.com
SUMMARY:Regular Class
DESCRIPTION:
URL:https://aikido-contracosta.com/events/regular-class-327-2/2027-12-23/
LOCATION:Wah Dojo
END:VEVENT
BEGIN:VEVENT
DTSTART;TZID=America/Los_Angeles:20271228T193000
DTEND;TZID=America/Los_Angeles:20271228T210000
DTSTAMP:20260424T085223
CREATED:20250116T225203Z
LAST-MODIFIED:20250116T225205Z
UID:10001937-1830022200-1830027600@aikido-contracosta.com
SUMMARY:Regular Class
DESCRIPTION:
URL:https://aikido-contracosta.com/events/regular-class-327-2/2027-12-28/
LOCATION:Wah Dojo
END:VEVENT
BEGIN:VEVENT
DTSTART;TZID=America/Los_Angeles:20271230T193000
DTEND;TZID=America/Los_Angeles:20271230T210000
DTSTAMP:20260424T085223
CREATED:20250116T225203Z
LAST-MODIFIED:20250116T225205Z
UID:10001938-1830195000-1830200400@aikido-contracosta.com
SUMMARY:Regular Class
DESCRIPTION:
URL:https://aikido-contracosta.com/events/regular-class-327-2/2027-12-30/
LOCATION:Wah Dojo
END:VEVENT
BEGIN:VEVENT
DTSTART;TZID=America/Los_Angeles:20280104T193000
DTEND;TZID=America/Los_Angeles:20280104T210000
DTSTAMP:20260424T085223
CREATED:20250116T225203Z
LAST-MODIFIED:20250116T225205Z
UID:10001939-1830627000-1830632400@aikido-contracosta.com
SUMMARY:Regular Class
DESCRIPTION:
URL:https://aikido-contracosta.com/events/regular-class-327-2/2028-01-04/
LOCATION:Wah Dojo
END:VEVENT
BEGIN:VEVENT
DTSTART;TZID=America/Los_Angeles:20280106T193000
DTEND;TZID=America/Los_Angeles:20280106T210000
DTSTAMP:20260424T085223
CREATED:20250116T225203Z
LAST-MODIFIED:20250116T225205Z
UID:10001940-1830799800-1830805200@aikido-contracosta.com
SUMMARY:Regular Class
DESCRIPTION:
URL:https://aikido-contracosta.com/events/regular-class-327-2/2028-01-06/
LOCATION:Wah Dojo
END:VEVENT
BEGIN:VEVENT
DTSTART;TZID=America/Los_Angeles:20280111T193000
DTEND;TZID=America/Los_Angeles:20280111T210000
DTSTAMP:20260424T085223
CREATED:20250116T225203Z
LAST-MODIFIED:20250116T225205Z
UID:10001941-1831231800-1831237200@aikido-contracosta.com
SUMMARY:Regular Class
DESCRIPTION:
URL:https://aikido-contracosta.com/events/regular-class-327-2/2028-01-11/
LOCATION:Wah Dojo
END:VEVENT
BEGIN:VEVENT
DTSTART;TZID=America/Los_Angeles:20280113T193000
DTEND;TZID=America/Los_Angeles:20280113T210000
DTSTAMP:20260424T085223
CREATED:20250116T225203Z
LAST-MODIFIED:20250116T225205Z
UID:10001942-1831404600-1831410000@aikido-contracosta.com
SUMMARY:Regular Class
DESCRIPTION:
URL:https://aikido-contracosta.com/events/regular-class-327-2/2028-01-13/
LOCATION:Wah Dojo
END:VEVENT
BEGIN:VEVENT
DTSTART;TZID=America/Los_Angeles:20280118T193000
DTEND;TZID=America/Los_Angeles:20280118T210000
DTSTAMP:20260424T085223
CREATED:20250116T225203Z
LAST-MODIFIED:20250116T225205Z
UID:10001943-1831836600-1831842000@aikido-contracosta.com
SUMMARY:Regular Class
DESCRIPTION:
URL:https://aikido-contracosta.com/events/regular-class-327-2/2028-01-18/
LOCATION:Wah Dojo
END:VEVENT
BEGIN:VEVENT
DTSTART;TZID=America/Los_Angeles:20280120T193000
DTEND;TZID=America/Los_Angeles:20280120T210000
DTSTAMP:20260424T085223
CREATED:20250116T225203Z
LAST-MODIFIED:20250116T225205Z
UID:10001944-1832009400-1832014800@aikido-contracosta.com
SUMMARY:Regular Class
DESCRIPTION:
URL:https://aikido-contracosta.com/events/regular-class-327-2/2028-01-20/
LOCATION:Wah Dojo
END:VEVENT
BEGIN:VEVENT
DTSTART;TZID=America/Los_Angeles:20280125T193000
DTEND;TZID=America/Los_Angeles:20280125T210000
DTSTAMP:20260424T085223
CREATED:20250116T225203Z
LAST-MODIFIED:20250116T225205Z
UID:10001945-1832441400-1832446800@aikido-contracosta.com
SUMMARY:Regular Class
DESCRIPTION:
URL:https://aikido-contracosta.com/events/regular-class-327-2/2028-01-25/
LOCATION:Wah Dojo
END:VEVENT
BEGIN:VEVENT
DTSTART;TZID=America/Los_Angeles:20280127T193000
DTEND;TZID=America/Los_Angeles:20280127T210000
DTSTAMP:20260424T085223
CREATED:20250116T225203Z
LAST-MODIFIED:20250116T225205Z
UID:10001946-1832614200-1832619600@aikido-contracosta.com
SUMMARY:Regular Class
DESCRIPTION:
URL:https://aikido-contracosta.com/events/regular-class-327-2/2028-01-27/
LOCATION:Wah Dojo
END:VEVENT
BEGIN:VEVENT
DTSTART;TZID=America/Los_Angeles:20280201T193000
DTEND;TZID=America/Los_Angeles:20280201T210000
DTSTAMP:20260424T085223
CREATED:20250116T225203Z
LAST-MODIFIED:20250116T225205Z
UID:10001947-1833046200-1833051600@aikido-contracosta.com
SUMMARY:Regular Class
DESCRIPTION:
URL:https://aikido-contracosta.com/events/regular-class-327-2/2028-02-01/
LOCATION:Wah Dojo
END:VEVENT
BEGIN:VEVENT
DTSTART;TZID=America/Los_Angeles:20280203T193000
DTEND;TZID=America/Los_Angeles:20280203T210000
DTSTAMP:20260424T085223
CREATED:20250116T225203Z
LAST-MODIFIED:20250116T225205Z
UID:10001948-1833219000-1833224400@aikido-contracosta.com
SUMMARY:Regular Class
DESCRIPTION:
URL:https://aikido-contracosta.com/events/regular-class-327-2/2028-02-03/
LOCATION:Wah Dojo
END:VEVENT
BEGIN:VEVENT
DTSTART;TZID=America/Los_Angeles:20280208T193000
DTEND;TZID=America/Los_Angeles:20280208T210000
DTSTAMP:20260424T085223
CREATED:20250116T225203Z
LAST-MODIFIED:20250116T225205Z
UID:10001949-1833651000-1833656400@aikido-contracosta.com
SUMMARY:Regular Class
DESCRIPTION:
URL:https://aikido-contracosta.com/events/regular-class-327-2/2028-02-08/
LOCATION:Wah Dojo
END:VEVENT
BEGIN:VEVENT
DTSTART;TZID=America/Los_Angeles:20280210T193000
DTEND;TZID=America/Los_Angeles:20280210T210000
DTSTAMP:20260424T085223
CREATED:20250116T225203Z
LAST-MODIFIED:20250116T225205Z
UID:10001950-1833823800-1833829200@aikido-contracosta.com
SUMMARY:Regular Class
DESCRIPTION:
URL:https://aikido-contracosta.com/events/regular-class-327-2/2028-02-10/
LOCATION:Wah Dojo
END:VEVENT
BEGIN:VEVENT
DTSTART;TZID=America/Los_Angeles:20280215T193000
DTEND;TZID=America/Los_Angeles:20280215T210000
DTSTAMP:20260424T085223
CREATED:20250116T225203Z
LAST-MODIFIED:20250116T225205Z
UID:10001951-1834255800-1834261200@aikido-contracosta.com
SUMMARY:Regular Class
DESCRIPTION:
URL:https://aikido-contracosta.com/events/regular-class-327-2/2028-02-15/
LOCATION:Wah Dojo
END:VEVENT
BEGIN:VEVENT
DTSTART;TZID=America/Los_Angeles:20280217T193000
DTEND;TZID=America/Los_Angeles:20280217T210000
DTSTAMP:20260424T085223
CREATED:20250116T225203Z
LAST-MODIFIED:20250116T225205Z
UID:10001952-1834428600-1834434000@aikido-contracosta.com
SUMMARY:Regular Class
DESCRIPTION:
URL:https://aikido-contracosta.com/events/regular-class-327-2/2028-02-17/
LOCATION:Wah Dojo
END:VEVENT
BEGIN:VEVENT
DTSTART;TZID=America/Los_Angeles:20280222T193000
DTEND;TZID=America/Los_Angeles:20280222T210000
DTSTAMP:20260424T085223
CREATED:20250116T225203Z
LAST-MODIFIED:20250116T225205Z
UID:10001953-1834860600-1834866000@aikido-contracosta.com
SUMMARY:Regular Class
DESCRIPTION:
URL:https://aikido-contracosta.com/events/regular-class-327-2/2028-02-22/
LOCATION:Wah Dojo
END:VEVENT
BEGIN:VEVENT
DTSTART;TZID=America/Los_Angeles:20280224T193000
DTEND;TZID=America/Los_Angeles:20280224T210000
DTSTAMP:20260424T085223
CREATED:20250116T225203Z
LAST-MODIFIED:20250116T225205Z
UID:10001954-1835033400-1835038800@aikido-contracosta.com
SUMMARY:Regular Class
DESCRIPTION:
URL:https://aikido-contracosta.com/events/regular-class-327-2/2028-02-24/
LOCATION:Wah Dojo
END:VEVENT
BEGIN:VEVENT
DTSTART;TZID=America/Los_Angeles:20280229T193000
DTEND;TZID=America/Los_Angeles:20280229T210000
DTSTAMP:20260424T085223
CREATED:20250116T225203Z
LAST-MODIFIED:20250116T225205Z
UID:10001955-1835465400-1835470800@aikido-contracosta.com
SUMMARY:Regular Class
DESCRIPTION:
URL:https://aikido-contracosta.com/events/regular-class-327-2/2028-02-29/
LOCATION:Wah Dojo
END:VEVENT
BEGIN:VEVENT
DTSTART;TZID=America/Los_Angeles:20280302T193000
DTEND;TZID=America/Los_Angeles:20280302T210000
DTSTAMP:20260424T085223
CREATED:20250116T225203Z
LAST-MODIFIED:20250116T225205Z
UID:10001956-1835638200-1835643600@aikido-contracosta.com
SUMMARY:Regular Class
DESCRIPTION:
URL:https://aikido-contracosta.com/events/regular-class-327-2/2028-03-02/
LOCATION:Wah Dojo
END:VEVENT
BEGIN:VEVENT
DTSTART;TZID=America/Los_Angeles:20280307T193000
DTEND;TZID=America/Los_Angeles:20280307T210000
DTSTAMP:20260424T085223
CREATED:20250116T225203Z
LAST-MODIFIED:20250116T225205Z
UID:10001957-1836070200-1836075600@aikido-contracosta.com
SUMMARY:Regular Class
DESCRIPTION:
URL:https://aikido-contracosta.com/events/regular-class-327-2/2028-03-07/
LOCATION:Wah Dojo
END:VEVENT
BEGIN:VEVENT
DTSTART;TZID=America/Los_Angeles:20280309T193000
DTEND;TZID=America/Los_Angeles:20280309T210000
DTSTAMP:20260424T085223
CREATED:20250116T225203Z
LAST-MODIFIED:20250116T225205Z
UID:10001958-1836243000-1836248400@aikido-contracosta.com
SUMMARY:Regular Class
DESCRIPTION:
URL:https://aikido-contracosta.com/events/regular-class-327-2/2028-03-09/
LOCATION:Wah Dojo
END:VEVENT
BEGIN:VEVENT
DTSTART;TZID=America/Los_Angeles:20280314T193000
DTEND;TZID=America/Los_Angeles:20280314T210000
DTSTAMP:20260424T085223
CREATED:20250116T225203Z
LAST-MODIFIED:20250116T225205Z
UID:10001959-1836675000-1836680400@aikido-contracosta.com
SUMMARY:Regular Class
DESCRIPTION:
URL:https://aikido-contracosta.com/events/regular-class-327-2/2028-03-14/
LOCATION:Wah Dojo
END:VEVENT
BEGIN:VEVENT
DTSTART;TZID=America/Los_Angeles:20280316T193000
DTEND;TZID=America/Los_Angeles:20280316T210000
DTSTAMP:20260424T085223
CREATED:20250116T225203Z
LAST-MODIFIED:20250116T225205Z
UID:10001960-1836847800-1836853200@aikido-contracosta.com
SUMMARY:Regular Class
DESCRIPTION:
URL:https://aikido-contracosta.com/events/regular-class-327-2/2028-03-16/
LOCATION:Wah Dojo
END:VEVENT
END:VCALENDAR