BEGIN:VCALENDAR
VERSION:2.0
PRODID:-//AikidoContraCosta.com - ECPv6.15.20//NONSGML v1.0//EN
CALSCALE:GREGORIAN
METHOD:PUBLISH
X-WR-CALNAME:AikidoContraCosta.com
X-ORIGINAL-URL:https://aikido-contracosta.com
X-WR-CALDESC:Events for AikidoContraCosta.com
REFRESH-INTERVAL;VALUE=DURATION:PT1H
X-Robots-Tag:noindex
X-PUBLISHED-TTL:PT1H
BEGIN:VTIMEZONE
TZID:America/Los_Angeles
BEGIN:DAYLIGHT
TZOFFSETFROM:-0800
TZOFFSETTO:-0700
TZNAME:PDT
DTSTART:20260308T100000
END:DAYLIGHT
BEGIN:STANDARD
TZOFFSETFROM:-0700
TZOFFSETTO:-0800
TZNAME:PST
DTSTART:20261101T090000
END:STANDARD
BEGIN:DAYLIGHT
TZOFFSETFROM:-0800
TZOFFSETTO:-0700
TZNAME:PDT
DTSTART:20270314T100000
END:DAYLIGHT
BEGIN:STANDARD
TZOFFSETFROM:-0700
TZOFFSETTO:-0800
TZNAME:PST
DTSTART:20271107T090000
END:STANDARD
BEGIN:DAYLIGHT
TZOFFSETFROM:-0800
TZOFFSETTO:-0700
TZNAME:PDT
DTSTART:20280312T100000
END:DAYLIGHT
BEGIN:STANDARD
TZOFFSETFROM:-0700
TZOFFSETTO:-0800
TZNAME:PST
DTSTART:20281105T090000
END:STANDARD
END:VTIMEZONE
BEGIN:VEVENT
DTSTART;TZID=America/Los_Angeles:20270914T193000
DTEND;TZID=America/Los_Angeles:20270914T210000
DTSTAMP:20260424T045541
CREATED:20250116T225203Z
LAST-MODIFIED:20250116T225205Z
UID:10001907-1820950200-1820955600@aikido-contracosta.com
SUMMARY:Regular Class
DESCRIPTION:
URL:https://aikido-contracosta.com/events/regular-class-327-2/2027-09-14/
LOCATION:Wah Dojo
END:VEVENT
BEGIN:VEVENT
DTSTART;TZID=America/Los_Angeles:20270916T193000
DTEND;TZID=America/Los_Angeles:20270916T210000
DTSTAMP:20260424T045541
CREATED:20250116T225203Z
LAST-MODIFIED:20250116T225205Z
UID:10001908-1821123000-1821128400@aikido-contracosta.com
SUMMARY:Regular Class
DESCRIPTION:
URL:https://aikido-contracosta.com/events/regular-class-327-2/2027-09-16/
LOCATION:Wah Dojo
END:VEVENT
BEGIN:VEVENT
DTSTART;TZID=America/Los_Angeles:20270921T193000
DTEND;TZID=America/Los_Angeles:20270921T210000
DTSTAMP:20260424T045541
CREATED:20250116T225203Z
LAST-MODIFIED:20250116T225205Z
UID:10001909-1821555000-1821560400@aikido-contracosta.com
SUMMARY:Regular Class
DESCRIPTION:
URL:https://aikido-contracosta.com/events/regular-class-327-2/2027-09-21/
LOCATION:Wah Dojo
END:VEVENT
BEGIN:VEVENT
DTSTART;TZID=America/Los_Angeles:20270923T193000
DTEND;TZID=America/Los_Angeles:20270923T210000
DTSTAMP:20260424T045541
CREATED:20250116T225203Z
LAST-MODIFIED:20250116T225205Z
UID:10001910-1821727800-1821733200@aikido-contracosta.com
SUMMARY:Regular Class
DESCRIPTION:
URL:https://aikido-contracosta.com/events/regular-class-327-2/2027-09-23/
LOCATION:Wah Dojo
END:VEVENT
BEGIN:VEVENT
DTSTART;TZID=America/Los_Angeles:20270928T193000
DTEND;TZID=America/Los_Angeles:20270928T210000
DTSTAMP:20260424T045541
CREATED:20250116T225203Z
LAST-MODIFIED:20250116T225205Z
UID:10001911-1822159800-1822165200@aikido-contracosta.com
SUMMARY:Regular Class
DESCRIPTION:
URL:https://aikido-contracosta.com/events/regular-class-327-2/2027-09-28/
LOCATION:Wah Dojo
END:VEVENT
BEGIN:VEVENT
DTSTART;TZID=America/Los_Angeles:20270930T193000
DTEND;TZID=America/Los_Angeles:20270930T210000
DTSTAMP:20260424T045541
CREATED:20250116T225203Z
LAST-MODIFIED:20250116T225205Z
UID:10001912-1822332600-1822338000@aikido-contracosta.com
SUMMARY:Regular Class
DESCRIPTION:
URL:https://aikido-contracosta.com/events/regular-class-327-2/2027-09-30/
LOCATION:Wah Dojo
END:VEVENT
BEGIN:VEVENT
DTSTART;TZID=America/Los_Angeles:20271005T193000
DTEND;TZID=America/Los_Angeles:20271005T210000
DTSTAMP:20260424T045541
CREATED:20250116T225203Z
LAST-MODIFIED:20250116T225205Z
UID:10001913-1822764600-1822770000@aikido-contracosta.com
SUMMARY:Regular Class
DESCRIPTION:
URL:https://aikido-contracosta.com/events/regular-class-327-2/2027-10-05/
LOCATION:Wah Dojo
END:VEVENT
BEGIN:VEVENT
DTSTART;TZID=America/Los_Angeles:20271007T193000
DTEND;TZID=America/Los_Angeles:20271007T210000
DTSTAMP:20260424T045541
CREATED:20250116T225203Z
LAST-MODIFIED:20250116T225205Z
UID:10001914-1822937400-1822942800@aikido-contracosta.com
SUMMARY:Regular Class
DESCRIPTION:
URL:https://aikido-contracosta.com/events/regular-class-327-2/2027-10-07/
LOCATION:Wah Dojo
END:VEVENT
BEGIN:VEVENT
DTSTART;TZID=America/Los_Angeles:20271012T193000
DTEND;TZID=America/Los_Angeles:20271012T210000
DTSTAMP:20260424T045541
CREATED:20250116T225203Z
LAST-MODIFIED:20250116T225205Z
UID:10001915-1823369400-1823374800@aikido-contracosta.com
SUMMARY:Regular Class
DESCRIPTION:
URL:https://aikido-contracosta.com/events/regular-class-327-2/2027-10-12/
LOCATION:Wah Dojo
END:VEVENT
BEGIN:VEVENT
DTSTART;TZID=America/Los_Angeles:20271014T193000
DTEND;TZID=America/Los_Angeles:20271014T210000
DTSTAMP:20260424T045541
CREATED:20250116T225203Z
LAST-MODIFIED:20250116T225205Z
UID:10001916-1823542200-1823547600@aikido-contracosta.com
SUMMARY:Regular Class
DESCRIPTION:
URL:https://aikido-contracosta.com/events/regular-class-327-2/2027-10-14/
LOCATION:Wah Dojo
END:VEVENT
BEGIN:VEVENT
DTSTART;TZID=America/Los_Angeles:20271019T193000
DTEND;TZID=America/Los_Angeles:20271019T210000
DTSTAMP:20260424T045541
CREATED:20250116T225203Z
LAST-MODIFIED:20250116T225205Z
UID:10001917-1823974200-1823979600@aikido-contracosta.com
SUMMARY:Regular Class
DESCRIPTION:
URL:https://aikido-contracosta.com/events/regular-class-327-2/2027-10-19/
LOCATION:Wah Dojo
END:VEVENT
BEGIN:VEVENT
DTSTART;TZID=America/Los_Angeles:20271021T193000
DTEND;TZID=America/Los_Angeles:20271021T210000
DTSTAMP:20260424T045541
CREATED:20250116T225203Z
LAST-MODIFIED:20250116T225205Z
UID:10001918-1824147000-1824152400@aikido-contracosta.com
SUMMARY:Regular Class
DESCRIPTION:
URL:https://aikido-contracosta.com/events/regular-class-327-2/2027-10-21/
LOCATION:Wah Dojo
END:VEVENT
BEGIN:VEVENT
DTSTART;TZID=America/Los_Angeles:20271026T193000
DTEND;TZID=America/Los_Angeles:20271026T210000
DTSTAMP:20260424T045541
CREATED:20250116T225203Z
LAST-MODIFIED:20250116T225205Z
UID:10001919-1824579000-1824584400@aikido-contracosta.com
SUMMARY:Regular Class
DESCRIPTION:
URL:https://aikido-contracosta.com/events/regular-class-327-2/2027-10-26/
LOCATION:Wah Dojo
END:VEVENT
BEGIN:VEVENT
DTSTART;TZID=America/Los_Angeles:20271028T193000
DTEND;TZID=America/Los_Angeles:20271028T210000
DTSTAMP:20260424T045541
CREATED:20250116T225203Z
LAST-MODIFIED:20250116T225205Z
UID:10001920-1824751800-1824757200@aikido-contracosta.com
SUMMARY:Regular Class
DESCRIPTION:
URL:https://aikido-contracosta.com/events/regular-class-327-2/2027-10-28/
LOCATION:Wah Dojo
END:VEVENT
BEGIN:VEVENT
DTSTART;TZID=America/Los_Angeles:20271102T193000
DTEND;TZID=America/Los_Angeles:20271102T210000
DTSTAMP:20260424T045541
CREATED:20250116T225203Z
LAST-MODIFIED:20250116T225205Z
UID:10001921-1825183800-1825189200@aikido-contracosta.com
SUMMARY:Regular Class
DESCRIPTION:
URL:https://aikido-contracosta.com/events/regular-class-327-2/2027-11-02/
LOCATION:Wah Dojo
END:VEVENT
BEGIN:VEVENT
DTSTART;TZID=America/Los_Angeles:20271104T193000
DTEND;TZID=America/Los_Angeles:20271104T210000
DTSTAMP:20260424T045541
CREATED:20250116T225203Z
LAST-MODIFIED:20250116T225205Z
UID:10001922-1825356600-1825362000@aikido-contracosta.com
SUMMARY:Regular Class
DESCRIPTION:
URL:https://aikido-contracosta.com/events/regular-class-327-2/2027-11-04/
LOCATION:Wah Dojo
END:VEVENT
BEGIN:VEVENT
DTSTART;TZID=America/Los_Angeles:20271109T193000
DTEND;TZID=America/Los_Angeles:20271109T210000
DTSTAMP:20260424T045541
CREATED:20250116T225203Z
LAST-MODIFIED:20250116T225205Z
UID:10001923-1825788600-1825794000@aikido-contracosta.com
SUMMARY:Regular Class
DESCRIPTION:
URL:https://aikido-contracosta.com/events/regular-class-327-2/2027-11-09/
LOCATION:Wah Dojo
END:VEVENT
BEGIN:VEVENT
DTSTART;TZID=America/Los_Angeles:20271111T193000
DTEND;TZID=America/Los_Angeles:20271111T210000
DTSTAMP:20260424T045541
CREATED:20250116T225203Z
LAST-MODIFIED:20250116T225205Z
UID:10001924-1825961400-1825966800@aikido-contracosta.com
SUMMARY:Regular Class
DESCRIPTION:
URL:https://aikido-contracosta.com/events/regular-class-327-2/2027-11-11/
LOCATION:Wah Dojo
END:VEVENT
BEGIN:VEVENT
DTSTART;TZID=America/Los_Angeles:20271116T193000
DTEND;TZID=America/Los_Angeles:20271116T210000
DTSTAMP:20260424T045541
CREATED:20250116T225203Z
LAST-MODIFIED:20250116T225205Z
UID:10001925-1826393400-1826398800@aikido-contracosta.com
SUMMARY:Regular Class
DESCRIPTION:
URL:https://aikido-contracosta.com/events/regular-class-327-2/2027-11-16/
LOCATION:Wah Dojo
END:VEVENT
BEGIN:VEVENT
DTSTART;TZID=America/Los_Angeles:20271118T193000
DTEND;TZID=America/Los_Angeles:20271118T210000
DTSTAMP:20260424T045541
CREATED:20250116T225203Z
LAST-MODIFIED:20250116T225205Z
UID:10001926-1826566200-1826571600@aikido-contracosta.com
SUMMARY:Regular Class
DESCRIPTION:
URL:https://aikido-contracosta.com/events/regular-class-327-2/2027-11-18/
LOCATION:Wah Dojo
END:VEVENT
BEGIN:VEVENT
DTSTART;TZID=America/Los_Angeles:20271123T193000
DTEND;TZID=America/Los_Angeles:20271123T210000
DTSTAMP:20260424T045541
CREATED:20250116T225203Z
LAST-MODIFIED:20250116T225205Z
UID:10001927-1826998200-1827003600@aikido-contracosta.com
SUMMARY:Regular Class
DESCRIPTION:
URL:https://aikido-contracosta.com/events/regular-class-327-2/2027-11-23/
LOCATION:Wah Dojo
END:VEVENT
BEGIN:VEVENT
DTSTART;TZID=America/Los_Angeles:20271125T193000
DTEND;TZID=America/Los_Angeles:20271125T210000
DTSTAMP:20260424T045541
CREATED:20250116T225203Z
LAST-MODIFIED:20250116T225205Z
UID:10001928-1827171000-1827176400@aikido-contracosta.com
SUMMARY:Regular Class
DESCRIPTION:
URL:https://aikido-contracosta.com/events/regular-class-327-2/2027-11-25/
LOCATION:Wah Dojo
END:VEVENT
BEGIN:VEVENT
DTSTART;TZID=America/Los_Angeles:20271130T193000
DTEND;TZID=America/Los_Angeles:20271130T210000
DTSTAMP:20260424T045541
CREATED:20250116T225203Z
LAST-MODIFIED:20250116T225205Z
UID:10001929-1827603000-1827608400@aikido-contracosta.com
SUMMARY:Regular Class
DESCRIPTION:
URL:https://aikido-contracosta.com/events/regular-class-327-2/2027-11-30/
LOCATION:Wah Dojo
END:VEVENT
BEGIN:VEVENT
DTSTART;TZID=America/Los_Angeles:20271202T193000
DTEND;TZID=America/Los_Angeles:20271202T210000
DTSTAMP:20260424T045541
CREATED:20250116T225203Z
LAST-MODIFIED:20250116T225205Z
UID:10001930-1827775800-1827781200@aikido-contracosta.com
SUMMARY:Regular Class
DESCRIPTION:
URL:https://aikido-contracosta.com/events/regular-class-327-2/2027-12-02/
LOCATION:Wah Dojo
END:VEVENT
BEGIN:VEVENT
DTSTART;TZID=America/Los_Angeles:20271207T193000
DTEND;TZID=America/Los_Angeles:20271207T210000
DTSTAMP:20260424T045541
CREATED:20250116T225203Z
LAST-MODIFIED:20250116T225205Z
UID:10001931-1828207800-1828213200@aikido-contracosta.com
SUMMARY:Regular Class
DESCRIPTION:
URL:https://aikido-contracosta.com/events/regular-class-327-2/2027-12-07/
LOCATION:Wah Dojo
END:VEVENT
BEGIN:VEVENT
DTSTART;TZID=America/Los_Angeles:20271209T193000
DTEND;TZID=America/Los_Angeles:20271209T210000
DTSTAMP:20260424T045541
CREATED:20250116T225203Z
LAST-MODIFIED:20250116T225205Z
UID:10001932-1828380600-1828386000@aikido-contracosta.com
SUMMARY:Regular Class
DESCRIPTION:
URL:https://aikido-contracosta.com/events/regular-class-327-2/2027-12-09/
LOCATION:Wah Dojo
END:VEVENT
BEGIN:VEVENT
DTSTART;TZID=America/Los_Angeles:20271214T193000
DTEND;TZID=America/Los_Angeles:20271214T210000
DTSTAMP:20260424T045541
CREATED:20250116T225203Z
LAST-MODIFIED:20250116T225205Z
UID:10001933-1828812600-1828818000@aikido-contracosta.com
SUMMARY:Regular Class
DESCRIPTION:
URL:https://aikido-contracosta.com/events/regular-class-327-2/2027-12-14/
LOCATION:Wah Dojo
END:VEVENT
BEGIN:VEVENT
DTSTART;TZID=America/Los_Angeles:20271216T193000
DTEND;TZID=America/Los_Angeles:20271216T210000
DTSTAMP:20260424T045541
CREATED:20250116T225203Z
LAST-MODIFIED:20250116T225205Z
UID:10001934-1828985400-1828990800@aikido-contracosta.com
SUMMARY:Regular Class
DESCRIPTION:
URL:https://aikido-contracosta.com/events/regular-class-327-2/2027-12-16/
LOCATION:Wah Dojo
END:VEVENT
BEGIN:VEVENT
DTSTART;TZID=America/Los_Angeles:20271221T193000
DTEND;TZID=America/Los_Angeles:20271221T210000
DTSTAMP:20260424T045541
CREATED:20250116T225203Z
LAST-MODIFIED:20250116T225205Z
UID:10001935-1829417400-1829422800@aikido-contracosta.com
SUMMARY:Regular Class
DESCRIPTION:
URL:https://aikido-contracosta.com/events/regular-class-327-2/2027-12-21/
LOCATION:Wah Dojo
END:VEVENT
BEGIN:VEVENT
DTSTART;TZID=America/Los_Angeles:20271223T193000
DTEND;TZID=America/Los_Angeles:20271223T210000
DTSTAMP:20260424T045541
CREATED:20250116T225203Z
LAST-MODIFIED:20250116T225205Z
UID:10001936-1829590200-1829595600@aikido-contracosta.com
SUMMARY:Regular Class
DESCRIPTION:
URL:https://aikido-contracosta.com/events/regular-class-327-2/2027-12-23/
LOCATION:Wah Dojo
END:VEVENT
END:VCALENDAR