BEGIN:VCALENDAR
VERSION:2.0
PRODID:-//AikidoContraCosta.com - ECPv6.15.20//NONSGML v1.0//EN
CALSCALE:GREGORIAN
METHOD:PUBLISH
X-ORIGINAL-URL:https://aikido-contracosta.com
X-WR-CALDESC:Events for AikidoContraCosta.com
REFRESH-INTERVAL;VALUE=DURATION:PT1H
X-Robots-Tag:noindex
X-PUBLISHED-TTL:PT1H
BEGIN:VTIMEZONE
TZID:America/Los_Angeles
BEGIN:DAYLIGHT
TZOFFSETFROM:-0800
TZOFFSETTO:-0700
TZNAME:PDT
DTSTART:20260308T100000
END:DAYLIGHT
BEGIN:STANDARD
TZOFFSETFROM:-0700
TZOFFSETTO:-0800
TZNAME:PST
DTSTART:20261101T090000
END:STANDARD
BEGIN:DAYLIGHT
TZOFFSETFROM:-0800
TZOFFSETTO:-0700
TZNAME:PDT
DTSTART:20270314T100000
END:DAYLIGHT
BEGIN:STANDARD
TZOFFSETFROM:-0700
TZOFFSETTO:-0800
TZNAME:PST
DTSTART:20271107T090000
END:STANDARD
BEGIN:DAYLIGHT
TZOFFSETFROM:-0800
TZOFFSETTO:-0700
TZNAME:PDT
DTSTART:20280312T100000
END:DAYLIGHT
BEGIN:STANDARD
TZOFFSETFROM:-0700
TZOFFSETTO:-0800
TZNAME:PST
DTSTART:20281105T090000
END:STANDARD
END:VTIMEZONE
BEGIN:VEVENT
DTSTART;TZID=America/Los_Angeles:20270622T193000
DTEND;TZID=America/Los_Angeles:20270622T210000
DTSTAMP:20260424T020633
CREATED:20250116T225203Z
LAST-MODIFIED:20250116T225205Z
UID:10001883-1813692600-1813698000@aikido-contracosta.com
SUMMARY:Regular Class
DESCRIPTION:
URL:https://aikido-contracosta.com/events/regular-class-327-2/2027-06-22/
LOCATION:Wah Dojo
END:VEVENT
BEGIN:VEVENT
DTSTART;TZID=America/Los_Angeles:20270624T193000
DTEND;TZID=America/Los_Angeles:20270624T210000
DTSTAMP:20260424T020633
CREATED:20250116T225203Z
LAST-MODIFIED:20250116T225205Z
UID:10001884-1813865400-1813870800@aikido-contracosta.com
SUMMARY:Regular Class
DESCRIPTION:
URL:https://aikido-contracosta.com/events/regular-class-327-2/2027-06-24/
LOCATION:Wah Dojo
END:VEVENT
BEGIN:VEVENT
DTSTART;TZID=America/Los_Angeles:20270629T193000
DTEND;TZID=America/Los_Angeles:20270629T210000
DTSTAMP:20260424T020633
CREATED:20250116T225203Z
LAST-MODIFIED:20250116T225205Z
UID:10001885-1814297400-1814302800@aikido-contracosta.com
SUMMARY:Regular Class
DESCRIPTION:
URL:https://aikido-contracosta.com/events/regular-class-327-2/2027-06-29/
LOCATION:Wah Dojo
END:VEVENT
BEGIN:VEVENT
DTSTART;TZID=America/Los_Angeles:20270701T193000
DTEND;TZID=America/Los_Angeles:20270701T210000
DTSTAMP:20260424T020633
CREATED:20250116T225203Z
LAST-MODIFIED:20250116T225205Z
UID:10001886-1814470200-1814475600@aikido-contracosta.com
SUMMARY:Regular Class
DESCRIPTION:
URL:https://aikido-contracosta.com/events/regular-class-327-2/2027-07-01/
LOCATION:Wah Dojo
END:VEVENT
BEGIN:VEVENT
DTSTART;TZID=America/Los_Angeles:20270706T193000
DTEND;TZID=America/Los_Angeles:20270706T210000
DTSTAMP:20260424T020633
CREATED:20250116T225203Z
LAST-MODIFIED:20250116T225205Z
UID:10001887-1814902200-1814907600@aikido-contracosta.com
SUMMARY:Regular Class
DESCRIPTION:
URL:https://aikido-contracosta.com/events/regular-class-327-2/2027-07-06/
LOCATION:Wah Dojo
END:VEVENT
BEGIN:VEVENT
DTSTART;TZID=America/Los_Angeles:20270708T193000
DTEND;TZID=America/Los_Angeles:20270708T210000
DTSTAMP:20260424T020633
CREATED:20250116T225203Z
LAST-MODIFIED:20250116T225205Z
UID:10001888-1815075000-1815080400@aikido-contracosta.com
SUMMARY:Regular Class
DESCRIPTION:
URL:https://aikido-contracosta.com/events/regular-class-327-2/2027-07-08/
LOCATION:Wah Dojo
END:VEVENT
BEGIN:VEVENT
DTSTART;TZID=America/Los_Angeles:20270713T193000
DTEND;TZID=America/Los_Angeles:20270713T210000
DTSTAMP:20260424T020633
CREATED:20250116T225203Z
LAST-MODIFIED:20250116T225205Z
UID:10001889-1815507000-1815512400@aikido-contracosta.com
SUMMARY:Regular Class
DESCRIPTION:
URL:https://aikido-contracosta.com/events/regular-class-327-2/2027-07-13/
LOCATION:Wah Dojo
END:VEVENT
BEGIN:VEVENT
DTSTART;TZID=America/Los_Angeles:20270715T193000
DTEND;TZID=America/Los_Angeles:20270715T210000
DTSTAMP:20260424T020633
CREATED:20250116T225203Z
LAST-MODIFIED:20250116T225205Z
UID:10001890-1815679800-1815685200@aikido-contracosta.com
SUMMARY:Regular Class
DESCRIPTION:
URL:https://aikido-contracosta.com/events/regular-class-327-2/2027-07-15/
LOCATION:Wah Dojo
END:VEVENT
BEGIN:VEVENT
DTSTART;TZID=America/Los_Angeles:20270720T193000
DTEND;TZID=America/Los_Angeles:20270720T210000
DTSTAMP:20260424T020633
CREATED:20250116T225203Z
LAST-MODIFIED:20250116T225205Z
UID:10001891-1816111800-1816117200@aikido-contracosta.com
SUMMARY:Regular Class
DESCRIPTION:
URL:https://aikido-contracosta.com/events/regular-class-327-2/2027-07-20/
LOCATION:Wah Dojo
END:VEVENT
BEGIN:VEVENT
DTSTART;TZID=America/Los_Angeles:20270722T193000
DTEND;TZID=America/Los_Angeles:20270722T210000
DTSTAMP:20260424T020633
CREATED:20250116T225203Z
LAST-MODIFIED:20250116T225205Z
UID:10001892-1816284600-1816290000@aikido-contracosta.com
SUMMARY:Regular Class
DESCRIPTION:
URL:https://aikido-contracosta.com/events/regular-class-327-2/2027-07-22/
LOCATION:Wah Dojo
END:VEVENT
BEGIN:VEVENT
DTSTART;TZID=America/Los_Angeles:20270727T193000
DTEND;TZID=America/Los_Angeles:20270727T210000
DTSTAMP:20260424T020633
CREATED:20250116T225203Z
LAST-MODIFIED:20250116T225205Z
UID:10001893-1816716600-1816722000@aikido-contracosta.com
SUMMARY:Regular Class
DESCRIPTION:
URL:https://aikido-contracosta.com/events/regular-class-327-2/2027-07-27/
LOCATION:Wah Dojo
END:VEVENT
BEGIN:VEVENT
DTSTART;TZID=America/Los_Angeles:20270729T193000
DTEND;TZID=America/Los_Angeles:20270729T210000
DTSTAMP:20260424T020633
CREATED:20250116T225203Z
LAST-MODIFIED:20250116T225205Z
UID:10001894-1816889400-1816894800@aikido-contracosta.com
SUMMARY:Regular Class
DESCRIPTION:
URL:https://aikido-contracosta.com/events/regular-class-327-2/2027-07-29/
LOCATION:Wah Dojo
END:VEVENT
BEGIN:VEVENT
DTSTART;TZID=America/Los_Angeles:20270803T193000
DTEND;TZID=America/Los_Angeles:20270803T210000
DTSTAMP:20260424T020633
CREATED:20250116T225203Z
LAST-MODIFIED:20250116T225205Z
UID:10001895-1817321400-1817326800@aikido-contracosta.com
SUMMARY:Regular Class
DESCRIPTION:
URL:https://aikido-contracosta.com/events/regular-class-327-2/2027-08-03/
LOCATION:Wah Dojo
END:VEVENT
BEGIN:VEVENT
DTSTART;TZID=America/Los_Angeles:20270805T193000
DTEND;TZID=America/Los_Angeles:20270805T210000
DTSTAMP:20260424T020633
CREATED:20250116T225203Z
LAST-MODIFIED:20250116T225205Z
UID:10001896-1817494200-1817499600@aikido-contracosta.com
SUMMARY:Regular Class
DESCRIPTION:
URL:https://aikido-contracosta.com/events/regular-class-327-2/2027-08-05/
LOCATION:Wah Dojo
END:VEVENT
BEGIN:VEVENT
DTSTART;TZID=America/Los_Angeles:20270810T193000
DTEND;TZID=America/Los_Angeles:20270810T210000
DTSTAMP:20260424T020633
CREATED:20250116T225203Z
LAST-MODIFIED:20250116T225205Z
UID:10001897-1817926200-1817931600@aikido-contracosta.com
SUMMARY:Regular Class
DESCRIPTION:
URL:https://aikido-contracosta.com/events/regular-class-327-2/2027-08-10/
LOCATION:Wah Dojo
END:VEVENT
BEGIN:VEVENT
DTSTART;TZID=America/Los_Angeles:20270812T193000
DTEND;TZID=America/Los_Angeles:20270812T210000
DTSTAMP:20260424T020633
CREATED:20250116T225203Z
LAST-MODIFIED:20250116T225205Z
UID:10001898-1818099000-1818104400@aikido-contracosta.com
SUMMARY:Regular Class
DESCRIPTION:
URL:https://aikido-contracosta.com/events/regular-class-327-2/2027-08-12/
LOCATION:Wah Dojo
END:VEVENT
BEGIN:VEVENT
DTSTART;TZID=America/Los_Angeles:20270817T193000
DTEND;TZID=America/Los_Angeles:20270817T210000
DTSTAMP:20260424T020633
CREATED:20250116T225203Z
LAST-MODIFIED:20250116T225205Z
UID:10001899-1818531000-1818536400@aikido-contracosta.com
SUMMARY:Regular Class
DESCRIPTION:
URL:https://aikido-contracosta.com/events/regular-class-327-2/2027-08-17/
LOCATION:Wah Dojo
END:VEVENT
BEGIN:VEVENT
DTSTART;TZID=America/Los_Angeles:20270819T193000
DTEND;TZID=America/Los_Angeles:20270819T210000
DTSTAMP:20260424T020633
CREATED:20250116T225203Z
LAST-MODIFIED:20250116T225205Z
UID:10001900-1818703800-1818709200@aikido-contracosta.com
SUMMARY:Regular Class
DESCRIPTION:
URL:https://aikido-contracosta.com/events/regular-class-327-2/2027-08-19/
LOCATION:Wah Dojo
END:VEVENT
BEGIN:VEVENT
DTSTART;TZID=America/Los_Angeles:20270824T193000
DTEND;TZID=America/Los_Angeles:20270824T210000
DTSTAMP:20260424T020633
CREATED:20250116T225203Z
LAST-MODIFIED:20250116T225205Z
UID:10001901-1819135800-1819141200@aikido-contracosta.com
SUMMARY:Regular Class
DESCRIPTION:
URL:https://aikido-contracosta.com/events/regular-class-327-2/2027-08-24/
LOCATION:Wah Dojo
END:VEVENT
BEGIN:VEVENT
DTSTART;TZID=America/Los_Angeles:20270826T193000
DTEND;TZID=America/Los_Angeles:20270826T210000
DTSTAMP:20260424T020633
CREATED:20250116T225203Z
LAST-MODIFIED:20250116T225205Z
UID:10001902-1819308600-1819314000@aikido-contracosta.com
SUMMARY:Regular Class
DESCRIPTION:
URL:https://aikido-contracosta.com/events/regular-class-327-2/2027-08-26/
LOCATION:Wah Dojo
END:VEVENT
BEGIN:VEVENT
DTSTART;TZID=America/Los_Angeles:20270831T193000
DTEND;TZID=America/Los_Angeles:20270831T210000
DTSTAMP:20260424T020633
CREATED:20250116T225203Z
LAST-MODIFIED:20250116T225205Z
UID:10001903-1819740600-1819746000@aikido-contracosta.com
SUMMARY:Regular Class
DESCRIPTION:
URL:https://aikido-contracosta.com/events/regular-class-327-2/2027-08-31/
LOCATION:Wah Dojo
END:VEVENT
BEGIN:VEVENT
DTSTART;TZID=America/Los_Angeles:20270902T193000
DTEND;TZID=America/Los_Angeles:20270902T210000
DTSTAMP:20260424T020633
CREATED:20250116T225203Z
LAST-MODIFIED:20250116T225205Z
UID:10001904-1819913400-1819918800@aikido-contracosta.com
SUMMARY:Regular Class
DESCRIPTION:
URL:https://aikido-contracosta.com/events/regular-class-327-2/2027-09-02/
LOCATION:Wah Dojo
END:VEVENT
BEGIN:VEVENT
DTSTART;TZID=America/Los_Angeles:20270907T193000
DTEND;TZID=America/Los_Angeles:20270907T210000
DTSTAMP:20260424T020633
CREATED:20250116T225203Z
LAST-MODIFIED:20250116T225205Z
UID:10001905-1820345400-1820350800@aikido-contracosta.com
SUMMARY:Regular Class
DESCRIPTION:
URL:https://aikido-contracosta.com/events/regular-class-327-2/2027-09-07/
LOCATION:Wah Dojo
END:VEVENT
BEGIN:VEVENT
DTSTART;TZID=America/Los_Angeles:20270909T193000
DTEND;TZID=America/Los_Angeles:20270909T210000
DTSTAMP:20260424T020633
CREATED:20250116T225203Z
LAST-MODIFIED:20250116T225205Z
UID:10001906-1820518200-1820523600@aikido-contracosta.com
SUMMARY:Regular Class
DESCRIPTION:
URL:https://aikido-contracosta.com/events/regular-class-327-2/2027-09-09/
LOCATION:Wah Dojo
END:VEVENT
BEGIN:VEVENT
DTSTART;TZID=America/Los_Angeles:20270914T193000
DTEND;TZID=America/Los_Angeles:20270914T210000
DTSTAMP:20260424T020633
CREATED:20250116T225203Z
LAST-MODIFIED:20250116T225205Z
UID:10001907-1820950200-1820955600@aikido-contracosta.com
SUMMARY:Regular Class
DESCRIPTION:
URL:https://aikido-contracosta.com/events/regular-class-327-2/2027-09-14/
LOCATION:Wah Dojo
END:VEVENT
BEGIN:VEVENT
DTSTART;TZID=America/Los_Angeles:20270916T193000
DTEND;TZID=America/Los_Angeles:20270916T210000
DTSTAMP:20260424T020633
CREATED:20250116T225203Z
LAST-MODIFIED:20250116T225205Z
UID:10001908-1821123000-1821128400@aikido-contracosta.com
SUMMARY:Regular Class
DESCRIPTION:
URL:https://aikido-contracosta.com/events/regular-class-327-2/2027-09-16/
LOCATION:Wah Dojo
END:VEVENT
BEGIN:VEVENT
DTSTART;TZID=America/Los_Angeles:20270921T193000
DTEND;TZID=America/Los_Angeles:20270921T210000
DTSTAMP:20260424T020633
CREATED:20250116T225203Z
LAST-MODIFIED:20250116T225205Z
UID:10001909-1821555000-1821560400@aikido-contracosta.com
SUMMARY:Regular Class
DESCRIPTION:
URL:https://aikido-contracosta.com/events/regular-class-327-2/2027-09-21/
LOCATION:Wah Dojo
END:VEVENT
BEGIN:VEVENT
DTSTART;TZID=America/Los_Angeles:20270923T193000
DTEND;TZID=America/Los_Angeles:20270923T210000
DTSTAMP:20260424T020633
CREATED:20250116T225203Z
LAST-MODIFIED:20250116T225205Z
UID:10001910-1821727800-1821733200@aikido-contracosta.com
SUMMARY:Regular Class
DESCRIPTION:
URL:https://aikido-contracosta.com/events/regular-class-327-2/2027-09-23/
LOCATION:Wah Dojo
END:VEVENT
BEGIN:VEVENT
DTSTART;TZID=America/Los_Angeles:20270928T193000
DTEND;TZID=America/Los_Angeles:20270928T210000
DTSTAMP:20260424T020633
CREATED:20250116T225203Z
LAST-MODIFIED:20250116T225205Z
UID:10001911-1822159800-1822165200@aikido-contracosta.com
SUMMARY:Regular Class
DESCRIPTION:
URL:https://aikido-contracosta.com/events/regular-class-327-2/2027-09-28/
LOCATION:Wah Dojo
END:VEVENT
BEGIN:VEVENT
DTSTART;TZID=America/Los_Angeles:20270930T193000
DTEND;TZID=America/Los_Angeles:20270930T210000
DTSTAMP:20260424T020633
CREATED:20250116T225203Z
LAST-MODIFIED:20250116T225205Z
UID:10001912-1822332600-1822338000@aikido-contracosta.com
SUMMARY:Regular Class
DESCRIPTION:
URL:https://aikido-contracosta.com/events/regular-class-327-2/2027-09-30/
LOCATION:Wah Dojo
END:VEVENT
END:VCALENDAR