BEGIN:VCALENDAR
VERSION:2.0
PRODID:-//AikidoContraCosta.com - ECPv6.15.20//NONSGML v1.0//EN
CALSCALE:GREGORIAN
METHOD:PUBLISH
X-WR-CALNAME:AikidoContraCosta.com
X-ORIGINAL-URL:https://aikido-contracosta.com
X-WR-CALDESC:Events for AikidoContraCosta.com
REFRESH-INTERVAL;VALUE=DURATION:PT1H
X-Robots-Tag:noindex
X-PUBLISHED-TTL:PT1H
BEGIN:VTIMEZONE
TZID:America/Los_Angeles
BEGIN:DAYLIGHT
TZOFFSETFROM:-0800
TZOFFSETTO:-0700
TZNAME:PDT
DTSTART:20250309T100000
END:DAYLIGHT
BEGIN:STANDARD
TZOFFSETFROM:-0700
TZOFFSETTO:-0800
TZNAME:PST
DTSTART:20251102T090000
END:STANDARD
BEGIN:DAYLIGHT
TZOFFSETFROM:-0800
TZOFFSETTO:-0700
TZNAME:PDT
DTSTART:20260308T100000
END:DAYLIGHT
BEGIN:STANDARD
TZOFFSETFROM:-0700
TZOFFSETTO:-0800
TZNAME:PST
DTSTART:20261101T090000
END:STANDARD
BEGIN:DAYLIGHT
TZOFFSETFROM:-0800
TZOFFSETTO:-0700
TZNAME:PDT
DTSTART:20270314T100000
END:DAYLIGHT
BEGIN:STANDARD
TZOFFSETFROM:-0700
TZOFFSETTO:-0800
TZNAME:PST
DTSTART:20271107T090000
END:STANDARD
END:VTIMEZONE
BEGIN:VEVENT
DTSTART;TZID=America/Los_Angeles:20260421T193000
DTEND;TZID=America/Los_Angeles:20260421T210000
DTSTAMP:20260423T124107
CREATED:20250116T225203Z
LAST-MODIFIED:20250116T225205Z
UID:10001761-1776799800-1776805200@aikido-contracosta.com
SUMMARY:Regular Class
DESCRIPTION:
URL:https://aikido-contracosta.com/events/regular-class-327-2/2026-04-21/
LOCATION:Wah Dojo
END:VEVENT
BEGIN:VEVENT
DTSTART;TZID=America/Los_Angeles:20260416T193000
DTEND;TZID=America/Los_Angeles:20260416T210000
DTSTAMP:20260423T124107
CREATED:20250116T225203Z
LAST-MODIFIED:20250116T225205Z
UID:10001760-1776367800-1776373200@aikido-contracosta.com
SUMMARY:Regular Class
DESCRIPTION:
URL:https://aikido-contracosta.com/events/regular-class-327-2/2026-04-16/
LOCATION:Wah Dojo
END:VEVENT
BEGIN:VEVENT
DTSTART;TZID=America/Los_Angeles:20260414T193000
DTEND;TZID=America/Los_Angeles:20260414T210000
DTSTAMP:20260423T124107
CREATED:20250116T225203Z
LAST-MODIFIED:20250116T225205Z
UID:10001759-1776195000-1776200400@aikido-contracosta.com
SUMMARY:Regular Class
DESCRIPTION:
URL:https://aikido-contracosta.com/events/regular-class-327-2/2026-04-14/
LOCATION:Wah Dojo
END:VEVENT
BEGIN:VEVENT
DTSTART;TZID=America/Los_Angeles:20260409T193000
DTEND;TZID=America/Los_Angeles:20260409T210000
DTSTAMP:20260423T124107
CREATED:20250116T225203Z
LAST-MODIFIED:20250116T225205Z
UID:10001758-1775763000-1775768400@aikido-contracosta.com
SUMMARY:Regular Class
DESCRIPTION:
URL:https://aikido-contracosta.com/events/regular-class-327-2/2026-04-09/
LOCATION:Wah Dojo
END:VEVENT
BEGIN:VEVENT
DTSTART;TZID=America/Los_Angeles:20260407T193000
DTEND;TZID=America/Los_Angeles:20260407T210000
DTSTAMP:20260423T124107
CREATED:20250116T225203Z
LAST-MODIFIED:20250116T225205Z
UID:10001757-1775590200-1775595600@aikido-contracosta.com
SUMMARY:Regular Class
DESCRIPTION:
URL:https://aikido-contracosta.com/events/regular-class-327-2/2026-04-07/
LOCATION:Wah Dojo
END:VEVENT
BEGIN:VEVENT
DTSTART;TZID=America/Los_Angeles:20260402T193000
DTEND;TZID=America/Los_Angeles:20260402T210000
DTSTAMP:20260423T124107
CREATED:20260329T163603Z
LAST-MODIFIED:20260329T163915Z
UID:10001756-1775158200-1775163600@aikido-contracosta.com
SUMMARY:Regular Class
DESCRIPTION:
URL:https://aikido-contracosta.com/events/regular-class-377/
LOCATION:Wah Dojo
END:VEVENT
BEGIN:VEVENT
DTSTART;TZID=America/Los_Angeles:20260331T193000
DTEND;TZID=America/Los_Angeles:20260331T210000
DTSTAMP:20260423T124107
CREATED:20250116T225203Z
LAST-MODIFIED:20250116T225205Z
UID:10001755-1774985400-1774990800@aikido-contracosta.com
SUMMARY:Regular Class
DESCRIPTION:
URL:https://aikido-contracosta.com/events/regular-class-327-2/2026-03-31/
LOCATION:Wah Dojo
END:VEVENT
BEGIN:VEVENT
DTSTART;TZID=America/Los_Angeles:20260326T193000
DTEND;TZID=America/Los_Angeles:20260326T210000
DTSTAMP:20260423T124107
CREATED:20250116T225203Z
LAST-MODIFIED:20250116T225205Z
UID:10001754-1774553400-1774558800@aikido-contracosta.com
SUMMARY:Regular Class
DESCRIPTION:
URL:https://aikido-contracosta.com/events/regular-class-327-2/2026-03-26/
LOCATION:Wah Dojo
END:VEVENT
BEGIN:VEVENT
DTSTART;TZID=America/Los_Angeles:20260324T193000
DTEND;TZID=America/Los_Angeles:20260324T210000
DTSTAMP:20260423T124107
CREATED:20250116T225203Z
LAST-MODIFIED:20250116T225205Z
UID:10001753-1774380600-1774386000@aikido-contracosta.com
SUMMARY:Regular Class
DESCRIPTION:
URL:https://aikido-contracosta.com/events/regular-class-327-2/2026-03-24/
LOCATION:Wah Dojo
END:VEVENT
BEGIN:VEVENT
DTSTART;TZID=America/Los_Angeles:20260319T193000
DTEND;TZID=America/Los_Angeles:20260319T210000
DTSTAMP:20260423T124107
CREATED:20250116T225203Z
LAST-MODIFIED:20250116T225205Z
UID:10001752-1773948600-1773954000@aikido-contracosta.com
SUMMARY:Regular Class
DESCRIPTION:
URL:https://aikido-contracosta.com/events/regular-class-327-2/2026-03-19/
LOCATION:Wah Dojo
END:VEVENT
BEGIN:VEVENT
DTSTART;TZID=America/Los_Angeles:20260317T193000
DTEND;TZID=America/Los_Angeles:20260317T210000
DTSTAMP:20260423T124107
CREATED:20250116T225203Z
LAST-MODIFIED:20250116T225205Z
UID:10001751-1773775800-1773781200@aikido-contracosta.com
SUMMARY:Regular Class
DESCRIPTION:
URL:https://aikido-contracosta.com/events/regular-class-327-2/2026-03-17/
LOCATION:Wah Dojo
END:VEVENT
BEGIN:VEVENT
DTSTART;TZID=America/Los_Angeles:20260312T193000
DTEND;TZID=America/Los_Angeles:20260312T210000
DTSTAMP:20260423T124107
CREATED:20250116T225203Z
LAST-MODIFIED:20250116T225205Z
UID:10001750-1773343800-1773349200@aikido-contracosta.com
SUMMARY:Regular Class
DESCRIPTION:
URL:https://aikido-contracosta.com/events/regular-class-327-2/2026-03-12/
LOCATION:Wah Dojo
END:VEVENT
BEGIN:VEVENT
DTSTART;TZID=America/Los_Angeles:20260310T193000
DTEND;TZID=America/Los_Angeles:20260310T210000
DTSTAMP:20260423T124107
CREATED:20250116T225203Z
LAST-MODIFIED:20250116T225205Z
UID:10001749-1773171000-1773176400@aikido-contracosta.com
SUMMARY:Regular Class
DESCRIPTION:
URL:https://aikido-contracosta.com/events/regular-class-327-2/2026-03-10/
LOCATION:Wah Dojo
END:VEVENT
BEGIN:VEVENT
DTSTART;TZID=America/Los_Angeles:20260305T193000
DTEND;TZID=America/Los_Angeles:20260305T210000
DTSTAMP:20260423T124107
CREATED:20250116T225203Z
LAST-MODIFIED:20250116T225205Z
UID:10001748-1772739000-1772744400@aikido-contracosta.com
SUMMARY:Regular Class
DESCRIPTION:
URL:https://aikido-contracosta.com/events/regular-class-327-2/2026-03-05/
LOCATION:Wah Dojo
END:VEVENT
BEGIN:VEVENT
DTSTART;TZID=America/Los_Angeles:20260303T193000
DTEND;TZID=America/Los_Angeles:20260303T210000
DTSTAMP:20260423T124107
CREATED:20250116T225203Z
LAST-MODIFIED:20250116T225205Z
UID:10001747-1772566200-1772571600@aikido-contracosta.com
SUMMARY:Regular Class
DESCRIPTION:
URL:https://aikido-contracosta.com/events/regular-class-327-2/2026-03-03/
LOCATION:Wah Dojo
END:VEVENT
BEGIN:VEVENT
DTSTART;TZID=America/Los_Angeles:20260226T193000
DTEND;TZID=America/Los_Angeles:20260226T210000
DTSTAMP:20260423T124107
CREATED:20250116T225203Z
LAST-MODIFIED:20250116T225205Z
UID:10001746-1772134200-1772139600@aikido-contracosta.com
SUMMARY:Regular Class
DESCRIPTION:
URL:https://aikido-contracosta.com/events/regular-class-327-2/2026-02-26/
LOCATION:Wah Dojo
END:VEVENT
BEGIN:VEVENT
DTSTART;TZID=America/Los_Angeles:20260224T193000
DTEND;TZID=America/Los_Angeles:20260224T210000
DTSTAMP:20260423T124107
CREATED:20250116T225203Z
LAST-MODIFIED:20250116T225205Z
UID:10001745-1771961400-1771966800@aikido-contracosta.com
SUMMARY:Regular Class
DESCRIPTION:
URL:https://aikido-contracosta.com/events/regular-class-327-2/2026-02-24/
LOCATION:Wah Dojo
END:VEVENT
BEGIN:VEVENT
DTSTART;TZID=America/Los_Angeles:20260219T193000
DTEND;TZID=America/Los_Angeles:20260219T210000
DTSTAMP:20260423T124107
CREATED:20250116T225203Z
LAST-MODIFIED:20250116T225205Z
UID:10001744-1771529400-1771534800@aikido-contracosta.com
SUMMARY:Regular Class
DESCRIPTION:
URL:https://aikido-contracosta.com/events/regular-class-327-2/2026-02-19/
LOCATION:Wah Dojo
END:VEVENT
BEGIN:VEVENT
DTSTART;TZID=America/Los_Angeles:20260217T193000
DTEND;TZID=America/Los_Angeles:20260217T210000
DTSTAMP:20260423T124107
CREATED:20250116T225203Z
LAST-MODIFIED:20250116T225205Z
UID:10001743-1771356600-1771362000@aikido-contracosta.com
SUMMARY:Regular Class
DESCRIPTION:
URL:https://aikido-contracosta.com/events/regular-class-327-2/2026-02-17/
LOCATION:Wah Dojo
END:VEVENT
BEGIN:VEVENT
DTSTART;TZID=America/Los_Angeles:20260212T193000
DTEND;TZID=America/Los_Angeles:20260212T210000
DTSTAMP:20260423T124107
CREATED:20250116T225203Z
LAST-MODIFIED:20250116T225205Z
UID:10001742-1770924600-1770930000@aikido-contracosta.com
SUMMARY:Regular Class
DESCRIPTION:
URL:https://aikido-contracosta.com/events/regular-class-327-2/2026-02-12/
LOCATION:Wah Dojo
END:VEVENT
BEGIN:VEVENT
DTSTART;TZID=America/Los_Angeles:20260210T193000
DTEND;TZID=America/Los_Angeles:20260210T210000
DTSTAMP:20260423T124107
CREATED:20250116T225203Z
LAST-MODIFIED:20250116T225205Z
UID:10001741-1770751800-1770757200@aikido-contracosta.com
SUMMARY:Regular Class
DESCRIPTION:
URL:https://aikido-contracosta.com/events/regular-class-327-2/2026-02-10/
LOCATION:Wah Dojo
END:VEVENT
BEGIN:VEVENT
DTSTART;TZID=America/Los_Angeles:20260205T193000
DTEND;TZID=America/Los_Angeles:20260205T210000
DTSTAMP:20260423T124107
CREATED:20250116T225203Z
LAST-MODIFIED:20250116T225205Z
UID:10001740-1770319800-1770325200@aikido-contracosta.com
SUMMARY:Regular Class
DESCRIPTION:
URL:https://aikido-contracosta.com/events/regular-class-327-2/2026-02-05/
LOCATION:Wah Dojo
END:VEVENT
BEGIN:VEVENT
DTSTART;TZID=America/Los_Angeles:20260203T193000
DTEND;TZID=America/Los_Angeles:20260203T210000
DTSTAMP:20260423T124107
CREATED:20250116T225203Z
LAST-MODIFIED:20250116T225205Z
UID:10001739-1770147000-1770152400@aikido-contracosta.com
SUMMARY:Regular Class
DESCRIPTION:
URL:https://aikido-contracosta.com/events/regular-class-327-2/2026-02-03/
LOCATION:Wah Dojo
END:VEVENT
BEGIN:VEVENT
DTSTART;TZID=America/Los_Angeles:20260129T193000
DTEND;TZID=America/Los_Angeles:20260129T210000
DTSTAMP:20260423T124107
CREATED:20250116T225203Z
LAST-MODIFIED:20250116T225205Z
UID:10001738-1769715000-1769720400@aikido-contracosta.com
SUMMARY:Regular Class
DESCRIPTION:
URL:https://aikido-contracosta.com/events/regular-class-327-2/2026-01-29/
LOCATION:Wah Dojo
END:VEVENT
BEGIN:VEVENT
DTSTART;TZID=America/Los_Angeles:20260127T193000
DTEND;TZID=America/Los_Angeles:20260127T210000
DTSTAMP:20260423T124107
CREATED:20250116T225203Z
LAST-MODIFIED:20250116T225205Z
UID:10001737-1769542200-1769547600@aikido-contracosta.com
SUMMARY:Regular Class
DESCRIPTION:
URL:https://aikido-contracosta.com/events/regular-class-327-2/2026-01-27/
LOCATION:Wah Dojo
END:VEVENT
BEGIN:VEVENT
DTSTART;TZID=America/Los_Angeles:20260122T193000
DTEND;TZID=America/Los_Angeles:20260122T210000
DTSTAMP:20260423T124107
CREATED:20250116T225203Z
LAST-MODIFIED:20250116T225205Z
UID:10001736-1769110200-1769115600@aikido-contracosta.com
SUMMARY:Regular Class
DESCRIPTION:
URL:https://aikido-contracosta.com/events/regular-class-327-2/2026-01-22/
LOCATION:Wah Dojo
END:VEVENT
BEGIN:VEVENT
DTSTART;TZID=America/Los_Angeles:20260120T193000
DTEND;TZID=America/Los_Angeles:20260120T210000
DTSTAMP:20260423T124107
CREATED:20250116T225203Z
LAST-MODIFIED:20250116T225205Z
UID:10001735-1768937400-1768942800@aikido-contracosta.com
SUMMARY:Regular Class
DESCRIPTION:
URL:https://aikido-contracosta.com/events/regular-class-327-2/2026-01-20/
LOCATION:Wah Dojo
END:VEVENT
BEGIN:VEVENT
DTSTART;TZID=America/Los_Angeles:20260115T193000
DTEND;TZID=America/Los_Angeles:20260115T210000
DTSTAMP:20260423T124107
CREATED:20250116T225203Z
LAST-MODIFIED:20250116T225205Z
UID:10001734-1768505400-1768510800@aikido-contracosta.com
SUMMARY:Regular Class
DESCRIPTION:
URL:https://aikido-contracosta.com/events/regular-class-327-2/2026-01-15/
LOCATION:Wah Dojo
END:VEVENT
BEGIN:VEVENT
DTSTART;TZID=America/Los_Angeles:20260113T193000
DTEND;TZID=America/Los_Angeles:20260113T210000
DTSTAMP:20260423T124107
CREATED:20250116T225203Z
LAST-MODIFIED:20250116T225205Z
UID:10001733-1768332600-1768338000@aikido-contracosta.com
SUMMARY:Regular Class
DESCRIPTION:
URL:https://aikido-contracosta.com/events/regular-class-327-2/2026-01-13/
LOCATION:Wah Dojo
END:VEVENT
BEGIN:VEVENT
DTSTART;TZID=America/Los_Angeles:20260108T193000
DTEND;TZID=America/Los_Angeles:20260108T210000
DTSTAMP:20260423T124107
CREATED:20250116T225203Z
LAST-MODIFIED:20250116T225205Z
UID:10001732-1767900600-1767906000@aikido-contracosta.com
SUMMARY:Regular Class
DESCRIPTION:
URL:https://aikido-contracosta.com/events/regular-class-327-2/2026-01-08/
LOCATION:Wah Dojo
END:VEVENT
END:VCALENDAR