BEGIN:VCALENDAR
VERSION:2.0
PRODID:-//AikidoContraCosta.com - ECPv6.15.20//NONSGML v1.0//EN
CALSCALE:GREGORIAN
METHOD:PUBLISH
X-WR-CALNAME:AikidoContraCosta.com
X-ORIGINAL-URL:https://aikido-contracosta.com
X-WR-CALDESC:Events for AikidoContraCosta.com
REFRESH-INTERVAL;VALUE=DURATION:PT1H
X-Robots-Tag:noindex
X-PUBLISHED-TTL:PT1H
BEGIN:VTIMEZONE
TZID:America/Los_Angeles
BEGIN:DAYLIGHT
TZOFFSETFROM:-0800
TZOFFSETTO:-0700
TZNAME:PDT
DTSTART:20250309T100000
END:DAYLIGHT
BEGIN:STANDARD
TZOFFSETFROM:-0700
TZOFFSETTO:-0800
TZNAME:PST
DTSTART:20251102T090000
END:STANDARD
BEGIN:DAYLIGHT
TZOFFSETFROM:-0800
TZOFFSETTO:-0700
TZNAME:PDT
DTSTART:20260308T100000
END:DAYLIGHT
BEGIN:STANDARD
TZOFFSETFROM:-0700
TZOFFSETTO:-0800
TZNAME:PST
DTSTART:20261101T090000
END:STANDARD
BEGIN:DAYLIGHT
TZOFFSETFROM:-0800
TZOFFSETTO:-0700
TZNAME:PDT
DTSTART:20270314T100000
END:DAYLIGHT
BEGIN:STANDARD
TZOFFSETFROM:-0700
TZOFFSETTO:-0800
TZNAME:PST
DTSTART:20271107T090000
END:STANDARD
END:VTIMEZONE
BEGIN:VEVENT
DTSTART;TZID=America/Los_Angeles:20261114T120000
DTEND;TZID=America/Los_Angeles:20261114T140000
DTSTAMP:20260423T154146
CREATED:20260331T194441Z
LAST-MODIFIED:20260331T194627Z
UID:10003405-1794657600-1794664800@aikido-contracosta.com
SUMMARY:Regular Class
DESCRIPTION:
URL:https://aikido-contracosta.com/events/regular-class-379/2026-11-14/
LOCATION:Wah Dojo New Location\, 1436 Royal Industrial Way\, Concord\, CA\, 94520\, United States
END:VEVENT
BEGIN:VEVENT
DTSTART;TZID=America/Los_Angeles:20261121T120000
DTEND;TZID=America/Los_Angeles:20261121T140000
DTSTAMP:20260423T154146
CREATED:20260331T194441Z
LAST-MODIFIED:20260331T194627Z
UID:10003406-1795262400-1795269600@aikido-contracosta.com
SUMMARY:Regular Class
DESCRIPTION:
URL:https://aikido-contracosta.com/events/regular-class-379/2026-11-21/
LOCATION:Wah Dojo New Location\, 1436 Royal Industrial Way\, Concord\, CA\, 94520\, United States
END:VEVENT
BEGIN:VEVENT
DTSTART;TZID=America/Los_Angeles:20261128T120000
DTEND;TZID=America/Los_Angeles:20261128T140000
DTSTAMP:20260423T154146
CREATED:20260331T194441Z
LAST-MODIFIED:20260331T194627Z
UID:10003407-1795867200-1795874400@aikido-contracosta.com
SUMMARY:Regular Class
DESCRIPTION:
URL:https://aikido-contracosta.com/events/regular-class-379/2026-11-28/
LOCATION:Wah Dojo New Location\, 1436 Royal Industrial Way\, Concord\, CA\, 94520\, United States
END:VEVENT
BEGIN:VEVENT
DTSTART;TZID=America/Los_Angeles:20261205T120000
DTEND;TZID=America/Los_Angeles:20261205T140000
DTSTAMP:20260423T154146
CREATED:20260331T194441Z
LAST-MODIFIED:20260331T194627Z
UID:10003408-1796472000-1796479200@aikido-contracosta.com
SUMMARY:Regular Class
DESCRIPTION:
URL:https://aikido-contracosta.com/events/regular-class-379/2026-12-05/
LOCATION:Wah Dojo New Location\, 1436 Royal Industrial Way\, Concord\, CA\, 94520\, United States
END:VEVENT
BEGIN:VEVENT
DTSTART;TZID=America/Los_Angeles:20261212T120000
DTEND;TZID=America/Los_Angeles:20261212T140000
DTSTAMP:20260423T154146
CREATED:20260331T194441Z
LAST-MODIFIED:20260331T194627Z
UID:10003409-1797076800-1797084000@aikido-contracosta.com
SUMMARY:Regular Class
DESCRIPTION:
URL:https://aikido-contracosta.com/events/regular-class-379/2026-12-12/
LOCATION:Wah Dojo New Location\, 1436 Royal Industrial Way\, Concord\, CA\, 94520\, United States
END:VEVENT
BEGIN:VEVENT
DTSTART;TZID=America/Los_Angeles:20261219T120000
DTEND;TZID=America/Los_Angeles:20261219T140000
DTSTAMP:20260423T154146
CREATED:20260331T194441Z
LAST-MODIFIED:20260331T194627Z
UID:10003410-1797681600-1797688800@aikido-contracosta.com
SUMMARY:Regular Class
DESCRIPTION:
URL:https://aikido-contracosta.com/events/regular-class-379/2026-12-19/
LOCATION:Wah Dojo New Location\, 1436 Royal Industrial Way\, Concord\, CA\, 94520\, United States
END:VEVENT
END:VCALENDAR