BEGIN:VCALENDAR
VERSION:2.0
PRODID:-//AikidoContraCosta.com - ECPv6.15.20//NONSGML v1.0//EN
CALSCALE:GREGORIAN
METHOD:PUBLISH
X-ORIGINAL-URL:https://aikido-contracosta.com
X-WR-CALDESC:Events for AikidoContraCosta.com
REFRESH-INTERVAL;VALUE=DURATION:PT1H
X-Robots-Tag:noindex
X-PUBLISHED-TTL:PT1H
BEGIN:VTIMEZONE
TZID:America/Los_Angeles
BEGIN:DAYLIGHT
TZOFFSETFROM:-0800
TZOFFSETTO:-0700
TZNAME:PDT
DTSTART:20250309T100000
END:DAYLIGHT
BEGIN:STANDARD
TZOFFSETFROM:-0700
TZOFFSETTO:-0800
TZNAME:PST
DTSTART:20251102T090000
END:STANDARD
BEGIN:DAYLIGHT
TZOFFSETFROM:-0800
TZOFFSETTO:-0700
TZNAME:PDT
DTSTART:20260308T100000
END:DAYLIGHT
BEGIN:STANDARD
TZOFFSETFROM:-0700
TZOFFSETTO:-0800
TZNAME:PST
DTSTART:20261101T090000
END:STANDARD
BEGIN:DAYLIGHT
TZOFFSETFROM:-0800
TZOFFSETTO:-0700
TZNAME:PDT
DTSTART:20270314T100000
END:DAYLIGHT
BEGIN:STANDARD
TZOFFSETFROM:-0700
TZOFFSETTO:-0800
TZNAME:PST
DTSTART:20271107T090000
END:STANDARD
END:VTIMEZONE
BEGIN:VEVENT
DTSTART;TZID=America/Los_Angeles:20260606T120000
DTEND;TZID=America/Los_Angeles:20260606T140000
DTSTAMP:20260423T135937
CREATED:20260331T194441Z
LAST-MODIFIED:20260331T194627Z
UID:10003382-1780747200-1780754400@aikido-contracosta.com
SUMMARY:Regular Class
DESCRIPTION:
URL:https://aikido-contracosta.com/events/regular-class-379/2026-06-06/
LOCATION:Wah Dojo New Location\, 1436 Royal Industrial Way\, Concord\, CA\, 94520\, United States
END:VEVENT
BEGIN:VEVENT
DTSTART;TZID=America/Los_Angeles:20260613T120000
DTEND;TZID=America/Los_Angeles:20260613T140000
DTSTAMP:20260423T135937
CREATED:20260331T194441Z
LAST-MODIFIED:20260331T194627Z
UID:10003383-1781352000-1781359200@aikido-contracosta.com
SUMMARY:Regular Class
DESCRIPTION:
URL:https://aikido-contracosta.com/events/regular-class-379/2026-06-13/
LOCATION:Wah Dojo New Location\, 1436 Royal Industrial Way\, Concord\, CA\, 94520\, United States
END:VEVENT
BEGIN:VEVENT
DTSTART;TZID=America/Los_Angeles:20260620T120000
DTEND;TZID=America/Los_Angeles:20260620T140000
DTSTAMP:20260423T135937
CREATED:20260326T010811Z
LAST-MODIFIED:20260326T010830Z
UID:10003253-1781956800-1781964000@aikido-contracosta.com
SUMMARY:Dojo Closed ASL Seminar
DESCRIPTION:
URL:https://aikido-contracosta.com/events/regular-class-376/
LOCATION:Wah Dojo New Location\, 1436 Royal Industrial Way\, Concord\, CA\, 94520\, United States
END:VEVENT
BEGIN:VEVENT
DTSTART;TZID=America/Los_Angeles:20260620T120000
DTEND;TZID=America/Los_Angeles:20260620T140000
DTSTAMP:20260423T135937
CREATED:20260331T194441Z
LAST-MODIFIED:20260331T194627Z
UID:10003384-1781956800-1781964000@aikido-contracosta.com
SUMMARY:Regular Class
DESCRIPTION:
URL:https://aikido-contracosta.com/events/regular-class-379/2026-06-20/
LOCATION:Wah Dojo New Location\, 1436 Royal Industrial Way\, Concord\, CA\, 94520\, United States
END:VEVENT
BEGIN:VEVENT
DTSTART;TZID=America/Los_Angeles:20260627T120000
DTEND;TZID=America/Los_Angeles:20260627T140000
DTSTAMP:20260423T135937
CREATED:20260331T194441Z
LAST-MODIFIED:20260331T194627Z
UID:10003385-1782561600-1782568800@aikido-contracosta.com
SUMMARY:Regular Class
DESCRIPTION:
URL:https://aikido-contracosta.com/events/regular-class-379/2026-06-27/
LOCATION:Wah Dojo New Location\, 1436 Royal Industrial Way\, Concord\, CA\, 94520\, United States
END:VEVENT
BEGIN:VEVENT
DTSTART;TZID=America/Los_Angeles:20260704T120000
DTEND;TZID=America/Los_Angeles:20260704T140000
DTSTAMP:20260423T135937
CREATED:20260331T194441Z
LAST-MODIFIED:20260331T194627Z
UID:10003386-1783166400-1783173600@aikido-contracosta.com
SUMMARY:Regular Class
DESCRIPTION:
URL:https://aikido-contracosta.com/events/regular-class-379/2026-07-04/
LOCATION:Wah Dojo New Location\, 1436 Royal Industrial Way\, Concord\, CA\, 94520\, United States
END:VEVENT
BEGIN:VEVENT
DTSTART;TZID=America/Los_Angeles:20260711T120000
DTEND;TZID=America/Los_Angeles:20260711T140000
DTSTAMP:20260423T135937
CREATED:20260331T194441Z
LAST-MODIFIED:20260331T194627Z
UID:10003387-1783771200-1783778400@aikido-contracosta.com
SUMMARY:Regular Class
DESCRIPTION:
URL:https://aikido-contracosta.com/events/regular-class-379/2026-07-11/
LOCATION:Wah Dojo New Location\, 1436 Royal Industrial Way\, Concord\, CA\, 94520\, United States
END:VEVENT
BEGIN:VEVENT
DTSTART;TZID=America/Los_Angeles:20260718T120000
DTEND;TZID=America/Los_Angeles:20260718T140000
DTSTAMP:20260423T135937
CREATED:20260331T194441Z
LAST-MODIFIED:20260331T194627Z
UID:10003388-1784376000-1784383200@aikido-contracosta.com
SUMMARY:Regular Class
DESCRIPTION:
URL:https://aikido-contracosta.com/events/regular-class-379/2026-07-18/
LOCATION:Wah Dojo New Location\, 1436 Royal Industrial Way\, Concord\, CA\, 94520\, United States
END:VEVENT
BEGIN:VEVENT
DTSTART;TZID=America/Los_Angeles:20260725T120000
DTEND;TZID=America/Los_Angeles:20260725T140000
DTSTAMP:20260423T135937
CREATED:20260331T194441Z
LAST-MODIFIED:20260331T194627Z
UID:10003389-1784980800-1784988000@aikido-contracosta.com
SUMMARY:Regular Class
DESCRIPTION:
URL:https://aikido-contracosta.com/events/regular-class-379/2026-07-25/
LOCATION:Wah Dojo New Location\, 1436 Royal Industrial Way\, Concord\, CA\, 94520\, United States
END:VEVENT
BEGIN:VEVENT
DTSTART;TZID=America/Los_Angeles:20260801T120000
DTEND;TZID=America/Los_Angeles:20260801T140000
DTSTAMP:20260423T135937
CREATED:20260331T194441Z
LAST-MODIFIED:20260331T194627Z
UID:10003390-1785585600-1785592800@aikido-contracosta.com
SUMMARY:Regular Class
DESCRIPTION:
URL:https://aikido-contracosta.com/events/regular-class-379/2026-08-01/
LOCATION:Wah Dojo New Location\, 1436 Royal Industrial Way\, Concord\, CA\, 94520\, United States
END:VEVENT
BEGIN:VEVENT
DTSTART;TZID=America/Los_Angeles:20260808T120000
DTEND;TZID=America/Los_Angeles:20260808T140000
DTSTAMP:20260423T135937
CREATED:20260331T194441Z
LAST-MODIFIED:20260331T194627Z
UID:10003391-1786190400-1786197600@aikido-contracosta.com
SUMMARY:Regular Class
DESCRIPTION:
URL:https://aikido-contracosta.com/events/regular-class-379/2026-08-08/
LOCATION:Wah Dojo New Location\, 1436 Royal Industrial Way\, Concord\, CA\, 94520\, United States
END:VEVENT
BEGIN:VEVENT
DTSTART;TZID=America/Los_Angeles:20260815T120000
DTEND;TZID=America/Los_Angeles:20260815T140000
DTSTAMP:20260423T135937
CREATED:20260331T194441Z
LAST-MODIFIED:20260331T194627Z
UID:10003392-1786795200-1786802400@aikido-contracosta.com
SUMMARY:Regular Class
DESCRIPTION:
URL:https://aikido-contracosta.com/events/regular-class-379/2026-08-15/
LOCATION:Wah Dojo New Location\, 1436 Royal Industrial Way\, Concord\, CA\, 94520\, United States
END:VEVENT
BEGIN:VEVENT
DTSTART;TZID=America/Los_Angeles:20260822T120000
DTEND;TZID=America/Los_Angeles:20260822T140000
DTSTAMP:20260423T135937
CREATED:20260331T194441Z
LAST-MODIFIED:20260331T194627Z
UID:10003393-1787400000-1787407200@aikido-contracosta.com
SUMMARY:Regular Class
DESCRIPTION:
URL:https://aikido-contracosta.com/events/regular-class-379/2026-08-22/
LOCATION:Wah Dojo New Location\, 1436 Royal Industrial Way\, Concord\, CA\, 94520\, United States
END:VEVENT
BEGIN:VEVENT
DTSTART;TZID=America/Los_Angeles:20260829T120000
DTEND;TZID=America/Los_Angeles:20260829T140000
DTSTAMP:20260423T135937
CREATED:20260331T194441Z
LAST-MODIFIED:20260331T194627Z
UID:10003394-1788004800-1788012000@aikido-contracosta.com
SUMMARY:Regular Class
DESCRIPTION:
URL:https://aikido-contracosta.com/events/regular-class-379/2026-08-29/
LOCATION:Wah Dojo New Location\, 1436 Royal Industrial Way\, Concord\, CA\, 94520\, United States
END:VEVENT
BEGIN:VEVENT
DTSTART;TZID=America/Los_Angeles:20260905T120000
DTEND;TZID=America/Los_Angeles:20260905T140000
DTSTAMP:20260423T135937
CREATED:20260331T194441Z
LAST-MODIFIED:20260331T194627Z
UID:10003395-1788609600-1788616800@aikido-contracosta.com
SUMMARY:Regular Class
DESCRIPTION:
URL:https://aikido-contracosta.com/events/regular-class-379/2026-09-05/
LOCATION:Wah Dojo New Location\, 1436 Royal Industrial Way\, Concord\, CA\, 94520\, United States
END:VEVENT
BEGIN:VEVENT
DTSTART;TZID=America/Los_Angeles:20260912T120000
DTEND;TZID=America/Los_Angeles:20260912T140000
DTSTAMP:20260423T135937
CREATED:20260331T194441Z
LAST-MODIFIED:20260331T194627Z
UID:10003396-1789214400-1789221600@aikido-contracosta.com
SUMMARY:Regular Class
DESCRIPTION:
URL:https://aikido-contracosta.com/events/regular-class-379/2026-09-12/
LOCATION:Wah Dojo New Location\, 1436 Royal Industrial Way\, Concord\, CA\, 94520\, United States
END:VEVENT
BEGIN:VEVENT
DTSTART;TZID=America/Los_Angeles:20260919T120000
DTEND;TZID=America/Los_Angeles:20260919T140000
DTSTAMP:20260423T135937
CREATED:20260331T194441Z
LAST-MODIFIED:20260331T194627Z
UID:10003397-1789819200-1789826400@aikido-contracosta.com
SUMMARY:Regular Class
DESCRIPTION:
URL:https://aikido-contracosta.com/events/regular-class-379/2026-09-19/
LOCATION:Wah Dojo New Location\, 1436 Royal Industrial Way\, Concord\, CA\, 94520\, United States
END:VEVENT
BEGIN:VEVENT
DTSTART;TZID=America/Los_Angeles:20260926T120000
DTEND;TZID=America/Los_Angeles:20260926T140000
DTSTAMP:20260423T135937
CREATED:20260331T194441Z
LAST-MODIFIED:20260331T194627Z
UID:10003398-1790424000-1790431200@aikido-contracosta.com
SUMMARY:Regular Class
DESCRIPTION:
URL:https://aikido-contracosta.com/events/regular-class-379/2026-09-26/
LOCATION:Wah Dojo New Location\, 1436 Royal Industrial Way\, Concord\, CA\, 94520\, United States
END:VEVENT
BEGIN:VEVENT
DTSTART;TZID=America/Los_Angeles:20261003T120000
DTEND;TZID=America/Los_Angeles:20261003T140000
DTSTAMP:20260423T135937
CREATED:20260331T194441Z
LAST-MODIFIED:20260331T194627Z
UID:10003399-1791028800-1791036000@aikido-contracosta.com
SUMMARY:Regular Class
DESCRIPTION:
URL:https://aikido-contracosta.com/events/regular-class-379/2026-10-03/
LOCATION:Wah Dojo New Location\, 1436 Royal Industrial Way\, Concord\, CA\, 94520\, United States
END:VEVENT
BEGIN:VEVENT
DTSTART;TZID=America/Los_Angeles:20261010T120000
DTEND;TZID=America/Los_Angeles:20261010T140000
DTSTAMP:20260423T135937
CREATED:20260331T194441Z
LAST-MODIFIED:20260331T194627Z
UID:10003400-1791633600-1791640800@aikido-contracosta.com
SUMMARY:Regular Class
DESCRIPTION:
URL:https://aikido-contracosta.com/events/regular-class-379/2026-10-10/
LOCATION:Wah Dojo New Location\, 1436 Royal Industrial Way\, Concord\, CA\, 94520\, United States
END:VEVENT
BEGIN:VEVENT
DTSTART;TZID=America/Los_Angeles:20261017T120000
DTEND;TZID=America/Los_Angeles:20261017T140000
DTSTAMP:20260423T135937
CREATED:20260331T194441Z
LAST-MODIFIED:20260331T194627Z
UID:10003401-1792238400-1792245600@aikido-contracosta.com
SUMMARY:Regular Class
DESCRIPTION:
URL:https://aikido-contracosta.com/events/regular-class-379/2026-10-17/
LOCATION:Wah Dojo New Location\, 1436 Royal Industrial Way\, Concord\, CA\, 94520\, United States
END:VEVENT
BEGIN:VEVENT
DTSTART;TZID=America/Los_Angeles:20261024T120000
DTEND;TZID=America/Los_Angeles:20261024T140000
DTSTAMP:20260423T135937
CREATED:20260331T194441Z
LAST-MODIFIED:20260331T194627Z
UID:10003402-1792843200-1792850400@aikido-contracosta.com
SUMMARY:Regular Class
DESCRIPTION:
URL:https://aikido-contracosta.com/events/regular-class-379/2026-10-24/
LOCATION:Wah Dojo New Location\, 1436 Royal Industrial Way\, Concord\, CA\, 94520\, United States
END:VEVENT
BEGIN:VEVENT
DTSTART;TZID=America/Los_Angeles:20261031T120000
DTEND;TZID=America/Los_Angeles:20261031T140000
DTSTAMP:20260423T135937
CREATED:20260331T194441Z
LAST-MODIFIED:20260331T194627Z
UID:10003403-1793448000-1793455200@aikido-contracosta.com
SUMMARY:Regular Class
DESCRIPTION:
URL:https://aikido-contracosta.com/events/regular-class-379/2026-10-31/
LOCATION:Wah Dojo New Location\, 1436 Royal Industrial Way\, Concord\, CA\, 94520\, United States
END:VEVENT
BEGIN:VEVENT
DTSTART;TZID=America/Los_Angeles:20261107T120000
DTEND;TZID=America/Los_Angeles:20261107T140000
DTSTAMP:20260423T135937
CREATED:20260331T194441Z
LAST-MODIFIED:20260331T194627Z
UID:10003404-1794052800-1794060000@aikido-contracosta.com
SUMMARY:Regular Class
DESCRIPTION:
URL:https://aikido-contracosta.com/events/regular-class-379/2026-11-07/
LOCATION:Wah Dojo New Location\, 1436 Royal Industrial Way\, Concord\, CA\, 94520\, United States
END:VEVENT
BEGIN:VEVENT
DTSTART;TZID=America/Los_Angeles:20261114T120000
DTEND;TZID=America/Los_Angeles:20261114T140000
DTSTAMP:20260423T135937
CREATED:20260331T194441Z
LAST-MODIFIED:20260331T194627Z
UID:10003405-1794657600-1794664800@aikido-contracosta.com
SUMMARY:Regular Class
DESCRIPTION:
URL:https://aikido-contracosta.com/events/regular-class-379/2026-11-14/
LOCATION:Wah Dojo New Location\, 1436 Royal Industrial Way\, Concord\, CA\, 94520\, United States
END:VEVENT
BEGIN:VEVENT
DTSTART;TZID=America/Los_Angeles:20261121T120000
DTEND;TZID=America/Los_Angeles:20261121T140000
DTSTAMP:20260423T135937
CREATED:20260331T194441Z
LAST-MODIFIED:20260331T194627Z
UID:10003406-1795262400-1795269600@aikido-contracosta.com
SUMMARY:Regular Class
DESCRIPTION:
URL:https://aikido-contracosta.com/events/regular-class-379/2026-11-21/
LOCATION:Wah Dojo New Location\, 1436 Royal Industrial Way\, Concord\, CA\, 94520\, United States
END:VEVENT
BEGIN:VEVENT
DTSTART;TZID=America/Los_Angeles:20261128T120000
DTEND;TZID=America/Los_Angeles:20261128T140000
DTSTAMP:20260423T135937
CREATED:20260331T194441Z
LAST-MODIFIED:20260331T194627Z
UID:10003407-1795867200-1795874400@aikido-contracosta.com
SUMMARY:Regular Class
DESCRIPTION:
URL:https://aikido-contracosta.com/events/regular-class-379/2026-11-28/
LOCATION:Wah Dojo New Location\, 1436 Royal Industrial Way\, Concord\, CA\, 94520\, United States
END:VEVENT
BEGIN:VEVENT
DTSTART;TZID=America/Los_Angeles:20261205T120000
DTEND;TZID=America/Los_Angeles:20261205T140000
DTSTAMP:20260423T135937
CREATED:20260331T194441Z
LAST-MODIFIED:20260331T194627Z
UID:10003408-1796472000-1796479200@aikido-contracosta.com
SUMMARY:Regular Class
DESCRIPTION:
URL:https://aikido-contracosta.com/events/regular-class-379/2026-12-05/
LOCATION:Wah Dojo New Location\, 1436 Royal Industrial Way\, Concord\, CA\, 94520\, United States
END:VEVENT
BEGIN:VEVENT
DTSTART;TZID=America/Los_Angeles:20261212T120000
DTEND;TZID=America/Los_Angeles:20261212T140000
DTSTAMP:20260423T135937
CREATED:20260331T194441Z
LAST-MODIFIED:20260331T194627Z
UID:10003409-1797076800-1797084000@aikido-contracosta.com
SUMMARY:Regular Class
DESCRIPTION:
URL:https://aikido-contracosta.com/events/regular-class-379/2026-12-12/
LOCATION:Wah Dojo New Location\, 1436 Royal Industrial Way\, Concord\, CA\, 94520\, United States
END:VEVENT
BEGIN:VEVENT
DTSTART;TZID=America/Los_Angeles:20261219T120000
DTEND;TZID=America/Los_Angeles:20261219T140000
DTSTAMP:20260423T135937
CREATED:20260331T194441Z
LAST-MODIFIED:20260331T194627Z
UID:10003410-1797681600-1797688800@aikido-contracosta.com
SUMMARY:Regular Class
DESCRIPTION:
URL:https://aikido-contracosta.com/events/regular-class-379/2026-12-19/
LOCATION:Wah Dojo New Location\, 1436 Royal Industrial Way\, Concord\, CA\, 94520\, United States
END:VEVENT
END:VCALENDAR