BEGIN:VCALENDAR
VERSION:2.0
PRODID:-//AikidoContraCosta.com - ECPv6.15.20//NONSGML v1.0//EN
CALSCALE:GREGORIAN
METHOD:PUBLISH
X-ORIGINAL-URL:https://aikido-contracosta.com
X-WR-CALDESC:Events for AikidoContraCosta.com
REFRESH-INTERVAL;VALUE=DURATION:PT1H
X-Robots-Tag:noindex
X-PUBLISHED-TTL:PT1H
BEGIN:VTIMEZONE
TZID:America/Los_Angeles
BEGIN:DAYLIGHT
TZOFFSETFROM:-0800
TZOFFSETTO:-0700
TZNAME:PDT
DTSTART:20260308T100000
END:DAYLIGHT
BEGIN:STANDARD
TZOFFSETFROM:-0700
TZOFFSETTO:-0800
TZNAME:PST
DTSTART:20261101T090000
END:STANDARD
BEGIN:DAYLIGHT
TZOFFSETFROM:-0800
TZOFFSETTO:-0700
TZNAME:PDT
DTSTART:20270314T100000
END:DAYLIGHT
BEGIN:STANDARD
TZOFFSETFROM:-0700
TZOFFSETTO:-0800
TZNAME:PST
DTSTART:20271107T090000
END:STANDARD
BEGIN:DAYLIGHT
TZOFFSETFROM:-0800
TZOFFSETTO:-0700
TZNAME:PDT
DTSTART:20280312T100000
END:DAYLIGHT
BEGIN:STANDARD
TZOFFSETFROM:-0700
TZOFFSETTO:-0800
TZNAME:PST
DTSTART:20281105T090000
END:STANDARD
END:VTIMEZONE
BEGIN:VEVENT
DTSTART;TZID=America/Los_Angeles:20270623T190000
DTEND;TZID=America/Los_Angeles:20270623T203000
DTSTAMP:20260423T184355
CREATED:20260331T194306Z
LAST-MODIFIED:20260331T194306Z
UID:10003350-1813777200-1813782600@aikido-contracosta.com
SUMMARY:Regular Class
DESCRIPTION:
URL:https://aikido-contracosta.com/events/regular-class-378/2027-06-23/
LOCATION:St. Marks Church
END:VEVENT
BEGIN:VEVENT
DTSTART;TZID=America/Los_Angeles:20270630T190000
DTEND;TZID=America/Los_Angeles:20270630T203000
DTSTAMP:20260423T184355
CREATED:20260331T194306Z
LAST-MODIFIED:20260331T194306Z
UID:10003351-1814382000-1814387400@aikido-contracosta.com
SUMMARY:Regular Class
DESCRIPTION:
URL:https://aikido-contracosta.com/events/regular-class-378/2027-06-30/
LOCATION:St. Marks Church
END:VEVENT
BEGIN:VEVENT
DTSTART;TZID=America/Los_Angeles:20270707T190000
DTEND;TZID=America/Los_Angeles:20270707T203000
DTSTAMP:20260423T184355
CREATED:20260331T194306Z
LAST-MODIFIED:20260331T194306Z
UID:10003352-1814986800-1814992200@aikido-contracosta.com
SUMMARY:Regular Class
DESCRIPTION:
URL:https://aikido-contracosta.com/events/regular-class-378/2027-07-07/
LOCATION:St. Marks Church
END:VEVENT
BEGIN:VEVENT
DTSTART;TZID=America/Los_Angeles:20270714T190000
DTEND;TZID=America/Los_Angeles:20270714T203000
DTSTAMP:20260423T184355
CREATED:20260331T194306Z
LAST-MODIFIED:20260331T194306Z
UID:10003353-1815591600-1815597000@aikido-contracosta.com
SUMMARY:Regular Class
DESCRIPTION:
URL:https://aikido-contracosta.com/events/regular-class-378/2027-07-14/
LOCATION:St. Marks Church
END:VEVENT
BEGIN:VEVENT
DTSTART;TZID=America/Los_Angeles:20270721T190000
DTEND;TZID=America/Los_Angeles:20270721T203000
DTSTAMP:20260423T184355
CREATED:20260331T194306Z
LAST-MODIFIED:20260331T194306Z
UID:10003354-1816196400-1816201800@aikido-contracosta.com
SUMMARY:Regular Class
DESCRIPTION:
URL:https://aikido-contracosta.com/events/regular-class-378/2027-07-21/
LOCATION:St. Marks Church
END:VEVENT
BEGIN:VEVENT
DTSTART;TZID=America/Los_Angeles:20270728T190000
DTEND;TZID=America/Los_Angeles:20270728T203000
DTSTAMP:20260423T184355
CREATED:20260331T194306Z
LAST-MODIFIED:20260331T194306Z
UID:10003355-1816801200-1816806600@aikido-contracosta.com
SUMMARY:Regular Class
DESCRIPTION:
URL:https://aikido-contracosta.com/events/regular-class-378/2027-07-28/
LOCATION:St. Marks Church
END:VEVENT
BEGIN:VEVENT
DTSTART;TZID=America/Los_Angeles:20270804T190000
DTEND;TZID=America/Los_Angeles:20270804T203000
DTSTAMP:20260423T184355
CREATED:20260331T194306Z
LAST-MODIFIED:20260331T194306Z
UID:10003356-1817406000-1817411400@aikido-contracosta.com
SUMMARY:Regular Class
DESCRIPTION:
URL:https://aikido-contracosta.com/events/regular-class-378/2027-08-04/
LOCATION:St. Marks Church
END:VEVENT
BEGIN:VEVENT
DTSTART;TZID=America/Los_Angeles:20270811T190000
DTEND;TZID=America/Los_Angeles:20270811T203000
DTSTAMP:20260423T184355
CREATED:20260331T194306Z
LAST-MODIFIED:20260331T194306Z
UID:10003357-1818010800-1818016200@aikido-contracosta.com
SUMMARY:Regular Class
DESCRIPTION:
URL:https://aikido-contracosta.com/events/regular-class-378/2027-08-11/
LOCATION:St. Marks Church
END:VEVENT
BEGIN:VEVENT
DTSTART;TZID=America/Los_Angeles:20270818T190000
DTEND;TZID=America/Los_Angeles:20270818T203000
DTSTAMP:20260423T184355
CREATED:20260331T194306Z
LAST-MODIFIED:20260331T194306Z
UID:10003358-1818615600-1818621000@aikido-contracosta.com
SUMMARY:Regular Class
DESCRIPTION:
URL:https://aikido-contracosta.com/events/regular-class-378/2027-08-18/
LOCATION:St. Marks Church
END:VEVENT
BEGIN:VEVENT
DTSTART;TZID=America/Los_Angeles:20270825T190000
DTEND;TZID=America/Los_Angeles:20270825T203000
DTSTAMP:20260423T184355
CREATED:20260331T194306Z
LAST-MODIFIED:20260331T194306Z
UID:10003359-1819220400-1819225800@aikido-contracosta.com
SUMMARY:Regular Class
DESCRIPTION:
URL:https://aikido-contracosta.com/events/regular-class-378/2027-08-25/
LOCATION:St. Marks Church
END:VEVENT
BEGIN:VEVENT
DTSTART;TZID=America/Los_Angeles:20270901T190000
DTEND;TZID=America/Los_Angeles:20270901T203000
DTSTAMP:20260423T184355
CREATED:20260331T194306Z
LAST-MODIFIED:20260331T194306Z
UID:10003360-1819825200-1819830600@aikido-contracosta.com
SUMMARY:Regular Class
DESCRIPTION:
URL:https://aikido-contracosta.com/events/regular-class-378/2027-09-01/
LOCATION:St. Marks Church
END:VEVENT
BEGIN:VEVENT
DTSTART;TZID=America/Los_Angeles:20270908T190000
DTEND;TZID=America/Los_Angeles:20270908T203000
DTSTAMP:20260423T184355
CREATED:20260331T194306Z
LAST-MODIFIED:20260331T194306Z
UID:10003361-1820430000-1820435400@aikido-contracosta.com
SUMMARY:Regular Class
DESCRIPTION:
URL:https://aikido-contracosta.com/events/regular-class-378/2027-09-08/
LOCATION:St. Marks Church
END:VEVENT
BEGIN:VEVENT
DTSTART;TZID=America/Los_Angeles:20270915T190000
DTEND;TZID=America/Los_Angeles:20270915T203000
DTSTAMP:20260423T184355
CREATED:20260331T194306Z
LAST-MODIFIED:20260331T194306Z
UID:10003362-1821034800-1821040200@aikido-contracosta.com
SUMMARY:Regular Class
DESCRIPTION:
URL:https://aikido-contracosta.com/events/regular-class-378/2027-09-15/
LOCATION:St. Marks Church
END:VEVENT
BEGIN:VEVENT
DTSTART;TZID=America/Los_Angeles:20270922T190000
DTEND;TZID=America/Los_Angeles:20270922T203000
DTSTAMP:20260423T184355
CREATED:20260331T194306Z
LAST-MODIFIED:20260331T194306Z
UID:10003363-1821639600-1821645000@aikido-contracosta.com
SUMMARY:Regular Class
DESCRIPTION:
URL:https://aikido-contracosta.com/events/regular-class-378/2027-09-22/
LOCATION:St. Marks Church
END:VEVENT
BEGIN:VEVENT
DTSTART;TZID=America/Los_Angeles:20270929T190000
DTEND;TZID=America/Los_Angeles:20270929T203000
DTSTAMP:20260423T184355
CREATED:20260331T194306Z
LAST-MODIFIED:20260331T194306Z
UID:10003364-1822244400-1822249800@aikido-contracosta.com
SUMMARY:Regular Class
DESCRIPTION:
URL:https://aikido-contracosta.com/events/regular-class-378/2027-09-29/
LOCATION:St. Marks Church
END:VEVENT
BEGIN:VEVENT
DTSTART;TZID=America/Los_Angeles:20271006T190000
DTEND;TZID=America/Los_Angeles:20271006T203000
DTSTAMP:20260423T184355
CREATED:20260331T194306Z
LAST-MODIFIED:20260331T194306Z
UID:10003365-1822849200-1822854600@aikido-contracosta.com
SUMMARY:Regular Class
DESCRIPTION:
URL:https://aikido-contracosta.com/events/regular-class-378/2027-10-06/
LOCATION:St. Marks Church
END:VEVENT
BEGIN:VEVENT
DTSTART;TZID=America/Los_Angeles:20271013T190000
DTEND;TZID=America/Los_Angeles:20271013T203000
DTSTAMP:20260423T184355
CREATED:20260331T194306Z
LAST-MODIFIED:20260331T194306Z
UID:10003366-1823454000-1823459400@aikido-contracosta.com
SUMMARY:Regular Class
DESCRIPTION:
URL:https://aikido-contracosta.com/events/regular-class-378/2027-10-13/
LOCATION:St. Marks Church
END:VEVENT
BEGIN:VEVENT
DTSTART;TZID=America/Los_Angeles:20271020T190000
DTEND;TZID=America/Los_Angeles:20271020T203000
DTSTAMP:20260423T184355
CREATED:20260331T194306Z
LAST-MODIFIED:20260331T194306Z
UID:10003367-1824058800-1824064200@aikido-contracosta.com
SUMMARY:Regular Class
DESCRIPTION:
URL:https://aikido-contracosta.com/events/regular-class-378/2027-10-20/
LOCATION:St. Marks Church
END:VEVENT
BEGIN:VEVENT
DTSTART;TZID=America/Los_Angeles:20271027T190000
DTEND;TZID=America/Los_Angeles:20271027T203000
DTSTAMP:20260423T184355
CREATED:20260331T194306Z
LAST-MODIFIED:20260331T194306Z
UID:10003368-1824663600-1824669000@aikido-contracosta.com
SUMMARY:Regular Class
DESCRIPTION:
URL:https://aikido-contracosta.com/events/regular-class-378/2027-10-27/
LOCATION:St. Marks Church
END:VEVENT
BEGIN:VEVENT
DTSTART;TZID=America/Los_Angeles:20271103T190000
DTEND;TZID=America/Los_Angeles:20271103T203000
DTSTAMP:20260423T184355
CREATED:20260331T194306Z
LAST-MODIFIED:20260331T194306Z
UID:10003369-1825268400-1825273800@aikido-contracosta.com
SUMMARY:Regular Class
DESCRIPTION:
URL:https://aikido-contracosta.com/events/regular-class-378/2027-11-03/
LOCATION:St. Marks Church
END:VEVENT
BEGIN:VEVENT
DTSTART;TZID=America/Los_Angeles:20271110T190000
DTEND;TZID=America/Los_Angeles:20271110T203000
DTSTAMP:20260423T184355
CREATED:20260331T194306Z
LAST-MODIFIED:20260331T194306Z
UID:10003370-1825873200-1825878600@aikido-contracosta.com
SUMMARY:Regular Class
DESCRIPTION:
URL:https://aikido-contracosta.com/events/regular-class-378/2027-11-10/
LOCATION:St. Marks Church
END:VEVENT
BEGIN:VEVENT
DTSTART;TZID=America/Los_Angeles:20271117T190000
DTEND;TZID=America/Los_Angeles:20271117T203000
DTSTAMP:20260423T184355
CREATED:20260331T194306Z
LAST-MODIFIED:20260331T194306Z
UID:10003371-1826478000-1826483400@aikido-contracosta.com
SUMMARY:Regular Class
DESCRIPTION:
URL:https://aikido-contracosta.com/events/regular-class-378/2027-11-17/
LOCATION:St. Marks Church
END:VEVENT
BEGIN:VEVENT
DTSTART;TZID=America/Los_Angeles:20271124T190000
DTEND;TZID=America/Los_Angeles:20271124T203000
DTSTAMP:20260423T184355
CREATED:20260331T194306Z
LAST-MODIFIED:20260331T194306Z
UID:10003372-1827082800-1827088200@aikido-contracosta.com
SUMMARY:Regular Class
DESCRIPTION:
URL:https://aikido-contracosta.com/events/regular-class-378/2027-11-24/
LOCATION:St. Marks Church
END:VEVENT
BEGIN:VEVENT
DTSTART;TZID=America/Los_Angeles:20271201T190000
DTEND;TZID=America/Los_Angeles:20271201T203000
DTSTAMP:20260423T184355
CREATED:20260331T194306Z
LAST-MODIFIED:20260331T194306Z
UID:10003373-1827687600-1827693000@aikido-contracosta.com
SUMMARY:Regular Class
DESCRIPTION:
URL:https://aikido-contracosta.com/events/regular-class-378/2027-12-01/
LOCATION:St. Marks Church
END:VEVENT
BEGIN:VEVENT
DTSTART;TZID=America/Los_Angeles:20271208T190000
DTEND;TZID=America/Los_Angeles:20271208T203000
DTSTAMP:20260423T184355
CREATED:20260331T194306Z
LAST-MODIFIED:20260331T194306Z
UID:10003374-1828292400-1828297800@aikido-contracosta.com
SUMMARY:Regular Class
DESCRIPTION:
URL:https://aikido-contracosta.com/events/regular-class-378/2027-12-08/
LOCATION:St. Marks Church
END:VEVENT
END:VCALENDAR