BEGIN:VCALENDAR
VERSION:2.0
PRODID:-//AikidoContraCosta.com - ECPv6.15.20//NONSGML v1.0//EN
CALSCALE:GREGORIAN
METHOD:PUBLISH
X-ORIGINAL-URL:https://aikido-contracosta.com
X-WR-CALDESC:Events for AikidoContraCosta.com
REFRESH-INTERVAL;VALUE=DURATION:PT1H
X-Robots-Tag:noindex
X-PUBLISHED-TTL:PT1H
BEGIN:VTIMEZONE
TZID:America/Los_Angeles
BEGIN:DAYLIGHT
TZOFFSETFROM:-0800
TZOFFSETTO:-0700
TZNAME:PDT
DTSTART:20230312T100000
END:DAYLIGHT
BEGIN:STANDARD
TZOFFSETFROM:-0700
TZOFFSETTO:-0800
TZNAME:PST
DTSTART:20231105T090000
END:STANDARD
BEGIN:DAYLIGHT
TZOFFSETFROM:-0800
TZOFFSETTO:-0700
TZNAME:PDT
DTSTART:20240310T100000
END:DAYLIGHT
BEGIN:STANDARD
TZOFFSETFROM:-0700
TZOFFSETTO:-0800
TZNAME:PST
DTSTART:20241103T090000
END:STANDARD
BEGIN:DAYLIGHT
TZOFFSETFROM:-0800
TZOFFSETTO:-0700
TZNAME:PDT
DTSTART:20250309T100000
END:DAYLIGHT
BEGIN:STANDARD
TZOFFSETFROM:-0700
TZOFFSETTO:-0800
TZNAME:PST
DTSTART:20251102T090000
END:STANDARD
BEGIN:DAYLIGHT
TZOFFSETFROM:-0800
TZOFFSETTO:-0700
TZNAME:PDT
DTSTART:20260308T100000
END:DAYLIGHT
BEGIN:STANDARD
TZOFFSETFROM:-0700
TZOFFSETTO:-0800
TZNAME:PST
DTSTART:20261101T090000
END:STANDARD
END:VTIMEZONE
BEGIN:VEVENT
DTSTART;TZID=America/Los_Angeles:20250528T190000
DTEND;TZID=America/Los_Angeles:20250528T210000
DTSTAMP:20260423T185955
CREATED:20240530T194227Z
LAST-MODIFIED:20240530T194227Z
UID:10001269-1748458800-1748466000@aikido-contracosta.com
SUMMARY:Regular Class
DESCRIPTION:
URL:https://aikido-contracosta.com/events/regular-class-320/2025-05-28/
LOCATION:St. Marks Church
END:VEVENT
BEGIN:VEVENT
DTSTART;TZID=America/Los_Angeles:20250521T190000
DTEND;TZID=America/Los_Angeles:20250521T210000
DTSTAMP:20260423T185955
CREATED:20240530T194227Z
LAST-MODIFIED:20240530T194227Z
UID:10001268-1747854000-1747861200@aikido-contracosta.com
SUMMARY:Regular Class
DESCRIPTION:
URL:https://aikido-contracosta.com/events/regular-class-320/2025-05-21/
LOCATION:St. Marks Church
END:VEVENT
BEGIN:VEVENT
DTSTART;TZID=America/Los_Angeles:20250514T190000
DTEND;TZID=America/Los_Angeles:20250514T210000
DTSTAMP:20260423T185955
CREATED:20240530T194227Z
LAST-MODIFIED:20240530T194227Z
UID:10001267-1747249200-1747256400@aikido-contracosta.com
SUMMARY:Regular Class
DESCRIPTION:
URL:https://aikido-contracosta.com/events/regular-class-320/2025-05-14/
LOCATION:St. Marks Church
END:VEVENT
BEGIN:VEVENT
DTSTART;TZID=America/Los_Angeles:20250507T190000
DTEND;TZID=America/Los_Angeles:20250507T210000
DTSTAMP:20260423T185955
CREATED:20240530T194227Z
LAST-MODIFIED:20240530T194227Z
UID:10001266-1746644400-1746651600@aikido-contracosta.com
SUMMARY:Regular Class
DESCRIPTION:
URL:https://aikido-contracosta.com/events/regular-class-320/2025-05-07/
LOCATION:St. Marks Church
END:VEVENT
BEGIN:VEVENT
DTSTART;TZID=America/Los_Angeles:20250430T190000
DTEND;TZID=America/Los_Angeles:20250430T210000
DTSTAMP:20260423T185955
CREATED:20240530T194227Z
LAST-MODIFIED:20240530T194227Z
UID:10001265-1746039600-1746046800@aikido-contracosta.com
SUMMARY:Regular Class
DESCRIPTION:
URL:https://aikido-contracosta.com/events/regular-class-320/2025-04-30/
LOCATION:St. Marks Church
END:VEVENT
BEGIN:VEVENT
DTSTART;TZID=America/Los_Angeles:20250423T190000
DTEND;TZID=America/Los_Angeles:20250423T210000
DTSTAMP:20260423T185955
CREATED:20250320T065056Z
LAST-MODIFIED:20250320T065056Z
UID:10002707-1745434800-1745442000@aikido-contracosta.com
SUMMARY:Regular Class
DESCRIPTION:
URL:https://aikido-contracosta.com/events/regular-class-353/
LOCATION:St. Marks Church
END:VEVENT
BEGIN:VEVENT
DTSTART;TZID=America/Los_Angeles:20250416T190000
DTEND;TZID=America/Los_Angeles:20250416T210000
DTSTAMP:20260423T185955
CREATED:20240530T194227Z
LAST-MODIFIED:20240530T194227Z
UID:10001263-1744830000-1744837200@aikido-contracosta.com
SUMMARY:Regular Class
DESCRIPTION:
URL:https://aikido-contracosta.com/events/regular-class-320/2025-04-16/
LOCATION:St. Marks Church
END:VEVENT
BEGIN:VEVENT
DTSTART;TZID=America/Los_Angeles:20250409T190000
DTEND;TZID=America/Los_Angeles:20250409T210000
DTSTAMP:20260423T185955
CREATED:20240530T194227Z
LAST-MODIFIED:20240530T194227Z
UID:10001262-1744225200-1744232400@aikido-contracosta.com
SUMMARY:Regular Class
DESCRIPTION:
URL:https://aikido-contracosta.com/events/regular-class-320/2025-04-09/
LOCATION:St. Marks Church
END:VEVENT
BEGIN:VEVENT
DTSTART;TZID=America/Los_Angeles:20250402T190000
DTEND;TZID=America/Los_Angeles:20250402T210000
DTSTAMP:20260423T185955
CREATED:20240530T194227Z
LAST-MODIFIED:20240530T194227Z
UID:10001261-1743620400-1743627600@aikido-contracosta.com
SUMMARY:Regular Class
DESCRIPTION:
URL:https://aikido-contracosta.com/events/regular-class-320/2025-04-02/
LOCATION:St. Marks Church
END:VEVENT
BEGIN:VEVENT
DTSTART;TZID=America/Los_Angeles:20250326T190000
DTEND;TZID=America/Los_Angeles:20250326T210000
DTSTAMP:20260423T185955
CREATED:20240530T194227Z
LAST-MODIFIED:20240530T194227Z
UID:10001260-1743015600-1743022800@aikido-contracosta.com
SUMMARY:Regular Class
DESCRIPTION:
URL:https://aikido-contracosta.com/events/regular-class-320/2025-03-26/
LOCATION:St. Marks Church
END:VEVENT
BEGIN:VEVENT
DTSTART;TZID=America/Los_Angeles:20250319T190000
DTEND;TZID=America/Los_Angeles:20250319T210000
DTSTAMP:20260423T185955
CREATED:20240530T194227Z
LAST-MODIFIED:20240530T194227Z
UID:10001259-1742410800-1742418000@aikido-contracosta.com
SUMMARY:Regular Class
DESCRIPTION:
URL:https://aikido-contracosta.com/events/regular-class-320/2025-03-19/
LOCATION:St. Marks Church
END:VEVENT
BEGIN:VEVENT
DTSTART;TZID=America/Los_Angeles:20250312T190000
DTEND;TZID=America/Los_Angeles:20250312T210000
DTSTAMP:20260423T185955
CREATED:20240530T194227Z
LAST-MODIFIED:20240530T194227Z
UID:10001258-1741806000-1741813200@aikido-contracosta.com
SUMMARY:Regular Class
DESCRIPTION:
URL:https://aikido-contracosta.com/events/regular-class-320/2025-03-12/
LOCATION:St. Marks Church
END:VEVENT
BEGIN:VEVENT
DTSTART;TZID=America/Los_Angeles:20250305T190000
DTEND;TZID=America/Los_Angeles:20250305T210000
DTSTAMP:20260423T185955
CREATED:20240530T194227Z
LAST-MODIFIED:20240530T194227Z
UID:10001257-1741201200-1741208400@aikido-contracosta.com
SUMMARY:Regular Class
DESCRIPTION:
URL:https://aikido-contracosta.com/events/regular-class-320/2025-03-05/
LOCATION:St. Marks Church
END:VEVENT
BEGIN:VEVENT
DTSTART;TZID=America/Los_Angeles:20250226T190000
DTEND;TZID=America/Los_Angeles:20250226T210000
DTSTAMP:20260423T185955
CREATED:20240530T194227Z
LAST-MODIFIED:20240530T194227Z
UID:10001256-1740596400-1740603600@aikido-contracosta.com
SUMMARY:Regular Class
DESCRIPTION:
URL:https://aikido-contracosta.com/events/regular-class-320/2025-02-26/
LOCATION:St. Marks Church
END:VEVENT
BEGIN:VEVENT
DTSTART;TZID=America/Los_Angeles:20250219T190000
DTEND;TZID=America/Los_Angeles:20250219T210000
DTSTAMP:20260423T185955
CREATED:20250128T041825Z
LAST-MODIFIED:20250128T042249Z
UID:10002436-1739991600-1739998800@aikido-contracosta.com
SUMMARY:Regular Class
DESCRIPTION:
URL:https://aikido-contracosta.com/events/regular-class-347/
LOCATION:St. Marks Church
END:VEVENT
BEGIN:VEVENT
DTSTART;TZID=America/Los_Angeles:20250212T190000
DTEND;TZID=America/Los_Angeles:20250212T210000
DTSTAMP:20260423T185955
CREATED:20240530T194227Z
LAST-MODIFIED:20240530T194227Z
UID:10001254-1739386800-1739394000@aikido-contracosta.com
SUMMARY:Regular Class
DESCRIPTION:
URL:https://aikido-contracosta.com/events/regular-class-320/2025-02-12/
LOCATION:St. Marks Church
END:VEVENT
BEGIN:VEVENT
DTSTART;TZID=America/Los_Angeles:20250205T190000
DTEND;TZID=America/Los_Angeles:20250205T210000
DTSTAMP:20260423T185955
CREATED:20240530T194227Z
LAST-MODIFIED:20240530T194227Z
UID:10001253-1738782000-1738789200@aikido-contracosta.com
SUMMARY:Regular Class
DESCRIPTION:
URL:https://aikido-contracosta.com/events/regular-class-320/2025-02-05/
LOCATION:St. Marks Church
END:VEVENT
BEGIN:VEVENT
DTSTART;TZID=America/Los_Angeles:20250129T190000
DTEND;TZID=America/Los_Angeles:20250129T210000
DTSTAMP:20260423T185955
CREATED:20240530T194227Z
LAST-MODIFIED:20240530T194227Z
UID:10001252-1738177200-1738184400@aikido-contracosta.com
SUMMARY:Regular Class
DESCRIPTION:
URL:https://aikido-contracosta.com/events/regular-class-320/2025-01-29/
LOCATION:St. Marks Church
END:VEVENT
BEGIN:VEVENT
DTSTART;TZID=America/Los_Angeles:20250122T190000
DTEND;TZID=America/Los_Angeles:20250122T210000
DTSTAMP:20260423T185955
CREATED:20240530T194227Z
LAST-MODIFIED:20240530T194227Z
UID:10001251-1737572400-1737579600@aikido-contracosta.com
SUMMARY:Regular Class
DESCRIPTION:
URL:https://aikido-contracosta.com/events/regular-class-320/2025-01-22/
LOCATION:St. Marks Church
END:VEVENT
BEGIN:VEVENT
DTSTART;TZID=America/Los_Angeles:20250115T190000
DTEND;TZID=America/Los_Angeles:20250115T210000
DTSTAMP:20260423T185955
CREATED:20240530T194227Z
LAST-MODIFIED:20240530T194227Z
UID:10001250-1736967600-1736974800@aikido-contracosta.com
SUMMARY:Regular Class
DESCRIPTION:
URL:https://aikido-contracosta.com/events/regular-class-320/2025-01-15/
LOCATION:St. Marks Church
END:VEVENT
BEGIN:VEVENT
DTSTART;TZID=America/Los_Angeles:20250108T190000
DTEND;TZID=America/Los_Angeles:20250108T210000
DTSTAMP:20260423T185955
CREATED:20240530T194227Z
LAST-MODIFIED:20240530T194227Z
UID:10001249-1736362800-1736370000@aikido-contracosta.com
SUMMARY:Regular Class
DESCRIPTION:
URL:https://aikido-contracosta.com/events/regular-class-320/2025-01-08/
LOCATION:St. Marks Church
END:VEVENT
BEGIN:VEVENT
DTSTART;TZID=America/Los_Angeles:20250101T190000
DTEND;TZID=America/Los_Angeles:20250101T210000
DTSTAMP:20260423T185955
CREATED:20241118T044456Z
LAST-MODIFIED:20241118T044502Z
UID:10001248-1735758000-1735765200@aikido-contracosta.com
SUMMARY:Winter Break
DESCRIPTION:
URL:https://aikido-contracosta.com/events/regular-class-338/
LOCATION:St. Marks Church
END:VEVENT
BEGIN:VEVENT
DTSTART;TZID=America/Los_Angeles:20241225T190000
DTEND;TZID=America/Los_Angeles:20241225T210000
DTSTAMP:20260423T185955
CREATED:20241118T044634Z
LAST-MODIFIED:20241118T044634Z
UID:10001247-1735153200-1735160400@aikido-contracosta.com
SUMMARY:Winter Break
DESCRIPTION:
URL:https://aikido-contracosta.com/events/regular-class-320-2/
LOCATION:St. Marks Church
END:VEVENT
BEGIN:VEVENT
DTSTART;TZID=America/Los_Angeles:20241218T190000
DTEND;TZID=America/Los_Angeles:20241218T210000
DTSTAMP:20260423T185955
CREATED:20240530T194227Z
LAST-MODIFIED:20240530T194227Z
UID:10001246-1734548400-1734555600@aikido-contracosta.com
SUMMARY:Regular Class
DESCRIPTION:
URL:https://aikido-contracosta.com/events/regular-class-320/2024-12-18/
LOCATION:St. Marks Church
END:VEVENT
BEGIN:VEVENT
DTSTART;TZID=America/Los_Angeles:20241211T190000
DTEND;TZID=America/Los_Angeles:20241211T210000
DTSTAMP:20260423T185955
CREATED:20240530T194227Z
LAST-MODIFIED:20240530T194227Z
UID:10001245-1733943600-1733950800@aikido-contracosta.com
SUMMARY:Regular Class
DESCRIPTION:
URL:https://aikido-contracosta.com/events/regular-class-320/2024-12-11/
LOCATION:St. Marks Church
END:VEVENT
BEGIN:VEVENT
DTSTART;TZID=America/Los_Angeles:20241204T190000
DTEND;TZID=America/Los_Angeles:20241204T210000
DTSTAMP:20260423T185955
CREATED:20240530T194227Z
LAST-MODIFIED:20240530T194227Z
UID:10001244-1733338800-1733346000@aikido-contracosta.com
SUMMARY:Regular Class
DESCRIPTION:
URL:https://aikido-contracosta.com/events/regular-class-320/2024-12-04/
LOCATION:St. Marks Church
END:VEVENT
BEGIN:VEVENT
DTSTART;TZID=America/Los_Angeles:20241127T190000
DTEND;TZID=America/Los_Angeles:20241127T210000
DTSTAMP:20260423T185955
CREATED:20241104T035504Z
LAST-MODIFIED:20241104T035608Z
UID:10001243-1732734000-1732741200@aikido-contracosta.com
SUMMARY:Class Cancelled
DESCRIPTION:
URL:https://aikido-contracosta.com/events/regular-class-331/
LOCATION:St. Marks Church
END:VEVENT
BEGIN:VEVENT
DTSTART;TZID=America/Los_Angeles:20241120T190000
DTEND;TZID=America/Los_Angeles:20241120T210000
DTSTAMP:20260423T185955
CREATED:20240530T194227Z
LAST-MODIFIED:20240530T194227Z
UID:10001242-1732129200-1732136400@aikido-contracosta.com
SUMMARY:Regular Class
DESCRIPTION:
URL:https://aikido-contracosta.com/events/regular-class-320/2024-11-20/
LOCATION:St. Marks Church
END:VEVENT
BEGIN:VEVENT
DTSTART;TZID=America/Los_Angeles:20241113T190000
DTEND;TZID=America/Los_Angeles:20241113T210000
DTSTAMP:20260423T185955
CREATED:20240530T194227Z
LAST-MODIFIED:20240530T194227Z
UID:10001241-1731524400-1731531600@aikido-contracosta.com
SUMMARY:Regular Class
DESCRIPTION:
URL:https://aikido-contracosta.com/events/regular-class-320/2024-11-13/
LOCATION:St. Marks Church
END:VEVENT
BEGIN:VEVENT
DTSTART;TZID=America/Los_Angeles:20241106T190000
DTEND;TZID=America/Los_Angeles:20241106T210000
DTSTAMP:20260423T185955
CREATED:20240530T194227Z
LAST-MODIFIED:20240530T194227Z
UID:10001240-1730919600-1730926800@aikido-contracosta.com
SUMMARY:Regular Class
DESCRIPTION:
URL:https://aikido-contracosta.com/events/regular-class-320/2024-11-06/
LOCATION:St. Marks Church
END:VEVENT
END:VCALENDAR