BEGIN:VCALENDAR
VERSION:2.0
PRODID:-//AikidoContraCosta.com - ECPv6.15.20//NONSGML v1.0//EN
CALSCALE:GREGORIAN
METHOD:PUBLISH
X-WR-CALNAME:AikidoContraCosta.com
X-ORIGINAL-URL:https://aikido-contracosta.com
X-WR-CALDESC:Events for AikidoContraCosta.com
REFRESH-INTERVAL;VALUE=DURATION:PT1H
X-Robots-Tag:noindex
X-PUBLISHED-TTL:PT1H
BEGIN:VTIMEZONE
TZID:America/Los_Angeles
BEGIN:DAYLIGHT
TZOFFSETFROM:-0800
TZOFFSETTO:-0700
TZNAME:PDT
DTSTART:20250309T100000
END:DAYLIGHT
BEGIN:STANDARD
TZOFFSETFROM:-0700
TZOFFSETTO:-0800
TZNAME:PST
DTSTART:20251102T090000
END:STANDARD
BEGIN:DAYLIGHT
TZOFFSETFROM:-0800
TZOFFSETTO:-0700
TZNAME:PDT
DTSTART:20260308T100000
END:DAYLIGHT
BEGIN:STANDARD
TZOFFSETFROM:-0700
TZOFFSETTO:-0800
TZNAME:PST
DTSTART:20261101T090000
END:STANDARD
BEGIN:DAYLIGHT
TZOFFSETFROM:-0800
TZOFFSETTO:-0700
TZNAME:PDT
DTSTART:20270314T100000
END:DAYLIGHT
BEGIN:STANDARD
TZOFFSETFROM:-0700
TZOFFSETTO:-0800
TZNAME:PST
DTSTART:20271107T090000
END:STANDARD
BEGIN:DAYLIGHT
TZOFFSETFROM:-0800
TZOFFSETTO:-0700
TZNAME:PDT
DTSTART:20280312T100000
END:DAYLIGHT
BEGIN:STANDARD
TZOFFSETFROM:-0700
TZOFFSETTO:-0800
TZNAME:PST
DTSTART:20281105T090000
END:STANDARD
END:VTIMEZONE
BEGIN:VEVENT
DTSTART;TZID=America/Los_Angeles:20261014T190000
DTEND;TZID=America/Los_Angeles:20261014T203000
DTSTAMP:20260423T141700
CREATED:20260331T194306Z
LAST-MODIFIED:20260331T194306Z
UID:10003314-1792004400-1792009800@aikido-contracosta.com
SUMMARY:Regular Class
DESCRIPTION:
URL:https://aikido-contracosta.com/events/regular-class-378/2026-10-14/
LOCATION:St. Marks Church
END:VEVENT
BEGIN:VEVENT
DTSTART;TZID=America/Los_Angeles:20261021T190000
DTEND;TZID=America/Los_Angeles:20261021T203000
DTSTAMP:20260423T141700
CREATED:20260331T194306Z
LAST-MODIFIED:20260331T194306Z
UID:10003315-1792609200-1792614600@aikido-contracosta.com
SUMMARY:Regular Class
DESCRIPTION:
URL:https://aikido-contracosta.com/events/regular-class-378/2026-10-21/
LOCATION:St. Marks Church
END:VEVENT
BEGIN:VEVENT
DTSTART;TZID=America/Los_Angeles:20261028T190000
DTEND;TZID=America/Los_Angeles:20261028T203000
DTSTAMP:20260423T141700
CREATED:20260331T194306Z
LAST-MODIFIED:20260331T194306Z
UID:10003316-1793214000-1793219400@aikido-contracosta.com
SUMMARY:Regular Class
DESCRIPTION:
URL:https://aikido-contracosta.com/events/regular-class-378/2026-10-28/
LOCATION:St. Marks Church
END:VEVENT
BEGIN:VEVENT
DTSTART;TZID=America/Los_Angeles:20261104T190000
DTEND;TZID=America/Los_Angeles:20261104T203000
DTSTAMP:20260423T141700
CREATED:20260331T194306Z
LAST-MODIFIED:20260331T194306Z
UID:10003317-1793818800-1793824200@aikido-contracosta.com
SUMMARY:Regular Class
DESCRIPTION:
URL:https://aikido-contracosta.com/events/regular-class-378/2026-11-04/
LOCATION:St. Marks Church
END:VEVENT
BEGIN:VEVENT
DTSTART;TZID=America/Los_Angeles:20261111T190000
DTEND;TZID=America/Los_Angeles:20261111T203000
DTSTAMP:20260423T141700
CREATED:20260331T194306Z
LAST-MODIFIED:20260331T194306Z
UID:10003318-1794423600-1794429000@aikido-contracosta.com
SUMMARY:Regular Class
DESCRIPTION:
URL:https://aikido-contracosta.com/events/regular-class-378/2026-11-11/
LOCATION:St. Marks Church
END:VEVENT
BEGIN:VEVENT
DTSTART;TZID=America/Los_Angeles:20261118T190000
DTEND;TZID=America/Los_Angeles:20261118T203000
DTSTAMP:20260423T141700
CREATED:20260331T194306Z
LAST-MODIFIED:20260331T194306Z
UID:10003319-1795028400-1795033800@aikido-contracosta.com
SUMMARY:Regular Class
DESCRIPTION:
URL:https://aikido-contracosta.com/events/regular-class-378/2026-11-18/
LOCATION:St. Marks Church
END:VEVENT
BEGIN:VEVENT
DTSTART;TZID=America/Los_Angeles:20261125T190000
DTEND;TZID=America/Los_Angeles:20261125T203000
DTSTAMP:20260423T141700
CREATED:20260331T194306Z
LAST-MODIFIED:20260331T194306Z
UID:10003320-1795633200-1795638600@aikido-contracosta.com
SUMMARY:Regular Class
DESCRIPTION:
URL:https://aikido-contracosta.com/events/regular-class-378/2026-11-25/
LOCATION:St. Marks Church
END:VEVENT
BEGIN:VEVENT
DTSTART;TZID=America/Los_Angeles:20261202T190000
DTEND;TZID=America/Los_Angeles:20261202T203000
DTSTAMP:20260423T141700
CREATED:20260331T194306Z
LAST-MODIFIED:20260331T194306Z
UID:10003321-1796238000-1796243400@aikido-contracosta.com
SUMMARY:Regular Class
DESCRIPTION:
URL:https://aikido-contracosta.com/events/regular-class-378/2026-12-02/
LOCATION:St. Marks Church
END:VEVENT
BEGIN:VEVENT
DTSTART;TZID=America/Los_Angeles:20261209T190000
DTEND;TZID=America/Los_Angeles:20261209T203000
DTSTAMP:20260423T141700
CREATED:20260331T194306Z
LAST-MODIFIED:20260331T194306Z
UID:10003322-1796842800-1796848200@aikido-contracosta.com
SUMMARY:Regular Class
DESCRIPTION:
URL:https://aikido-contracosta.com/events/regular-class-378/2026-12-09/
LOCATION:St. Marks Church
END:VEVENT
BEGIN:VEVENT
DTSTART;TZID=America/Los_Angeles:20261216T190000
DTEND;TZID=America/Los_Angeles:20261216T203000
DTSTAMP:20260423T141700
CREATED:20260331T194306Z
LAST-MODIFIED:20260331T194306Z
UID:10003323-1797447600-1797453000@aikido-contracosta.com
SUMMARY:Regular Class
DESCRIPTION:
URL:https://aikido-contracosta.com/events/regular-class-378/2026-12-16/
LOCATION:St. Marks Church
END:VEVENT
BEGIN:VEVENT
DTSTART;TZID=America/Los_Angeles:20261223T190000
DTEND;TZID=America/Los_Angeles:20261223T203000
DTSTAMP:20260423T141700
CREATED:20260331T194306Z
LAST-MODIFIED:20260331T194306Z
UID:10003324-1798052400-1798057800@aikido-contracosta.com
SUMMARY:Regular Class
DESCRIPTION:
URL:https://aikido-contracosta.com/events/regular-class-378/2026-12-23/
LOCATION:St. Marks Church
END:VEVENT
BEGIN:VEVENT
DTSTART;TZID=America/Los_Angeles:20261230T190000
DTEND;TZID=America/Los_Angeles:20261230T203000
DTSTAMP:20260423T141700
CREATED:20260331T194306Z
LAST-MODIFIED:20260331T194306Z
UID:10003325-1798657200-1798662600@aikido-contracosta.com
SUMMARY:Regular Class
DESCRIPTION:
URL:https://aikido-contracosta.com/events/regular-class-378/2026-12-30/
LOCATION:St. Marks Church
END:VEVENT
BEGIN:VEVENT
DTSTART;TZID=America/Los_Angeles:20270106T190000
DTEND;TZID=America/Los_Angeles:20270106T203000
DTSTAMP:20260423T141700
CREATED:20260331T194306Z
LAST-MODIFIED:20260331T194306Z
UID:10003326-1799262000-1799267400@aikido-contracosta.com
SUMMARY:Regular Class
DESCRIPTION:
URL:https://aikido-contracosta.com/events/regular-class-378/2027-01-06/
LOCATION:St. Marks Church
END:VEVENT
BEGIN:VEVENT
DTSTART;TZID=America/Los_Angeles:20270113T190000
DTEND;TZID=America/Los_Angeles:20270113T203000
DTSTAMP:20260423T141700
CREATED:20260331T194306Z
LAST-MODIFIED:20260331T194306Z
UID:10003327-1799866800-1799872200@aikido-contracosta.com
SUMMARY:Regular Class
DESCRIPTION:
URL:https://aikido-contracosta.com/events/regular-class-378/2027-01-13/
LOCATION:St. Marks Church
END:VEVENT
BEGIN:VEVENT
DTSTART;TZID=America/Los_Angeles:20270120T190000
DTEND;TZID=America/Los_Angeles:20270120T203000
DTSTAMP:20260423T141700
CREATED:20260331T194306Z
LAST-MODIFIED:20260331T194306Z
UID:10003328-1800471600-1800477000@aikido-contracosta.com
SUMMARY:Regular Class
DESCRIPTION:
URL:https://aikido-contracosta.com/events/regular-class-378/2027-01-20/
LOCATION:St. Marks Church
END:VEVENT
BEGIN:VEVENT
DTSTART;TZID=America/Los_Angeles:20270127T190000
DTEND;TZID=America/Los_Angeles:20270127T203000
DTSTAMP:20260423T141700
CREATED:20260331T194306Z
LAST-MODIFIED:20260331T194306Z
UID:10003329-1801076400-1801081800@aikido-contracosta.com
SUMMARY:Regular Class
DESCRIPTION:
URL:https://aikido-contracosta.com/events/regular-class-378/2027-01-27/
LOCATION:St. Marks Church
END:VEVENT
BEGIN:VEVENT
DTSTART;TZID=America/Los_Angeles:20270203T190000
DTEND;TZID=America/Los_Angeles:20270203T203000
DTSTAMP:20260423T141700
CREATED:20260331T194306Z
LAST-MODIFIED:20260331T194306Z
UID:10003330-1801681200-1801686600@aikido-contracosta.com
SUMMARY:Regular Class
DESCRIPTION:
URL:https://aikido-contracosta.com/events/regular-class-378/2027-02-03/
LOCATION:St. Marks Church
END:VEVENT
BEGIN:VEVENT
DTSTART;TZID=America/Los_Angeles:20270210T190000
DTEND;TZID=America/Los_Angeles:20270210T203000
DTSTAMP:20260423T141700
CREATED:20260331T194306Z
LAST-MODIFIED:20260331T194306Z
UID:10003331-1802286000-1802291400@aikido-contracosta.com
SUMMARY:Regular Class
DESCRIPTION:
URL:https://aikido-contracosta.com/events/regular-class-378/2027-02-10/
LOCATION:St. Marks Church
END:VEVENT
BEGIN:VEVENT
DTSTART;TZID=America/Los_Angeles:20270217T190000
DTEND;TZID=America/Los_Angeles:20270217T203000
DTSTAMP:20260423T141700
CREATED:20260331T194306Z
LAST-MODIFIED:20260331T194306Z
UID:10003332-1802890800-1802896200@aikido-contracosta.com
SUMMARY:Regular Class
DESCRIPTION:
URL:https://aikido-contracosta.com/events/regular-class-378/2027-02-17/
LOCATION:St. Marks Church
END:VEVENT
BEGIN:VEVENT
DTSTART;TZID=America/Los_Angeles:20270224T190000
DTEND;TZID=America/Los_Angeles:20270224T203000
DTSTAMP:20260423T141700
CREATED:20260331T194306Z
LAST-MODIFIED:20260331T194306Z
UID:10003333-1803495600-1803501000@aikido-contracosta.com
SUMMARY:Regular Class
DESCRIPTION:
URL:https://aikido-contracosta.com/events/regular-class-378/2027-02-24/
LOCATION:St. Marks Church
END:VEVENT
BEGIN:VEVENT
DTSTART;TZID=America/Los_Angeles:20270303T190000
DTEND;TZID=America/Los_Angeles:20270303T203000
DTSTAMP:20260423T141700
CREATED:20260331T194306Z
LAST-MODIFIED:20260331T194306Z
UID:10003334-1804100400-1804105800@aikido-contracosta.com
SUMMARY:Regular Class
DESCRIPTION:
URL:https://aikido-contracosta.com/events/regular-class-378/2027-03-03/
LOCATION:St. Marks Church
END:VEVENT
BEGIN:VEVENT
DTSTART;TZID=America/Los_Angeles:20270310T190000
DTEND;TZID=America/Los_Angeles:20270310T203000
DTSTAMP:20260423T141700
CREATED:20260331T194306Z
LAST-MODIFIED:20260331T194306Z
UID:10003335-1804705200-1804710600@aikido-contracosta.com
SUMMARY:Regular Class
DESCRIPTION:
URL:https://aikido-contracosta.com/events/regular-class-378/2027-03-10/
LOCATION:St. Marks Church
END:VEVENT
BEGIN:VEVENT
DTSTART;TZID=America/Los_Angeles:20270317T190000
DTEND;TZID=America/Los_Angeles:20270317T203000
DTSTAMP:20260423T141700
CREATED:20260331T194306Z
LAST-MODIFIED:20260331T194306Z
UID:10003336-1805310000-1805315400@aikido-contracosta.com
SUMMARY:Regular Class
DESCRIPTION:
URL:https://aikido-contracosta.com/events/regular-class-378/2027-03-17/
LOCATION:St. Marks Church
END:VEVENT
BEGIN:VEVENT
DTSTART;TZID=America/Los_Angeles:20270324T190000
DTEND;TZID=America/Los_Angeles:20270324T203000
DTSTAMP:20260423T141700
CREATED:20260331T194306Z
LAST-MODIFIED:20260331T194306Z
UID:10003337-1805914800-1805920200@aikido-contracosta.com
SUMMARY:Regular Class
DESCRIPTION:
URL:https://aikido-contracosta.com/events/regular-class-378/2027-03-24/
LOCATION:St. Marks Church
END:VEVENT
BEGIN:VEVENT
DTSTART;TZID=America/Los_Angeles:20270331T190000
DTEND;TZID=America/Los_Angeles:20270331T203000
DTSTAMP:20260423T141700
CREATED:20260331T194306Z
LAST-MODIFIED:20260331T194306Z
UID:10003338-1806519600-1806525000@aikido-contracosta.com
SUMMARY:Regular Class
DESCRIPTION:
URL:https://aikido-contracosta.com/events/regular-class-378/2027-03-31/
LOCATION:St. Marks Church
END:VEVENT
BEGIN:VEVENT
DTSTART;TZID=America/Los_Angeles:20270407T190000
DTEND;TZID=America/Los_Angeles:20270407T203000
DTSTAMP:20260423T141700
CREATED:20260331T194306Z
LAST-MODIFIED:20260331T194306Z
UID:10003339-1807124400-1807129800@aikido-contracosta.com
SUMMARY:Regular Class
DESCRIPTION:
URL:https://aikido-contracosta.com/events/regular-class-378/2027-04-07/
LOCATION:St. Marks Church
END:VEVENT
BEGIN:VEVENT
DTSTART;TZID=America/Los_Angeles:20270414T190000
DTEND;TZID=America/Los_Angeles:20270414T203000
DTSTAMP:20260423T141700
CREATED:20260331T194306Z
LAST-MODIFIED:20260331T194306Z
UID:10003340-1807729200-1807734600@aikido-contracosta.com
SUMMARY:Regular Class
DESCRIPTION:
URL:https://aikido-contracosta.com/events/regular-class-378/2027-04-14/
LOCATION:St. Marks Church
END:VEVENT
BEGIN:VEVENT
DTSTART;TZID=America/Los_Angeles:20270421T190000
DTEND;TZID=America/Los_Angeles:20270421T203000
DTSTAMP:20260423T141700
CREATED:20260331T194306Z
LAST-MODIFIED:20260331T194306Z
UID:10003341-1808334000-1808339400@aikido-contracosta.com
SUMMARY:Regular Class
DESCRIPTION:
URL:https://aikido-contracosta.com/events/regular-class-378/2027-04-21/
LOCATION:St. Marks Church
END:VEVENT
BEGIN:VEVENT
DTSTART;TZID=America/Los_Angeles:20270428T190000
DTEND;TZID=America/Los_Angeles:20270428T203000
DTSTAMP:20260423T141700
CREATED:20260331T194306Z
LAST-MODIFIED:20260331T194306Z
UID:10003342-1808938800-1808944200@aikido-contracosta.com
SUMMARY:Regular Class
DESCRIPTION:
URL:https://aikido-contracosta.com/events/regular-class-378/2027-04-28/
LOCATION:St. Marks Church
END:VEVENT
BEGIN:VEVENT
DTSTART;TZID=America/Los_Angeles:20270505T190000
DTEND;TZID=America/Los_Angeles:20270505T203000
DTSTAMP:20260423T141700
CREATED:20260331T194306Z
LAST-MODIFIED:20260331T194306Z
UID:10003343-1809543600-1809549000@aikido-contracosta.com
SUMMARY:Regular Class
DESCRIPTION:
URL:https://aikido-contracosta.com/events/regular-class-378/2027-05-05/
LOCATION:St. Marks Church
END:VEVENT
END:VCALENDAR