BEGIN:VCALENDAR
VERSION:2.0
PRODID:-//AikidoContraCosta.com - ECPv6.15.20//NONSGML v1.0//EN
CALSCALE:GREGORIAN
METHOD:PUBLISH
X-ORIGINAL-URL:https://aikido-contracosta.com
X-WR-CALDESC:Events for AikidoContraCosta.com
REFRESH-INTERVAL;VALUE=DURATION:PT1H
X-Robots-Tag:noindex
X-PUBLISHED-TTL:PT1H
BEGIN:VTIMEZONE
TZID:America/Los_Angeles
BEGIN:DAYLIGHT
TZOFFSETFROM:-0800
TZOFFSETTO:-0700
TZNAME:PDT
DTSTART:20210314T100000
END:DAYLIGHT
BEGIN:STANDARD
TZOFFSETFROM:-0700
TZOFFSETTO:-0800
TZNAME:PST
DTSTART:20211107T090000
END:STANDARD
BEGIN:DAYLIGHT
TZOFFSETFROM:-0800
TZOFFSETTO:-0700
TZNAME:PDT
DTSTART:20220313T100000
END:DAYLIGHT
BEGIN:STANDARD
TZOFFSETFROM:-0700
TZOFFSETTO:-0800
TZNAME:PST
DTSTART:20221106T090000
END:STANDARD
BEGIN:DAYLIGHT
TZOFFSETFROM:-0800
TZOFFSETTO:-0700
TZNAME:PDT
DTSTART:20230312T100000
END:DAYLIGHT
BEGIN:STANDARD
TZOFFSETFROM:-0700
TZOFFSETTO:-0800
TZNAME:PST
DTSTART:20231105T090000
END:STANDARD
END:VTIMEZONE
BEGIN:VEVENT
DTSTART;TZID=America/Los_Angeles:20220608T190000
DTEND;TZID=America/Los_Angeles:20220608T203000
DTSTAMP:20260424T151500
CREATED:20220503T005842Z
LAST-MODIFIED:20220503T005842Z
UID:10000659-1654714800-1654720200@aikido-contracosta.com
SUMMARY:Regular Class
DESCRIPTION:
URL:https://aikido-contracosta.com/events/regular-class-41/
LOCATION:St. Marks Church
END:VEVENT
BEGIN:VEVENT
DTSTART;TZID=America/Los_Angeles:20220601T190000
DTEND;TZID=America/Los_Angeles:20220601T203000
DTSTAMP:20260424T151500
CREATED:20220410T005209Z
LAST-MODIFIED:20220410T005209Z
UID:10000588-1654110000-1654115400@aikido-contracosta.com
SUMMARY:Regular Class
DESCRIPTION:
URL:https://aikido-contracosta.com/events/regular-class-31/
LOCATION:St. Marks Church
END:VEVENT
BEGIN:VEVENT
DTSTART;TZID=America/Los_Angeles:20220525T000000
DTEND;TZID=America/Los_Angeles:20220525T000000
DTSTAMP:20260424T151500
CREATED:20220410T004707Z
LAST-MODIFIED:20220410T004707Z
UID:10000655-1653436800-1653436800@aikido-contracosta.com
SUMMARY:No Class
DESCRIPTION:
URL:https://aikido-contracosta.com/events/no-class/
LOCATION:St. Marks Church
END:VEVENT
BEGIN:VEVENT
DTSTART;TZID=America/Los_Angeles:20220518T190000
DTEND;TZID=America/Los_Angeles:20220518T203000
DTSTAMP:20260424T151500
CREATED:20220310T002718Z
LAST-MODIFIED:20220310T002718Z
UID:10000650-1652900400-1652905800@aikido-contracosta.com
SUMMARY:Regular Class
DESCRIPTION:
URL:https://aikido-contracosta.com/events/regular-class-29/
LOCATION:St. Marks Church
END:VEVENT
BEGIN:VEVENT
DTSTART;TZID=America/Los_Angeles:20220511T190000
DTEND;TZID=America/Los_Angeles:20220511T203000
DTSTAMP:20260424T151500
CREATED:20220310T002639Z
LAST-MODIFIED:20220310T002639Z
UID:10000649-1652295600-1652301000@aikido-contracosta.com
SUMMARY:Regular Class
DESCRIPTION:
URL:https://aikido-contracosta.com/events/regular-class-28/
LOCATION:St. Marks Church
END:VEVENT
BEGIN:VEVENT
DTSTART;TZID=America/Los_Angeles:20220504T190000
DTEND;TZID=America/Los_Angeles:20220504T203000
DTSTAMP:20260424T151500
CREATED:20220310T002604Z
LAST-MODIFIED:20220310T002604Z
UID:10000648-1651690800-1651696200@aikido-contracosta.com
SUMMARY:Regular Class
DESCRIPTION:
URL:https://aikido-contracosta.com/events/regular-class-27/
LOCATION:St. Marks Church
END:VEVENT
BEGIN:VEVENT
DTSTART;TZID=America/Los_Angeles:20220427T190000
DTEND;TZID=America/Los_Angeles:20220427T203000
DTSTAMP:20260424T151500
CREATED:20220309T214716Z
LAST-MODIFIED:20220309T214716Z
UID:10000643-1651086000-1651091400@aikido-contracosta.com
SUMMARY:Regular Class
DESCRIPTION:
URL:https://aikido-contracosta.com/events/regular-class-22/
LOCATION:St. Marks Church
END:VEVENT
BEGIN:VEVENT
DTSTART;TZID=America/Los_Angeles:20220420T190000
DTEND;TZID=America/Los_Angeles:20220420T203000
DTSTAMP:20260424T151500
CREATED:20220309T214636Z
LAST-MODIFIED:20220309T214636Z
UID:10000642-1650481200-1650486600@aikido-contracosta.com
SUMMARY:Regular Class
DESCRIPTION:
URL:https://aikido-contracosta.com/events/regular-class-21/
LOCATION:St. Marks Church
END:VEVENT
BEGIN:VEVENT
DTSTART;TZID=America/Los_Angeles:20220413T190000
DTEND;TZID=America/Los_Angeles:20220413T203000
DTSTAMP:20260424T151500
CREATED:20220309T215618Z
LAST-MODIFIED:20220309T215618Z
UID:10000647-1649876400-1649881800@aikido-contracosta.com
SUMMARY:Regular Class
DESCRIPTION:
URL:https://aikido-contracosta.com/events/regular-class-26/
LOCATION:St. Marks Church
END:VEVENT
BEGIN:VEVENT
DTSTART;TZID=America/Los_Angeles:20220406T190000
DTEND;TZID=America/Los_Angeles:20220406T203000
DTSTAMP:20260424T151500
CREATED:20220309T214543Z
LAST-MODIFIED:20220309T214543Z
UID:10000641-1649271600-1649277000@aikido-contracosta.com
SUMMARY:Regular Class
DESCRIPTION:
URL:https://aikido-contracosta.com/events/regular-class-20/
LOCATION:St. Marks Church
END:VEVENT
BEGIN:VEVENT
DTSTART;TZID=America/Los_Angeles:20220330T190000
DTEND;TZID=America/Los_Angeles:20220330T203000
DTSTAMP:20260424T151500
CREATED:20220307T182503Z
LAST-MODIFIED:20220307T182503Z
UID:10000613-1648666800-1648672200@aikido-contracosta.com
SUMMARY:Regular Class
DESCRIPTION:
URL:https://aikido-contracosta.com/events/regular-class-6/
LOCATION:St. Marks Church
END:VEVENT
BEGIN:VEVENT
DTSTART;TZID=America/Los_Angeles:20220323T190000
DTEND;TZID=America/Los_Angeles:20220323T203000
DTSTAMP:20260424T151500
CREATED:20220307T182432Z
LAST-MODIFIED:20220307T182432Z
UID:10000612-1648062000-1648067400@aikido-contracosta.com
SUMMARY:Regular Class
DESCRIPTION:
URL:https://aikido-contracosta.com/events/regular-class-5/
LOCATION:St. Marks Church
END:VEVENT
BEGIN:VEVENT
DTSTART;TZID=America/Los_Angeles:20220316T190000
DTEND;TZID=America/Los_Angeles:20220316T203000
DTSTAMP:20260424T151500
CREATED:20220307T182358Z
LAST-MODIFIED:20220307T182358Z
UID:10000611-1647457200-1647462600@aikido-contracosta.com
SUMMARY:Regular Class
DESCRIPTION:
URL:https://aikido-contracosta.com/events/regular-class-4/
LOCATION:St. Marks Church
END:VEVENT
BEGIN:VEVENT
DTSTART;TZID=America/Los_Angeles:20220309T190000
DTEND;TZID=America/Los_Angeles:20220309T203000
DTSTAMP:20260424T151500
CREATED:20220304T210313Z
LAST-MODIFIED:20220307T175232Z
UID:10000607-1646852400-1646857800@aikido-contracosta.com
SUMMARY:Regular Class
DESCRIPTION:
URL:https://aikido-contracosta.com/events/reg-wed-class/
LOCATION:St. Marks Church
END:VEVENT
END:VCALENDAR