BEGIN:VCALENDAR
VERSION:2.0
PRODID:-//AikidoContraCosta.com - ECPv6.15.20//NONSGML v1.0//EN
CALSCALE:GREGORIAN
METHOD:PUBLISH
X-ORIGINAL-URL:https://aikido-contracosta.com
X-WR-CALDESC:Events for AikidoContraCosta.com
REFRESH-INTERVAL;VALUE=DURATION:PT1H
X-Robots-Tag:noindex
X-PUBLISHED-TTL:PT1H
BEGIN:VTIMEZONE
TZID:America/Los_Angeles
BEGIN:DAYLIGHT
TZOFFSETFROM:-0800
TZOFFSETTO:-0700
TZNAME:PDT
DTSTART:20210314T100000
END:DAYLIGHT
BEGIN:STANDARD
TZOFFSETFROM:-0700
TZOFFSETTO:-0800
TZNAME:PST
DTSTART:20211107T090000
END:STANDARD
BEGIN:DAYLIGHT
TZOFFSETFROM:-0800
TZOFFSETTO:-0700
TZNAME:PDT
DTSTART:20220313T100000
END:DAYLIGHT
BEGIN:STANDARD
TZOFFSETFROM:-0700
TZOFFSETTO:-0800
TZNAME:PST
DTSTART:20221106T090000
END:STANDARD
BEGIN:DAYLIGHT
TZOFFSETFROM:-0800
TZOFFSETTO:-0700
TZNAME:PDT
DTSTART:20230312T100000
END:DAYLIGHT
BEGIN:STANDARD
TZOFFSETFROM:-0700
TZOFFSETTO:-0800
TZNAME:PST
DTSTART:20231105T090000
END:STANDARD
BEGIN:DAYLIGHT
TZOFFSETFROM:-0800
TZOFFSETTO:-0700
TZNAME:PDT
DTSTART:20240310T100000
END:DAYLIGHT
BEGIN:STANDARD
TZOFFSETFROM:-0700
TZOFFSETTO:-0800
TZNAME:PST
DTSTART:20241103T090000
END:STANDARD
END:VTIMEZONE
BEGIN:VEVENT
DTSTART;TZID=America/Los_Angeles:20230315T190000
DTEND;TZID=America/Los_Angeles:20230315T210000
DTSTAMP:20260424T102649
CREATED:20230306T042920Z
LAST-MODIFIED:20230306T042920Z
UID:10000818-1678906800-1678914000@aikido-contracosta.com
SUMMARY:Regular Class
DESCRIPTION:
URL:https://aikido-contracosta.com/events/regular-class-128/
LOCATION:St. Marks Church
END:VEVENT
BEGIN:VEVENT
DTSTART;TZID=America/Los_Angeles:20230308T190000
DTEND;TZID=America/Los_Angeles:20230308T210000
DTSTAMP:20260424T102649
CREATED:20230306T042857Z
LAST-MODIFIED:20230306T042857Z
UID:10000817-1678302000-1678309200@aikido-contracosta.com
SUMMARY:Regular Class
DESCRIPTION:
URL:https://aikido-contracosta.com/events/regular-class-127/
LOCATION:St. Marks Church
END:VEVENT
BEGIN:VEVENT
DTSTART;TZID=America/Los_Angeles:20230301T190000
DTEND;TZID=America/Los_Angeles:20230301T210000
DTSTAMP:20260424T102649
CREATED:20230106T004531Z
LAST-MODIFIED:20230306T042829Z
UID:10000807-1677697200-1677704400@aikido-contracosta.com
SUMMARY:Regular Class
DESCRIPTION:
URL:https://aikido-contracosta.com/events/regular-class-122/
LOCATION:St. Marks Church
END:VEVENT
BEGIN:VEVENT
DTSTART;TZID=America/Los_Angeles:20230222T193000
DTEND;TZID=America/Los_Angeles:20230222T210000
DTSTAMP:20260424T102649
CREATED:20230106T004831Z
LAST-MODIFIED:20230106T004831Z
UID:10000810-1677094200-1677099600@aikido-contracosta.com
SUMMARY:Regular Class
DESCRIPTION:
URL:https://aikido-contracosta.com/events/regular-class-125/
LOCATION:St. Marks Church
END:VEVENT
BEGIN:VEVENT
DTSTART;TZID=America/Los_Angeles:20230215T193000
DTEND;TZID=America/Los_Angeles:20230215T210000
DTSTAMP:20260424T102649
CREATED:20230106T004736Z
LAST-MODIFIED:20230106T004736Z
UID:10000809-1676489400-1676494800@aikido-contracosta.com
SUMMARY:Regular Class
DESCRIPTION:
URL:https://aikido-contracosta.com/events/regular-class-124/
LOCATION:St. Marks Church
END:VEVENT
BEGIN:VEVENT
DTSTART;TZID=America/Los_Angeles:20230208T193000
DTEND;TZID=America/Los_Angeles:20230208T210000
DTSTAMP:20260424T102649
CREATED:20230106T004712Z
LAST-MODIFIED:20230106T004712Z
UID:10000808-1675884600-1675890000@aikido-contracosta.com
SUMMARY:Regular Class
DESCRIPTION:
URL:https://aikido-contracosta.com/events/regular-class-123/
LOCATION:St. Marks Church
END:VEVENT
BEGIN:VEVENT
DTSTART;TZID=America/Los_Angeles:20230201T193000
DTEND;TZID=America/Los_Angeles:20230201T210000
DTSTAMP:20260424T102649
CREATED:20230106T004941Z
LAST-MODIFIED:20230106T005001Z
UID:10000811-1675279800-1675285200@aikido-contracosta.com
SUMMARY:Regular Class
DESCRIPTION:
URL:https://aikido-contracosta.com/events/regular-class-126/
LOCATION:St. Marks Church
END:VEVENT
BEGIN:VEVENT
DTSTART;TZID=America/Los_Angeles:20230125T193000
DTEND;TZID=America/Los_Angeles:20230125T210000
DTSTAMP:20260424T102649
CREATED:20230106T004455Z
LAST-MODIFIED:20230106T004455Z
UID:10000806-1674675000-1674680400@aikido-contracosta.com
SUMMARY:Regular Class
DESCRIPTION:
URL:https://aikido-contracosta.com/events/regular-class-121/
LOCATION:St. Marks Church
END:VEVENT
BEGIN:VEVENT
DTSTART;TZID=America/Los_Angeles:20230118T193000
DTEND;TZID=America/Los_Angeles:20230118T210000
DTSTAMP:20260424T102649
CREATED:20230106T004416Z
LAST-MODIFIED:20230106T004416Z
UID:10000805-1674070200-1674075600@aikido-contracosta.com
SUMMARY:Regular Class
DESCRIPTION:
URL:https://aikido-contracosta.com/events/regular-class-120/
LOCATION:St. Marks Church
END:VEVENT
BEGIN:VEVENT
DTSTART;TZID=America/Los_Angeles:20230111T193000
DTEND;TZID=America/Los_Angeles:20230111T210000
DTSTAMP:20260424T102649
CREATED:20230106T004151Z
LAST-MODIFIED:20230106T004151Z
UID:10000804-1673465400-1673470800@aikido-contracosta.com
SUMMARY:Regular Class
DESCRIPTION:
URL:https://aikido-contracosta.com/events/regular-class-118/
LOCATION:St. Marks Church
END:VEVENT
BEGIN:VEVENT
DTSTART;TZID=America/Los_Angeles:20221214T190000
DTEND;TZID=America/Los_Angeles:20221214T203000
DTSTAMP:20260424T102649
CREATED:20220921T185106Z
LAST-MODIFIED:20220921T185106Z
UID:10000675-1671044400-1671049800@aikido-contracosta.com
SUMMARY:Regular Class
DESCRIPTION:
URL:https://aikido-contracosta.com/events/regular-class-100/
LOCATION:St. Marks Church
END:VEVENT
BEGIN:VEVENT
DTSTART;TZID=America/Los_Angeles:20221207T190000
DTEND;TZID=America/Los_Angeles:20221207T203000
DTSTAMP:20260424T102649
CREATED:20220921T184052Z
LAST-MODIFIED:20220921T184052Z
UID:10000763-1670439600-1670445000@aikido-contracosta.com
SUMMARY:Regular Class
DESCRIPTION:
URL:https://aikido-contracosta.com/events/regular-class-97/
LOCATION:St. Marks Church
END:VEVENT
BEGIN:VEVENT
DTSTART;TZID=America/Los_Angeles:20221130T190000
DTEND;TZID=America/Los_Angeles:20221130T203000
DTSTAMP:20260424T102649
CREATED:20220921T184855Z
LAST-MODIFIED:20220921T184855Z
UID:10000669-1669834800-1669840200@aikido-contracosta.com
SUMMARY:No Class
DESCRIPTION:
URL:https://aikido-contracosta.com/events/no-class-6/
LOCATION:St. Marks Church
END:VEVENT
BEGIN:VEVENT
DTSTART;TZID=America/Los_Angeles:20221116T190000
DTEND;TZID=America/Los_Angeles:20221116T203000
DTSTAMP:20260424T102649
CREATED:20220921T183840Z
LAST-MODIFIED:20220921T183840Z
UID:10000762-1668625200-1668630600@aikido-contracosta.com
SUMMARY:No Class
DESCRIPTION:
URL:https://aikido-contracosta.com/events/no-class-5/
LOCATION:St. Marks Church
END:VEVENT
BEGIN:VEVENT
DTSTART;TZID=America/Los_Angeles:20221109T190000
DTEND;TZID=America/Los_Angeles:20221109T203000
DTSTAMP:20260424T102649
CREATED:20220921T185025Z
LAST-MODIFIED:20220921T185025Z
UID:10000673-1668020400-1668025800@aikido-contracosta.com
SUMMARY:Regular Class
DESCRIPTION:
URL:https://aikido-contracosta.com/events/regular-class-99/
LOCATION:St. Marks Church
END:VEVENT
BEGIN:VEVENT
DTSTART;TZID=America/Los_Angeles:20221102T190000
DTEND;TZID=America/Los_Angeles:20221102T203000
DTSTAMP:20260424T102649
CREATED:20220921T184952Z
LAST-MODIFIED:20220921T184952Z
UID:10000671-1667415600-1667421000@aikido-contracosta.com
SUMMARY:Regular Class
DESCRIPTION:
URL:https://aikido-contracosta.com/events/regular-class-98/
LOCATION:St. Marks Church
END:VEVENT
BEGIN:VEVENT
DTSTART;TZID=America/Los_Angeles:20221026T190000
DTEND;TZID=America/Los_Angeles:20221026T203000
DTSTAMP:20260424T102649
CREATED:20220904T042958Z
LAST-MODIFIED:20220904T042958Z
UID:10000728-1666810800-1666816200@aikido-contracosta.com
SUMMARY:Regular Class
DESCRIPTION:
URL:https://aikido-contracosta.com/events/regular-class-83/
LOCATION:St. Marks Church
END:VEVENT
BEGIN:VEVENT
DTSTART;TZID=America/Los_Angeles:20221019T190000
DTEND;TZID=America/Los_Angeles:20221019T203000
DTSTAMP:20260424T102649
CREATED:20220904T042932Z
LAST-MODIFIED:20220904T042932Z
UID:10000726-1666206000-1666211400@aikido-contracosta.com
SUMMARY:Regular Class
DESCRIPTION:
URL:https://aikido-contracosta.com/events/regular-class-82/
LOCATION:St. Marks Church
END:VEVENT
BEGIN:VEVENT
DTSTART;TZID=America/Los_Angeles:20221012T190000
DTEND;TZID=America/Los_Angeles:20221012T203000
DTSTAMP:20260424T102649
CREATED:20220904T042901Z
LAST-MODIFIED:20220904T042901Z
UID:10000724-1665601200-1665606600@aikido-contracosta.com
SUMMARY:Regular Class
DESCRIPTION:
URL:https://aikido-contracosta.com/events/regular-class-81/
LOCATION:St. Marks Church
END:VEVENT
BEGIN:VEVENT
DTSTART;TZID=America/Los_Angeles:20221005T190000
DTEND;TZID=America/Los_Angeles:20221005T203000
DTSTAMP:20260424T102649
CREATED:20220904T043050Z
LAST-MODIFIED:20220904T043050Z
UID:10000730-1664996400-1665001800@aikido-contracosta.com
SUMMARY:No Class
DESCRIPTION:
URL:https://aikido-contracosta.com/events/no-class-4/
LOCATION:St. Marks Church
END:VEVENT
BEGIN:VEVENT
DTSTART;TZID=America/Los_Angeles:20220928T190000
DTEND;TZID=America/Los_Angeles:20220928T203000
DTSTAMP:20260424T102649
CREATED:20220904T042814Z
LAST-MODIFIED:20220904T042814Z
UID:10000722-1664391600-1664397000@aikido-contracosta.com
SUMMARY:Regular Class
DESCRIPTION:
URL:https://aikido-contracosta.com/events/regular-class-80/
LOCATION:St. Marks Church
END:VEVENT
BEGIN:VEVENT
DTSTART;TZID=America/Los_Angeles:20220921T190000
DTEND;TZID=America/Los_Angeles:20220921T203000
DTSTAMP:20260424T102649
CREATED:20220904T042742Z
LAST-MODIFIED:20220904T042742Z
UID:10000720-1663786800-1663792200@aikido-contracosta.com
SUMMARY:Regular Class
DESCRIPTION:
URL:https://aikido-contracosta.com/events/regular-class-79/
LOCATION:St. Marks Church
END:VEVENT
BEGIN:VEVENT
DTSTART;TZID=America/Los_Angeles:20220914T190000
DTEND;TZID=America/Los_Angeles:20220914T203000
DTSTAMP:20260424T102649
CREATED:20220904T042645Z
LAST-MODIFIED:20220904T042645Z
UID:10000718-1663182000-1663187400@aikido-contracosta.com
SUMMARY:Regular Class
DESCRIPTION:
URL:https://aikido-contracosta.com/events/regular-class-78/
LOCATION:St. Marks Church
END:VEVENT
BEGIN:VEVENT
DTSTART;TZID=America/Los_Angeles:20220907T190000
DTEND;TZID=America/Los_Angeles:20220907T203000
DTSTAMP:20260424T102649
CREATED:20220904T042556Z
LAST-MODIFIED:20220904T042556Z
UID:10000716-1662577200-1662582600@aikido-contracosta.com
SUMMARY:Regular Class
DESCRIPTION:
URL:https://aikido-contracosta.com/events/regular-class-77/
LOCATION:St. Marks Church
END:VEVENT
BEGIN:VEVENT
DTSTART;TZID=America/Los_Angeles:20220831T190000
DTEND;TZID=America/Los_Angeles:20220831T203000
DTSTAMP:20260424T102649
CREATED:20220724T195759Z
LAST-MODIFIED:20220724T195759Z
UID:10000631-1661972400-1661977800@aikido-contracosta.com
SUMMARY:Regular Class
DESCRIPTION:
URL:https://aikido-contracosta.com/events/regular-class-68/
LOCATION:St. Marks Church
END:VEVENT
BEGIN:VEVENT
DTSTART;TZID=America/Los_Angeles:20220824T190000
DTEND;TZID=America/Los_Angeles:20220824T203000
DTSTAMP:20260424T102649
CREATED:20220724T195735Z
LAST-MODIFIED:20220724T195843Z
UID:10000629-1661367600-1661373000@aikido-contracosta.com
SUMMARY:No Class
DESCRIPTION:
URL:https://aikido-contracosta.com/events/regular-class-67/
LOCATION:St. Marks Church
END:VEVENT
BEGIN:VEVENT
DTSTART;TZID=America/Los_Angeles:20220817T190000
DTEND;TZID=America/Los_Angeles:20220817T203000
DTSTAMP:20260424T102649
CREATED:20220724T200114Z
LAST-MODIFIED:20220724T200114Z
UID:10000635-1660762800-1660768200@aikido-contracosta.com
SUMMARY:Regular Class
DESCRIPTION:
URL:https://aikido-contracosta.com/events/regular-class-69/
LOCATION:St. Marks Church
END:VEVENT
BEGIN:VEVENT
DTSTART;TZID=America/Los_Angeles:20220810T190000
DTEND;TZID=America/Los_Angeles:20220810T203000
DTSTAMP:20260424T102649
CREATED:20220724T195709Z
LAST-MODIFIED:20220724T195709Z
UID:10000627-1660158000-1660163400@aikido-contracosta.com
SUMMARY:Regular Class
DESCRIPTION:
URL:https://aikido-contracosta.com/events/regular-class-66/
LOCATION:St. Marks Church
END:VEVENT
BEGIN:VEVENT
DTSTART;TZID=America/Los_Angeles:20220803T190000
DTEND;TZID=America/Los_Angeles:20220803T203000
DTSTAMP:20260424T102649
CREATED:20220724T195248Z
LAST-MODIFIED:20220724T195248Z
UID:10000695-1659553200-1659558600@aikido-contracosta.com
SUMMARY:Regular Class
DESCRIPTION:
URL:https://aikido-contracosta.com/events/regular-class-58/
LOCATION:St. Marks Church
END:VEVENT
BEGIN:VEVENT
DTSTART;TZID=America/Los_Angeles:20220727T190000
DTEND;TZID=America/Los_Angeles:20220727T203000
DTSTAMP:20260424T102649
CREATED:20220629T154025Z
LAST-MODIFIED:20220629T154025Z
UID:10000678-1658948400-1658953800@aikido-contracosta.com
SUMMARY:Regular Class
DESCRIPTION:
URL:https://aikido-contracosta.com/events/regular-class-48/
LOCATION:St. Marks Church
END:VEVENT
END:VCALENDAR