BEGIN:VCALENDAR
VERSION:2.0
PRODID:-//AikidoContraCosta.com - ECPv6.15.20//NONSGML v1.0//EN
CALSCALE:GREGORIAN
METHOD:PUBLISH
X-WR-CALNAME:AikidoContraCosta.com
X-ORIGINAL-URL:https://aikido-contracosta.com
X-WR-CALDESC:Events for AikidoContraCosta.com
REFRESH-INTERVAL;VALUE=DURATION:PT1H
X-Robots-Tag:noindex
X-PUBLISHED-TTL:PT1H
BEGIN:VTIMEZONE
TZID:America/Los_Angeles
BEGIN:DAYLIGHT
TZOFFSETFROM:-0800
TZOFFSETTO:-0700
TZNAME:PDT
DTSTART:20220313T100000
END:DAYLIGHT
BEGIN:STANDARD
TZOFFSETFROM:-0700
TZOFFSETTO:-0800
TZNAME:PST
DTSTART:20221106T090000
END:STANDARD
BEGIN:DAYLIGHT
TZOFFSETFROM:-0800
TZOFFSETTO:-0700
TZNAME:PDT
DTSTART:20230312T100000
END:DAYLIGHT
BEGIN:STANDARD
TZOFFSETFROM:-0700
TZOFFSETTO:-0800
TZNAME:PST
DTSTART:20231105T090000
END:STANDARD
BEGIN:DAYLIGHT
TZOFFSETFROM:-0800
TZOFFSETTO:-0700
TZNAME:PDT
DTSTART:20240310T100000
END:DAYLIGHT
BEGIN:STANDARD
TZOFFSETFROM:-0700
TZOFFSETTO:-0800
TZNAME:PST
DTSTART:20241103T090000
END:STANDARD
BEGIN:DAYLIGHT
TZOFFSETFROM:-0800
TZOFFSETTO:-0700
TZNAME:PDT
DTSTART:20250309T100000
END:DAYLIGHT
BEGIN:STANDARD
TZOFFSETFROM:-0700
TZOFFSETTO:-0800
TZNAME:PST
DTSTART:20251102T090000
END:STANDARD
END:VTIMEZONE
BEGIN:VEVENT
DTSTART;TZID=America/Los_Angeles:20240306T190000
DTEND;TZID=America/Los_Angeles:20240306T210000
DTSTAMP:20260424T031555
CREATED:20240303T052229Z
LAST-MODIFIED:20240303T052229Z
UID:10001113-1709751600-1709758800@aikido-contracosta.com
SUMMARY:Regular Class
DESCRIPTION:
URL:https://aikido-contracosta.com/events/regular-class-280/
LOCATION:St. Marks Church
END:VEVENT
BEGIN:VEVENT
DTSTART;TZID=America/Los_Angeles:20240228T190000
DTEND;TZID=America/Los_Angeles:20240228T210000
DTSTAMP:20260424T031555
CREATED:20240202T231541Z
LAST-MODIFIED:20240202T231541Z
UID:10001093-1709146800-1709154000@aikido-contracosta.com
SUMMARY:Regular Class
DESCRIPTION:
URL:https://aikido-contracosta.com/events/regular-class-268/
LOCATION:St. Marks Church
END:VEVENT
BEGIN:VEVENT
DTSTART;TZID=America/Los_Angeles:20240221T190000
DTEND;TZID=America/Los_Angeles:20240221T210000
DTSTAMP:20260424T031555
CREATED:20240202T231502Z
LAST-MODIFIED:20240202T231502Z
UID:10001092-1708542000-1708549200@aikido-contracosta.com
SUMMARY:Regular Class
DESCRIPTION:
URL:https://aikido-contracosta.com/events/regular-class-267/
LOCATION:St. Marks Church
END:VEVENT
BEGIN:VEVENT
DTSTART;TZID=America/Los_Angeles:20240214T190000
DTEND;TZID=America/Los_Angeles:20240214T210000
DTSTAMP:20260424T031555
CREATED:20240202T225818Z
LAST-MODIFIED:20240202T225818Z
UID:10001085-1707937200-1707944400@aikido-contracosta.com
SUMMARY:Regular Class
DESCRIPTION:
URL:https://aikido-contracosta.com/events/regular-class-260/
LOCATION:St. Marks Church
END:VEVENT
BEGIN:VEVENT
DTSTART;TZID=America/Los_Angeles:20240207T190000
DTEND;TZID=America/Los_Angeles:20240207T210000
DTSTAMP:20260424T031555
CREATED:20240202T225611Z
LAST-MODIFIED:20240202T225611Z
UID:10001083-1707332400-1707339600@aikido-contracosta.com
SUMMARY:Regular Class
DESCRIPTION:
URL:https://aikido-contracosta.com/events/regular-class-258/
LOCATION:St. Marks Church
END:VEVENT
BEGIN:VEVENT
DTSTART;TZID=America/Los_Angeles:20240131T190000
DTEND;TZID=America/Los_Angeles:20240131T210000
DTSTAMP:20260424T031555
CREATED:20231231T165458Z
LAST-MODIFIED:20231231T165458Z
UID:10001074-1706727600-1706734800@aikido-contracosta.com
SUMMARY:Regular Class
DESCRIPTION:
URL:https://aikido-contracosta.com/events/regular-class-255/
LOCATION:St. Marks Church
END:VEVENT
BEGIN:VEVENT
DTSTART;TZID=America/Los_Angeles:20240124T190000
DTEND;TZID=America/Los_Angeles:20240124T210000
DTSTAMP:20260424T031555
CREATED:20231231T165421Z
LAST-MODIFIED:20231231T165421Z
UID:10001073-1706122800-1706130000@aikido-contracosta.com
SUMMARY:Regular Class
DESCRIPTION:
URL:https://aikido-contracosta.com/events/regular-class-254/
LOCATION:St. Marks Church
END:VEVENT
BEGIN:VEVENT
DTSTART;TZID=America/Los_Angeles:20240117T190000
DTEND;TZID=America/Los_Angeles:20240117T210000
DTSTAMP:20260424T031555
CREATED:20231231T165352Z
LAST-MODIFIED:20231231T165352Z
UID:10001072-1705518000-1705525200@aikido-contracosta.com
SUMMARY:Regular Class
DESCRIPTION:
URL:https://aikido-contracosta.com/events/regular-class-253/
LOCATION:St. Marks Church
END:VEVENT
BEGIN:VEVENT
DTSTART;TZID=America/Los_Angeles:20240110T190000
DTEND;TZID=America/Los_Angeles:20240110T210000
DTSTAMP:20260424T031555
CREATED:20231231T165313Z
LAST-MODIFIED:20231231T165313Z
UID:10001071-1704913200-1704920400@aikido-contracosta.com
SUMMARY:Regular Class
DESCRIPTION:
URL:https://aikido-contracosta.com/events/regular-class-252/
LOCATION:St. Marks Church
END:VEVENT
BEGIN:VEVENT
DTSTART;TZID=America/Los_Angeles:20240103T190000
DTEND;TZID=America/Los_Angeles:20240103T210000
DTSTAMP:20260424T031555
CREATED:20231231T165234Z
LAST-MODIFIED:20231231T165234Z
UID:10001070-1704308400-1704315600@aikido-contracosta.com
SUMMARY:Regular Class
DESCRIPTION:
URL:https://aikido-contracosta.com/events/regular-class-251/
LOCATION:St. Marks Church
END:VEVENT
BEGIN:VEVENT
DTSTART;TZID=America/Los_Angeles:20231213T190000
DTEND;TZID=America/Los_Angeles:20231213T210000
DTSTAMP:20260424T031555
CREATED:20231111T225233Z
LAST-MODIFIED:20231111T225707Z
UID:10000893-1702494000-1702501200@aikido-contracosta.com
SUMMARY:Regular Class (last Wednesday class)
DESCRIPTION:
URL:https://aikido-contracosta.com/events/regular-class-last-wednesday-class/
LOCATION:St. Marks Church
END:VEVENT
BEGIN:VEVENT
DTSTART;TZID=America/Los_Angeles:20231206T190000
DTEND;TZID=America/Los_Angeles:20231206T210000
DTSTAMP:20260424T031555
CREATED:20231107T022341Z
LAST-MODIFIED:20231107T022341Z
UID:10001041-1701889200-1701896400@aikido-contracosta.com
SUMMARY:Regular Class
DESCRIPTION:
URL:https://aikido-contracosta.com/events/regular-class-240/
LOCATION:St. Marks Church
END:VEVENT
BEGIN:VEVENT
DTSTART;TZID=America/Los_Angeles:20231129T190000
DTEND;TZID=America/Los_Angeles:20231129T210000
DTSTAMP:20260424T031555
CREATED:20231107T022227Z
LAST-MODIFIED:20231107T022227Z
UID:10001040-1701284400-1701291600@aikido-contracosta.com
SUMMARY:Regular Class
DESCRIPTION:
URL:https://aikido-contracosta.com/events/regular-class-239/
LOCATION:St. Marks Church
END:VEVENT
BEGIN:VEVENT
DTSTART;TZID=America/Los_Angeles:20231122T190000
DTEND;TZID=America/Los_Angeles:20231122T210000
DTSTAMP:20260424T031555
CREATED:20231107T021958Z
LAST-MODIFIED:20231107T022141Z
UID:10001038-1700679600-1700686800@aikido-contracosta.com
SUMMARY:Regular Class
DESCRIPTION:
URL:https://aikido-contracosta.com/events/regular-class-237/
LOCATION:St. Marks Church
END:VEVENT
BEGIN:VEVENT
DTSTART;TZID=America/Los_Angeles:20231115T190000
DTEND;TZID=America/Los_Angeles:20231115T210000
DTSTAMP:20260424T031555
CREATED:20231107T022058Z
LAST-MODIFIED:20231107T022058Z
UID:10001039-1700074800-1700082000@aikido-contracosta.com
SUMMARY:Regular Class
DESCRIPTION:
URL:https://aikido-contracosta.com/events/regular-class-238/
LOCATION:St. Marks Church
END:VEVENT
BEGIN:VEVENT
DTSTART;TZID=America/Los_Angeles:20231108T190000
DTEND;TZID=America/Los_Angeles:20231108T210000
DTSTAMP:20260424T031555
CREATED:20231107T021854Z
LAST-MODIFIED:20231107T021854Z
UID:10001037-1699470000-1699477200@aikido-contracosta.com
SUMMARY:Regular Class
DESCRIPTION:
URL:https://aikido-contracosta.com/events/regular-class-236/
LOCATION:St. Marks Church
END:VEVENT
BEGIN:VEVENT
DTSTART;TZID=America/Los_Angeles:20231101T190000
DTEND;TZID=America/Los_Angeles:20231101T210000
DTSTAMP:20260424T031555
CREATED:20231107T021327Z
LAST-MODIFIED:20231107T021327Z
UID:10001036-1698865200-1698872400@aikido-contracosta.com
SUMMARY:Regular Class
DESCRIPTION:
URL:https://aikido-contracosta.com/events/regular-class-235/
LOCATION:St. Marks Church
END:VEVENT
BEGIN:VEVENT
DTSTART;TZID=America/Los_Angeles:20231025T190000
DTEND;TZID=America/Los_Angeles:20231025T210000
DTSTAMP:20260424T031555
CREATED:20231008T155536Z
LAST-MODIFIED:20231008T155536Z
UID:10001018-1698260400-1698267600@aikido-contracosta.com
SUMMARY:Regular Class
DESCRIPTION:
URL:https://aikido-contracosta.com/events/regular-class-221/
LOCATION:St. Marks Church
END:VEVENT
BEGIN:VEVENT
DTSTART;TZID=America/Los_Angeles:20231018T190000
DTEND;TZID=America/Los_Angeles:20231018T210000
DTSTAMP:20260424T031555
CREATED:20231008T155434Z
LAST-MODIFIED:20231008T155434Z
UID:10001017-1697655600-1697662800@aikido-contracosta.com
SUMMARY:Regular Class
DESCRIPTION:
URL:https://aikido-contracosta.com/events/regular-class-220/
LOCATION:St. Marks Church
END:VEVENT
BEGIN:VEVENT
DTSTART;TZID=America/Los_Angeles:20231004T190000
DTEND;TZID=America/Los_Angeles:20231004T210000
DTSTAMP:20260424T031555
CREATED:20231008T155400Z
LAST-MODIFIED:20231008T155400Z
UID:10001015-1696446000-1696453200@aikido-contracosta.com
SUMMARY:Regular Class
DESCRIPTION:
URL:https://aikido-contracosta.com/events/regular-class-219/
LOCATION:St. Marks Church
END:VEVENT
BEGIN:VEVENT
DTSTART;TZID=America/Los_Angeles:20230927T190000
DTEND;TZID=America/Los_Angeles:20230927T210000
DTSTAMP:20260424T031555
CREATED:20230822T211029Z
LAST-MODIFIED:20230822T211029Z
UID:10000984-1695841200-1695848400@aikido-contracosta.com
SUMMARY:Regular Class
DESCRIPTION:
URL:https://aikido-contracosta.com/events/regular-class-210/
LOCATION:St. Marks Church
END:VEVENT
BEGIN:VEVENT
DTSTART;TZID=America/Los_Angeles:20230920T190000
DTEND;TZID=America/Los_Angeles:20230920T210000
DTSTAMP:20260424T031555
CREATED:20230822T210956Z
LAST-MODIFIED:20230822T210956Z
UID:10000983-1695236400-1695243600@aikido-contracosta.com
SUMMARY:Regular Class
DESCRIPTION:
URL:https://aikido-contracosta.com/events/regular-class-209/
LOCATION:St. Marks Church
END:VEVENT
BEGIN:VEVENT
DTSTART;TZID=America/Los_Angeles:20230913T190000
DTEND;TZID=America/Los_Angeles:20230913T210000
DTSTAMP:20260424T031555
CREATED:20230822T210923Z
LAST-MODIFIED:20230822T210923Z
UID:10000981-1694631600-1694638800@aikido-contracosta.com
SUMMARY:Regular Class
DESCRIPTION:
URL:https://aikido-contracosta.com/events/regular-class-208/
LOCATION:St. Marks Church
END:VEVENT
BEGIN:VEVENT
DTSTART;TZID=America/Los_Angeles:20230906T190000
DTEND;TZID=America/Los_Angeles:20230906T210000
DTSTAMP:20260424T031555
CREATED:20230822T210851Z
LAST-MODIFIED:20230822T210851Z
UID:10000979-1694026800-1694034000@aikido-contracosta.com
SUMMARY:Regular Class
DESCRIPTION:
URL:https://aikido-contracosta.com/events/regular-class-207/
LOCATION:St. Marks Church
END:VEVENT
BEGIN:VEVENT
DTSTART;TZID=America/Los_Angeles:20230830T190000
DTEND;TZID=America/Los_Angeles:20230830T210000
DTSTAMP:20260424T031555
CREATED:20230807T055855Z
LAST-MODIFIED:20230807T055855Z
UID:10000824-1693422000-1693429200@aikido-contracosta.com
SUMMARY:Regular Class
DESCRIPTION:
URL:https://aikido-contracosta.com/events/regular-class-198/
LOCATION:St. Marks Church
END:VEVENT
BEGIN:VEVENT
DTSTART;TZID=America/Los_Angeles:20230823T190000
DTEND;TZID=America/Los_Angeles:20230823T210000
DTSTAMP:20260424T031555
CREATED:20230807T055829Z
LAST-MODIFIED:20230807T055829Z
UID:10000822-1692817200-1692824400@aikido-contracosta.com
SUMMARY:Regular Class
DESCRIPTION:
URL:https://aikido-contracosta.com/events/regular-class-197/
LOCATION:St. Marks Church
END:VEVENT
BEGIN:VEVENT
DTSTART;TZID=America/Los_Angeles:20230816T190000
DTEND;TZID=America/Los_Angeles:20230816T210000
DTSTAMP:20260424T031555
CREATED:20230807T055728Z
LAST-MODIFIED:20230807T055728Z
UID:10000820-1692212400-1692219600@aikido-contracosta.com
SUMMARY:Regular Class
DESCRIPTION:
URL:https://aikido-contracosta.com/events/regular-class-196/
LOCATION:St. Marks Church
END:VEVENT
BEGIN:VEVENT
DTSTART;TZID=America/Los_Angeles:20230809T190000
DTEND;TZID=America/Los_Angeles:20230809T210000
DTSTAMP:20260424T031555
CREATED:20230807T055701Z
LAST-MODIFIED:20230807T055701Z
UID:10000964-1691607600-1691614800@aikido-contracosta.com
SUMMARY:Regular Class
DESCRIPTION:
URL:https://aikido-contracosta.com/events/regular-class-195/
LOCATION:St. Marks Church
END:VEVENT
BEGIN:VEVENT
DTSTART;TZID=America/Los_Angeles:20230802T190000
DTEND;TZID=America/Los_Angeles:20230802T210000
DTSTAMP:20260424T031555
CREATED:20230628T185731Z
LAST-MODIFIED:20230628T185731Z
UID:10000937-1691002800-1691010000@aikido-contracosta.com
SUMMARY:Regular Class
DESCRIPTION:
URL:https://aikido-contracosta.com/events/regular-class-192/
LOCATION:St. Marks Church
END:VEVENT
BEGIN:VEVENT
DTSTART;TZID=America/Los_Angeles:20230726T190000
DTEND;TZID=America/Los_Angeles:20230726T210000
DTSTAMP:20260424T031555
CREATED:20230628T185700Z
LAST-MODIFIED:20230628T185700Z
UID:10000935-1690398000-1690405200@aikido-contracosta.com
SUMMARY:Regular Class
DESCRIPTION:
URL:https://aikido-contracosta.com/events/regular-class-191/
LOCATION:St. Marks Church
END:VEVENT
END:VCALENDAR