BEGIN:VCALENDAR
VERSION:2.0
PRODID:-//AikidoContraCosta.com - ECPv6.15.20//NONSGML v1.0//EN
CALSCALE:GREGORIAN
METHOD:PUBLISH
X-ORIGINAL-URL:https://aikido-contracosta.com
X-WR-CALDESC:Events for AikidoContraCosta.com
REFRESH-INTERVAL;VALUE=DURATION:PT1H
X-Robots-Tag:noindex
X-PUBLISHED-TTL:PT1H
BEGIN:VTIMEZONE
TZID:America/Los_Angeles
BEGIN:DAYLIGHT
TZOFFSETFROM:-0800
TZOFFSETTO:-0700
TZNAME:PDT
DTSTART:20240310T100000
END:DAYLIGHT
BEGIN:STANDARD
TZOFFSETFROM:-0700
TZOFFSETTO:-0800
TZNAME:PST
DTSTART:20241103T090000
END:STANDARD
BEGIN:DAYLIGHT
TZOFFSETFROM:-0800
TZOFFSETTO:-0700
TZNAME:PDT
DTSTART:20250309T100000
END:DAYLIGHT
BEGIN:STANDARD
TZOFFSETFROM:-0700
TZOFFSETTO:-0800
TZNAME:PST
DTSTART:20251102T090000
END:STANDARD
BEGIN:DAYLIGHT
TZOFFSETFROM:-0800
TZOFFSETTO:-0700
TZNAME:PDT
DTSTART:20260308T100000
END:DAYLIGHT
BEGIN:STANDARD
TZOFFSETFROM:-0700
TZOFFSETTO:-0800
TZNAME:PST
DTSTART:20261101T090000
END:STANDARD
BEGIN:DAYLIGHT
TZOFFSETFROM:-0800
TZOFFSETTO:-0700
TZNAME:PDT
DTSTART:20270314T100000
END:DAYLIGHT
BEGIN:STANDARD
TZOFFSETFROM:-0700
TZOFFSETTO:-0800
TZNAME:PST
DTSTART:20271107T090000
END:STANDARD
END:VTIMEZONE
BEGIN:VEVENT
DTSTART;TZID=America/Los_Angeles:20260222T100000
DTEND;TZID=America/Los_Angeles:20260222T130000
DTSTAMP:20260423T135651
CREATED:20260112T170920Z
LAST-MODIFIED:20260112T170937Z
UID:10003281-1771754400-1771765200@aikido-contracosta.com
SUMMARY:CAA Friendship Training and Meeting
DESCRIPTION:
URL:https://aikido-contracosta.com/events/caa-friendship-training-and-meeting/
LOCATION:https://aikido-west.org/contact\, 3164 Bay Road\, Redwood City\, CA\, 94063\, United States
END:VEVENT
BEGIN:VEVENT
DTSTART;TZID=America/Los_Angeles:20250824T100000
DTEND;TZID=America/Los_Angeles:20250824T130000
DTSTAMP:20260423T135651
CREATED:20250618T203815Z
LAST-MODIFIED:20250618T203815Z
UID:10003048-1756029600-1756040400@aikido-contracosta.com
SUMMARY:CAA Semi-Annual Training & Meeting
DESCRIPTION:
URL:https://aikido-contracosta.com/events/caa-semi-annual-training-meeting/
LOCATION:https://aikido-west.org/contact\, 3164 Bay Road\, Redwood City\, CA\, 94063\, United States
END:VEVENT
BEGIN:VEVENT
DTSTART;TZID=America/Los_Angeles:20250329T100000
DTEND;TZID=America/Los_Angeles:20250329T140000
DTSTAMP:20260423T135651
CREATED:20250310T015840Z
LAST-MODIFIED:20250310T020105Z
UID:10002161-1743242400-1743256800@aikido-contracosta.com
SUMMARY:Support Akemi-Aikido Exchange
DESCRIPTION:https://aikido-west.org/workshops
URL:https://aikido-contracosta.com/events/regular-class-350/
LOCATION:https://aikido-west.org/contact\, 3164 Bay Road\, Redwood City\, CA\, 94063\, United States
END:VEVENT
BEGIN:VEVENT
DTSTART;TZID=America/Los_Angeles:20250223T100000
DTEND;TZID=America/Los_Angeles:20250223T133000
DTSTAMP:20260423T135651
CREATED:20250117T024012Z
LAST-MODIFIED:20250117T024012Z
UID:10002433-1740304800-1740317400@aikido-contracosta.com
SUMMARY:CAA Sunday at Aikido West
DESCRIPTION:
URL:https://aikido-contracosta.com/events/caa-sunday-at-aikido-west/
LOCATION:https://aikido-west.org/contact\, 3164 Bay Road\, Redwood City\, CA\, 94063\, United States
END:VEVENT
END:VCALENDAR