BEGIN:VCALENDAR
VERSION:2.0
PRODID:-//AikidoContraCosta.com - ECPv6.15.20//NONSGML v1.0//EN
CALSCALE:GREGORIAN
METHOD:PUBLISH
X-WR-CALNAME:AikidoContraCosta.com
X-ORIGINAL-URL:https://aikido-contracosta.com
X-WR-CALDESC:Events for AikidoContraCosta.com
REFRESH-INTERVAL;VALUE=DURATION:PT1H
X-Robots-Tag:noindex
X-PUBLISHED-TTL:PT1H
BEGIN:VTIMEZONE
TZID:America/Los_Angeles
BEGIN:DAYLIGHT
TZOFFSETFROM:-0800
TZOFFSETTO:-0700
TZNAME:PDT
DTSTART:20220313T100000
END:DAYLIGHT
BEGIN:STANDARD
TZOFFSETFROM:-0700
TZOFFSETTO:-0800
TZNAME:PST
DTSTART:20221106T090000
END:STANDARD
BEGIN:DAYLIGHT
TZOFFSETFROM:-0800
TZOFFSETTO:-0700
TZNAME:PDT
DTSTART:20230312T100000
END:DAYLIGHT
BEGIN:STANDARD
TZOFFSETFROM:-0700
TZOFFSETTO:-0800
TZNAME:PST
DTSTART:20231105T090000
END:STANDARD
BEGIN:DAYLIGHT
TZOFFSETFROM:-0800
TZOFFSETTO:-0700
TZNAME:PDT
DTSTART:20240310T100000
END:DAYLIGHT
BEGIN:STANDARD
TZOFFSETFROM:-0700
TZOFFSETTO:-0800
TZNAME:PST
DTSTART:20241103T090000
END:STANDARD
END:VTIMEZONE
BEGIN:VEVENT
DTSTART;TZID=America/Los_Angeles:20230319T083000
DTEND;TZID=America/Los_Angeles:20230319T233000
DTSTAMP:20260423T221921
CREATED:20230310T021841Z
LAST-MODIFIED:20230310T021902Z
UID:10000823-1679214600-1679268600@aikido-contracosta.com
SUMMARY:Monthly ASL Weapons Seminar
DESCRIPTION:
URL:https://aikido-contracosta.com/events/monthly-asl-weapons-seminar/
LOCATION:Aikido San Leandro\, 1033 MacArthur Blvd\,\, San Leandro\, CA\, 94577\, United States
END:VEVENT
BEGIN:VEVENT
DTSTART;TZID=America/Los_Angeles:20230318T083000
DTEND;TZID=America/Los_Angeles:20230318T233000
DTSTAMP:20260423T221921
CREATED:20230306T164247Z
LAST-MODIFIED:20230310T021935Z
UID:10000729-1679128200-1679182200@aikido-contracosta.com
SUMMARY:Monthly ASL Weapons Seminar
DESCRIPTION:
URL:https://aikido-contracosta.com/events/saturday-in-wah-dojo-tentative/
LOCATION:Aikido San Leandro\, 1033 MacArthur Blvd\,\, San Leandro\, CA\, 94577\, United States
END:VEVENT
END:VCALENDAR