BEGIN:VCALENDAR
VERSION:2.0
PRODID:-//AikidoContraCosta.com - ECPv6.15.20//NONSGML v1.0//EN
CALSCALE:GREGORIAN
METHOD:PUBLISH
X-WR-CALNAME:AikidoContraCosta.com
X-ORIGINAL-URL:https://aikido-contracosta.com
X-WR-CALDESC:Events for AikidoContraCosta.com
REFRESH-INTERVAL;VALUE=DURATION:PT1H
X-Robots-Tag:noindex
X-PUBLISHED-TTL:PT1H
BEGIN:VTIMEZONE
TZID:America/Los_Angeles
BEGIN:DAYLIGHT
TZOFFSETFROM:-0800
TZOFFSETTO:-0700
TZNAME:PDT
DTSTART:20280312T100000
END:DAYLIGHT
BEGIN:STANDARD
TZOFFSETFROM:-0700
TZOFFSETTO:-0800
TZNAME:PST
DTSTART:20281105T090000
END:STANDARD
BEGIN:DAYLIGHT
TZOFFSETFROM:-0800
TZOFFSETTO:-0700
TZNAME:PDT
DTSTART:20290311T100000
END:DAYLIGHT
BEGIN:STANDARD
TZOFFSETFROM:-0700
TZOFFSETTO:-0800
TZNAME:PST
DTSTART:20291104T090000
END:STANDARD
BEGIN:DAYLIGHT
TZOFFSETFROM:-0800
TZOFFSETTO:-0700
TZNAME:PDT
DTSTART:20300310T100000
END:DAYLIGHT
BEGIN:STANDARD
TZOFFSETFROM:-0700
TZOFFSETTO:-0800
TZNAME:PST
DTSTART:20301103T090000
END:STANDARD
END:VTIMEZONE
BEGIN:VEVENT
DTSTART;TZID=America/Los_Angeles:20290301T193000
DTEND;TZID=America/Los_Angeles:20290301T210000
DTSTAMP:20260425T171118
CREATED:20250116T225203Z
LAST-MODIFIED:20250116T225205Z
UID:10002060-1867087800-1867093200@aikido-contracosta.com
SUMMARY:Regular Class
DESCRIPTION:
URL:https://aikido-contracosta.com/events/regular-class-327-2/2029-03-01/
LOCATION:Wah Dojo
END:VEVENT
BEGIN:VEVENT
DTSTART;TZID=America/Los_Angeles:20290306T193000
DTEND;TZID=America/Los_Angeles:20290306T210000
DTSTAMP:20260425T171118
CREATED:20250116T225203Z
LAST-MODIFIED:20250116T225205Z
UID:10002061-1867519800-1867525200@aikido-contracosta.com
SUMMARY:Regular Class
DESCRIPTION:
URL:https://aikido-contracosta.com/events/regular-class-327-2/2029-03-06/
LOCATION:Wah Dojo
END:VEVENT
BEGIN:VEVENT
DTSTART;TZID=America/Los_Angeles:20290308T193000
DTEND;TZID=America/Los_Angeles:20290308T210000
DTSTAMP:20260425T171118
CREATED:20250116T225203Z
LAST-MODIFIED:20250116T225205Z
UID:10002062-1867692600-1867698000@aikido-contracosta.com
SUMMARY:Regular Class
DESCRIPTION:
URL:https://aikido-contracosta.com/events/regular-class-327-2/2029-03-08/
LOCATION:Wah Dojo
END:VEVENT
BEGIN:VEVENT
DTSTART;TZID=America/Los_Angeles:20290313T193000
DTEND;TZID=America/Los_Angeles:20290313T210000
DTSTAMP:20260425T171118
CREATED:20250116T225203Z
LAST-MODIFIED:20250116T225205Z
UID:10002063-1868124600-1868130000@aikido-contracosta.com
SUMMARY:Regular Class
DESCRIPTION:
URL:https://aikido-contracosta.com/events/regular-class-327-2/2029-03-13/
LOCATION:Wah Dojo
END:VEVENT
BEGIN:VEVENT
DTSTART;TZID=America/Los_Angeles:20290315T193000
DTEND;TZID=America/Los_Angeles:20290315T210000
DTSTAMP:20260425T171118
CREATED:20250116T225203Z
LAST-MODIFIED:20250116T225205Z
UID:10002064-1868297400-1868302800@aikido-contracosta.com
SUMMARY:Regular Class
DESCRIPTION:
URL:https://aikido-contracosta.com/events/regular-class-327-2/2029-03-15/
LOCATION:Wah Dojo
END:VEVENT
BEGIN:VEVENT
DTSTART;TZID=America/Los_Angeles:20290320T193000
DTEND;TZID=America/Los_Angeles:20290320T210000
DTSTAMP:20260425T171118
CREATED:20250116T225203Z
LAST-MODIFIED:20250116T225205Z
UID:10002065-1868729400-1868734800@aikido-contracosta.com
SUMMARY:Regular Class
DESCRIPTION:
URL:https://aikido-contracosta.com/events/regular-class-327-2/2029-03-20/
LOCATION:Wah Dojo
END:VEVENT
BEGIN:VEVENT
DTSTART;TZID=America/Los_Angeles:20290322T193000
DTEND;TZID=America/Los_Angeles:20290322T210000
DTSTAMP:20260425T171118
CREATED:20250116T225203Z
LAST-MODIFIED:20250116T225205Z
UID:10002066-1868902200-1868907600@aikido-contracosta.com
SUMMARY:Regular Class
DESCRIPTION:
URL:https://aikido-contracosta.com/events/regular-class-327-2/2029-03-22/
LOCATION:Wah Dojo
END:VEVENT
BEGIN:VEVENT
DTSTART;TZID=America/Los_Angeles:20290327T193000
DTEND;TZID=America/Los_Angeles:20290327T210000
DTSTAMP:20260425T171118
CREATED:20250116T225203Z
LAST-MODIFIED:20250116T225205Z
UID:10002067-1869334200-1869339600@aikido-contracosta.com
SUMMARY:Regular Class
DESCRIPTION:
URL:https://aikido-contracosta.com/events/regular-class-327-2/2029-03-27/
LOCATION:Wah Dojo
END:VEVENT
BEGIN:VEVENT
DTSTART;TZID=America/Los_Angeles:20290329T193000
DTEND;TZID=America/Los_Angeles:20290329T210000
DTSTAMP:20260425T171118
CREATED:20250116T225203Z
LAST-MODIFIED:20250116T225205Z
UID:10002068-1869507000-1869512400@aikido-contracosta.com
SUMMARY:Regular Class
DESCRIPTION:
URL:https://aikido-contracosta.com/events/regular-class-327-2/2029-03-29/
LOCATION:Wah Dojo
END:VEVENT
END:VCALENDAR