BEGIN:VCALENDAR
VERSION:2.0
PRODID:-//AikidoContraCosta.com - ECPv6.15.20//NONSGML v1.0//EN
CALSCALE:GREGORIAN
METHOD:PUBLISH
X-WR-CALNAME:AikidoContraCosta.com
X-ORIGINAL-URL:https://aikido-contracosta.com
X-WR-CALDESC:Events for AikidoContraCosta.com
REFRESH-INTERVAL;VALUE=DURATION:PT1H
X-Robots-Tag:noindex
X-PUBLISHED-TTL:PT1H
BEGIN:VTIMEZONE
TZID:America/Los_Angeles
BEGIN:DAYLIGHT
TZOFFSETFROM:-0800
TZOFFSETTO:-0700
TZNAME:PDT
DTSTART:20270314T100000
END:DAYLIGHT
BEGIN:STANDARD
TZOFFSETFROM:-0700
TZOFFSETTO:-0800
TZNAME:PST
DTSTART:20271107T090000
END:STANDARD
BEGIN:DAYLIGHT
TZOFFSETFROM:-0800
TZOFFSETTO:-0700
TZNAME:PDT
DTSTART:20280312T100000
END:DAYLIGHT
BEGIN:STANDARD
TZOFFSETFROM:-0700
TZOFFSETTO:-0800
TZNAME:PST
DTSTART:20281105T090000
END:STANDARD
BEGIN:DAYLIGHT
TZOFFSETFROM:-0800
TZOFFSETTO:-0700
TZNAME:PDT
DTSTART:20290311T100000
END:DAYLIGHT
BEGIN:STANDARD
TZOFFSETFROM:-0700
TZOFFSETTO:-0800
TZNAME:PST
DTSTART:20291104T090000
END:STANDARD
END:VTIMEZONE
BEGIN:VEVENT
DTSTART;TZID=America/Los_Angeles:20281102T193000
DTEND;TZID=America/Los_Angeles:20281102T210000
DTSTAMP:20260425T104156
CREATED:20250116T225203Z
LAST-MODIFIED:20250116T225205Z
UID:10002026-1856806200-1856811600@aikido-contracosta.com
SUMMARY:Regular Class
DESCRIPTION:
URL:https://aikido-contracosta.com/events/regular-class-327-2/2028-11-02/
LOCATION:Wah Dojo
END:VEVENT
BEGIN:VEVENT
DTSTART;TZID=America/Los_Angeles:20281107T193000
DTEND;TZID=America/Los_Angeles:20281107T210000
DTSTAMP:20260425T104156
CREATED:20250116T225203Z
LAST-MODIFIED:20250116T225205Z
UID:10002027-1857238200-1857243600@aikido-contracosta.com
SUMMARY:Regular Class
DESCRIPTION:
URL:https://aikido-contracosta.com/events/regular-class-327-2/2028-11-07/
LOCATION:Wah Dojo
END:VEVENT
BEGIN:VEVENT
DTSTART;TZID=America/Los_Angeles:20281109T193000
DTEND;TZID=America/Los_Angeles:20281109T210000
DTSTAMP:20260425T104156
CREATED:20250116T225203Z
LAST-MODIFIED:20250116T225205Z
UID:10002028-1857411000-1857416400@aikido-contracosta.com
SUMMARY:Regular Class
DESCRIPTION:
URL:https://aikido-contracosta.com/events/regular-class-327-2/2028-11-09/
LOCATION:Wah Dojo
END:VEVENT
BEGIN:VEVENT
DTSTART;TZID=America/Los_Angeles:20281114T193000
DTEND;TZID=America/Los_Angeles:20281114T210000
DTSTAMP:20260425T104156
CREATED:20250116T225203Z
LAST-MODIFIED:20250116T225205Z
UID:10002029-1857843000-1857848400@aikido-contracosta.com
SUMMARY:Regular Class
DESCRIPTION:
URL:https://aikido-contracosta.com/events/regular-class-327-2/2028-11-14/
LOCATION:Wah Dojo
END:VEVENT
BEGIN:VEVENT
DTSTART;TZID=America/Los_Angeles:20281116T193000
DTEND;TZID=America/Los_Angeles:20281116T210000
DTSTAMP:20260425T104156
CREATED:20250116T225203Z
LAST-MODIFIED:20250116T225205Z
UID:10002030-1858015800-1858021200@aikido-contracosta.com
SUMMARY:Regular Class
DESCRIPTION:
URL:https://aikido-contracosta.com/events/regular-class-327-2/2028-11-16/
LOCATION:Wah Dojo
END:VEVENT
BEGIN:VEVENT
DTSTART;TZID=America/Los_Angeles:20281121T193000
DTEND;TZID=America/Los_Angeles:20281121T210000
DTSTAMP:20260425T104156
CREATED:20250116T225203Z
LAST-MODIFIED:20250116T225205Z
UID:10002031-1858447800-1858453200@aikido-contracosta.com
SUMMARY:Regular Class
DESCRIPTION:
URL:https://aikido-contracosta.com/events/regular-class-327-2/2028-11-21/
LOCATION:Wah Dojo
END:VEVENT
BEGIN:VEVENT
DTSTART;TZID=America/Los_Angeles:20281123T193000
DTEND;TZID=America/Los_Angeles:20281123T210000
DTSTAMP:20260425T104156
CREATED:20250116T225203Z
LAST-MODIFIED:20250116T225205Z
UID:10002032-1858620600-1858626000@aikido-contracosta.com
SUMMARY:Regular Class
DESCRIPTION:
URL:https://aikido-contracosta.com/events/regular-class-327-2/2028-11-23/
LOCATION:Wah Dojo
END:VEVENT
BEGIN:VEVENT
DTSTART;TZID=America/Los_Angeles:20281128T193000
DTEND;TZID=America/Los_Angeles:20281128T210000
DTSTAMP:20260425T104156
CREATED:20250116T225203Z
LAST-MODIFIED:20250116T225205Z
UID:10002033-1859052600-1859058000@aikido-contracosta.com
SUMMARY:Regular Class
DESCRIPTION:
URL:https://aikido-contracosta.com/events/regular-class-327-2/2028-11-28/
LOCATION:Wah Dojo
END:VEVENT
BEGIN:VEVENT
DTSTART;TZID=America/Los_Angeles:20281130T193000
DTEND;TZID=America/Los_Angeles:20281130T210000
DTSTAMP:20260425T104156
CREATED:20250116T225203Z
LAST-MODIFIED:20250116T225205Z
UID:10002034-1859225400-1859230800@aikido-contracosta.com
SUMMARY:Regular Class
DESCRIPTION:
URL:https://aikido-contracosta.com/events/regular-class-327-2/2028-11-30/
LOCATION:Wah Dojo
END:VEVENT
END:VCALENDAR