BEGIN:VCALENDAR
VERSION:2.0
PRODID:-//AikidoContraCosta.com - ECPv6.15.20//NONSGML v1.0//EN
CALSCALE:GREGORIAN
METHOD:PUBLISH
X-WR-CALNAME:AikidoContraCosta.com
X-ORIGINAL-URL:https://aikido-contracosta.com
X-WR-CALDESC:Events for AikidoContraCosta.com
REFRESH-INTERVAL;VALUE=DURATION:PT1H
X-Robots-Tag:noindex
X-PUBLISHED-TTL:PT1H
BEGIN:VTIMEZONE
TZID:America/Los_Angeles
BEGIN:DAYLIGHT
TZOFFSETFROM:-0800
TZOFFSETTO:-0700
TZNAME:PDT
DTSTART:20270314T100000
END:DAYLIGHT
BEGIN:STANDARD
TZOFFSETFROM:-0700
TZOFFSETTO:-0800
TZNAME:PST
DTSTART:20271107T090000
END:STANDARD
BEGIN:DAYLIGHT
TZOFFSETFROM:-0800
TZOFFSETTO:-0700
TZNAME:PDT
DTSTART:20280312T100000
END:DAYLIGHT
BEGIN:STANDARD
TZOFFSETFROM:-0700
TZOFFSETTO:-0800
TZNAME:PST
DTSTART:20281105T090000
END:STANDARD
BEGIN:DAYLIGHT
TZOFFSETFROM:-0800
TZOFFSETTO:-0700
TZNAME:PDT
DTSTART:20290311T100000
END:DAYLIGHT
BEGIN:STANDARD
TZOFFSETFROM:-0700
TZOFFSETTO:-0800
TZNAME:PST
DTSTART:20291104T090000
END:STANDARD
END:VTIMEZONE
BEGIN:VEVENT
DTSTART;TZID=America/Los_Angeles:20281003T193000
DTEND;TZID=America/Los_Angeles:20281003T210000
DTSTAMP:20260425T090759
CREATED:20250116T225203Z
LAST-MODIFIED:20250116T225205Z
UID:10002017-1854214200-1854219600@aikido-contracosta.com
SUMMARY:Regular Class
DESCRIPTION:
URL:https://aikido-contracosta.com/events/regular-class-327-2/2028-10-03/
LOCATION:Wah Dojo
END:VEVENT
BEGIN:VEVENT
DTSTART;TZID=America/Los_Angeles:20281005T193000
DTEND;TZID=America/Los_Angeles:20281005T210000
DTSTAMP:20260425T090759
CREATED:20250116T225203Z
LAST-MODIFIED:20250116T225205Z
UID:10002018-1854387000-1854392400@aikido-contracosta.com
SUMMARY:Regular Class
DESCRIPTION:
URL:https://aikido-contracosta.com/events/regular-class-327-2/2028-10-05/
LOCATION:Wah Dojo
END:VEVENT
BEGIN:VEVENT
DTSTART;TZID=America/Los_Angeles:20281010T193000
DTEND;TZID=America/Los_Angeles:20281010T210000
DTSTAMP:20260425T090759
CREATED:20250116T225203Z
LAST-MODIFIED:20250116T225205Z
UID:10002019-1854819000-1854824400@aikido-contracosta.com
SUMMARY:Regular Class
DESCRIPTION:
URL:https://aikido-contracosta.com/events/regular-class-327-2/2028-10-10/
LOCATION:Wah Dojo
END:VEVENT
BEGIN:VEVENT
DTSTART;TZID=America/Los_Angeles:20281012T193000
DTEND;TZID=America/Los_Angeles:20281012T210000
DTSTAMP:20260425T090759
CREATED:20250116T225203Z
LAST-MODIFIED:20250116T225205Z
UID:10002020-1854991800-1854997200@aikido-contracosta.com
SUMMARY:Regular Class
DESCRIPTION:
URL:https://aikido-contracosta.com/events/regular-class-327-2/2028-10-12/
LOCATION:Wah Dojo
END:VEVENT
BEGIN:VEVENT
DTSTART;TZID=America/Los_Angeles:20281017T193000
DTEND;TZID=America/Los_Angeles:20281017T210000
DTSTAMP:20260425T090759
CREATED:20250116T225203Z
LAST-MODIFIED:20250116T225205Z
UID:10002021-1855423800-1855429200@aikido-contracosta.com
SUMMARY:Regular Class
DESCRIPTION:
URL:https://aikido-contracosta.com/events/regular-class-327-2/2028-10-17/
LOCATION:Wah Dojo
END:VEVENT
BEGIN:VEVENT
DTSTART;TZID=America/Los_Angeles:20281019T193000
DTEND;TZID=America/Los_Angeles:20281019T210000
DTSTAMP:20260425T090759
CREATED:20250116T225203Z
LAST-MODIFIED:20250116T225205Z
UID:10002022-1855596600-1855602000@aikido-contracosta.com
SUMMARY:Regular Class
DESCRIPTION:
URL:https://aikido-contracosta.com/events/regular-class-327-2/2028-10-19/
LOCATION:Wah Dojo
END:VEVENT
BEGIN:VEVENT
DTSTART;TZID=America/Los_Angeles:20281024T193000
DTEND;TZID=America/Los_Angeles:20281024T210000
DTSTAMP:20260425T090759
CREATED:20250116T225203Z
LAST-MODIFIED:20250116T225205Z
UID:10002023-1856028600-1856034000@aikido-contracosta.com
SUMMARY:Regular Class
DESCRIPTION:
URL:https://aikido-contracosta.com/events/regular-class-327-2/2028-10-24/
LOCATION:Wah Dojo
END:VEVENT
BEGIN:VEVENT
DTSTART;TZID=America/Los_Angeles:20281026T193000
DTEND;TZID=America/Los_Angeles:20281026T210000
DTSTAMP:20260425T090759
CREATED:20250116T225203Z
LAST-MODIFIED:20250116T225205Z
UID:10002024-1856201400-1856206800@aikido-contracosta.com
SUMMARY:Regular Class
DESCRIPTION:
URL:https://aikido-contracosta.com/events/regular-class-327-2/2028-10-26/
LOCATION:Wah Dojo
END:VEVENT
BEGIN:VEVENT
DTSTART;TZID=America/Los_Angeles:20281031T193000
DTEND;TZID=America/Los_Angeles:20281031T210000
DTSTAMP:20260425T090759
CREATED:20250116T225203Z
LAST-MODIFIED:20250116T225205Z
UID:10002025-1856633400-1856638800@aikido-contracosta.com
SUMMARY:Regular Class
DESCRIPTION:
URL:https://aikido-contracosta.com/events/regular-class-327-2/2028-10-31/
LOCATION:Wah Dojo
END:VEVENT
END:VCALENDAR