BEGIN:VCALENDAR
VERSION:2.0
PRODID:-//AikidoContraCosta.com - ECPv6.15.20//NONSGML v1.0//EN
CALSCALE:GREGORIAN
METHOD:PUBLISH
X-WR-CALNAME:AikidoContraCosta.com
X-ORIGINAL-URL:https://aikido-contracosta.com
X-WR-CALDESC:Events for AikidoContraCosta.com
REFRESH-INTERVAL;VALUE=DURATION:PT1H
X-Robots-Tag:noindex
X-PUBLISHED-TTL:PT1H
BEGIN:VTIMEZONE
TZID:America/Los_Angeles
BEGIN:DAYLIGHT
TZOFFSETFROM:-0800
TZOFFSETTO:-0700
TZNAME:PDT
DTSTART:20270314T100000
END:DAYLIGHT
BEGIN:STANDARD
TZOFFSETFROM:-0700
TZOFFSETTO:-0800
TZNAME:PST
DTSTART:20271107T090000
END:STANDARD
BEGIN:DAYLIGHT
TZOFFSETFROM:-0800
TZOFFSETTO:-0700
TZNAME:PDT
DTSTART:20280312T100000
END:DAYLIGHT
BEGIN:STANDARD
TZOFFSETFROM:-0700
TZOFFSETTO:-0800
TZNAME:PST
DTSTART:20281105T090000
END:STANDARD
BEGIN:DAYLIGHT
TZOFFSETFROM:-0800
TZOFFSETTO:-0700
TZNAME:PDT
DTSTART:20290311T100000
END:DAYLIGHT
BEGIN:STANDARD
TZOFFSETFROM:-0700
TZOFFSETTO:-0800
TZNAME:PST
DTSTART:20291104T090000
END:STANDARD
END:VTIMEZONE
BEGIN:VEVENT
DTSTART;TZID=America/Los_Angeles:20280302T193000
DTEND;TZID=America/Los_Angeles:20280302T210000
DTSTAMP:20260424T210122
CREATED:20250116T225203Z
LAST-MODIFIED:20250116T225205Z
UID:10001956-1835638200-1835643600@aikido-contracosta.com
SUMMARY:Regular Class
DESCRIPTION:
URL:https://aikido-contracosta.com/events/regular-class-327-2/2028-03-02/
LOCATION:Wah Dojo
END:VEVENT
BEGIN:VEVENT
DTSTART;TZID=America/Los_Angeles:20280307T193000
DTEND;TZID=America/Los_Angeles:20280307T210000
DTSTAMP:20260424T210122
CREATED:20250116T225203Z
LAST-MODIFIED:20250116T225205Z
UID:10001957-1836070200-1836075600@aikido-contracosta.com
SUMMARY:Regular Class
DESCRIPTION:
URL:https://aikido-contracosta.com/events/regular-class-327-2/2028-03-07/
LOCATION:Wah Dojo
END:VEVENT
BEGIN:VEVENT
DTSTART;TZID=America/Los_Angeles:20280309T193000
DTEND;TZID=America/Los_Angeles:20280309T210000
DTSTAMP:20260424T210122
CREATED:20250116T225203Z
LAST-MODIFIED:20250116T225205Z
UID:10001958-1836243000-1836248400@aikido-contracosta.com
SUMMARY:Regular Class
DESCRIPTION:
URL:https://aikido-contracosta.com/events/regular-class-327-2/2028-03-09/
LOCATION:Wah Dojo
END:VEVENT
BEGIN:VEVENT
DTSTART;TZID=America/Los_Angeles:20280314T193000
DTEND;TZID=America/Los_Angeles:20280314T210000
DTSTAMP:20260424T210122
CREATED:20250116T225203Z
LAST-MODIFIED:20250116T225205Z
UID:10001959-1836675000-1836680400@aikido-contracosta.com
SUMMARY:Regular Class
DESCRIPTION:
URL:https://aikido-contracosta.com/events/regular-class-327-2/2028-03-14/
LOCATION:Wah Dojo
END:VEVENT
BEGIN:VEVENT
DTSTART;TZID=America/Los_Angeles:20280316T193000
DTEND;TZID=America/Los_Angeles:20280316T210000
DTSTAMP:20260424T210122
CREATED:20250116T225203Z
LAST-MODIFIED:20250116T225205Z
UID:10001960-1836847800-1836853200@aikido-contracosta.com
SUMMARY:Regular Class
DESCRIPTION:
URL:https://aikido-contracosta.com/events/regular-class-327-2/2028-03-16/
LOCATION:Wah Dojo
END:VEVENT
BEGIN:VEVENT
DTSTART;TZID=America/Los_Angeles:20280321T193000
DTEND;TZID=America/Los_Angeles:20280321T210000
DTSTAMP:20260424T210122
CREATED:20250116T225203Z
LAST-MODIFIED:20250116T225205Z
UID:10001961-1837279800-1837285200@aikido-contracosta.com
SUMMARY:Regular Class
DESCRIPTION:
URL:https://aikido-contracosta.com/events/regular-class-327-2/2028-03-21/
LOCATION:Wah Dojo
END:VEVENT
BEGIN:VEVENT
DTSTART;TZID=America/Los_Angeles:20280323T193000
DTEND;TZID=America/Los_Angeles:20280323T210000
DTSTAMP:20260424T210122
CREATED:20250116T225203Z
LAST-MODIFIED:20250116T225205Z
UID:10001962-1837452600-1837458000@aikido-contracosta.com
SUMMARY:Regular Class
DESCRIPTION:
URL:https://aikido-contracosta.com/events/regular-class-327-2/2028-03-23/
LOCATION:Wah Dojo
END:VEVENT
BEGIN:VEVENT
DTSTART;TZID=America/Los_Angeles:20280328T193000
DTEND;TZID=America/Los_Angeles:20280328T210000
DTSTAMP:20260424T210122
CREATED:20250116T225203Z
LAST-MODIFIED:20250116T225205Z
UID:10001963-1837884600-1837890000@aikido-contracosta.com
SUMMARY:Regular Class
DESCRIPTION:
URL:https://aikido-contracosta.com/events/regular-class-327-2/2028-03-28/
LOCATION:Wah Dojo
END:VEVENT
BEGIN:VEVENT
DTSTART;TZID=America/Los_Angeles:20280330T193000
DTEND;TZID=America/Los_Angeles:20280330T210000
DTSTAMP:20260424T210122
CREATED:20250116T225203Z
LAST-MODIFIED:20250116T225205Z
UID:10001964-1838057400-1838062800@aikido-contracosta.com
SUMMARY:Regular Class
DESCRIPTION:
URL:https://aikido-contracosta.com/events/regular-class-327-2/2028-03-30/
LOCATION:Wah Dojo
END:VEVENT
END:VCALENDAR