BEGIN:VCALENDAR
VERSION:2.0
PRODID:-//AikidoContraCosta.com - ECPv6.15.20//NONSGML v1.0//EN
CALSCALE:GREGORIAN
METHOD:PUBLISH
X-WR-CALNAME:AikidoContraCosta.com
X-ORIGINAL-URL:https://aikido-contracosta.com
X-WR-CALDESC:Events for AikidoContraCosta.com
REFRESH-INTERVAL;VALUE=DURATION:PT1H
X-Robots-Tag:noindex
X-PUBLISHED-TTL:PT1H
BEGIN:VTIMEZONE
TZID:America/Los_Angeles
BEGIN:DAYLIGHT
TZOFFSETFROM:-0800
TZOFFSETTO:-0700
TZNAME:PDT
DTSTART:20260308T100000
END:DAYLIGHT
BEGIN:STANDARD
TZOFFSETFROM:-0700
TZOFFSETTO:-0800
TZNAME:PST
DTSTART:20261101T090000
END:STANDARD
BEGIN:DAYLIGHT
TZOFFSETFROM:-0800
TZOFFSETTO:-0700
TZNAME:PDT
DTSTART:20270314T100000
END:DAYLIGHT
BEGIN:STANDARD
TZOFFSETFROM:-0700
TZOFFSETTO:-0800
TZNAME:PST
DTSTART:20271107T090000
END:STANDARD
BEGIN:DAYLIGHT
TZOFFSETFROM:-0800
TZOFFSETTO:-0700
TZNAME:PDT
DTSTART:20280312T100000
END:DAYLIGHT
BEGIN:STANDARD
TZOFFSETFROM:-0700
TZOFFSETTO:-0800
TZNAME:PST
DTSTART:20281105T090000
END:STANDARD
END:VTIMEZONE
BEGIN:VEVENT
DTSTART;TZID=America/Los_Angeles:20270504T193000
DTEND;TZID=America/Los_Angeles:20270504T210000
DTSTAMP:20260424T034827
CREATED:20250116T225203Z
LAST-MODIFIED:20250116T225205Z
UID:10001869-1809459000-1809464400@aikido-contracosta.com
SUMMARY:Regular Class
DESCRIPTION:
URL:https://aikido-contracosta.com/events/regular-class-327-2/2027-05-04/
LOCATION:Wah Dojo
END:VEVENT
BEGIN:VEVENT
DTSTART;TZID=America/Los_Angeles:20270505T190000
DTEND;TZID=America/Los_Angeles:20270505T203000
DTSTAMP:20260424T034827
CREATED:20260331T194306Z
LAST-MODIFIED:20260331T194306Z
UID:10003343-1809543600-1809549000@aikido-contracosta.com
SUMMARY:Regular Class
DESCRIPTION:
URL:https://aikido-contracosta.com/events/regular-class-378/2027-05-05/
LOCATION:St. Marks Church
END:VEVENT
BEGIN:VEVENT
DTSTART;TZID=America/Los_Angeles:20270506T193000
DTEND;TZID=America/Los_Angeles:20270506T210000
DTSTAMP:20260424T034827
CREATED:20250116T225203Z
LAST-MODIFIED:20250116T225205Z
UID:10001870-1809631800-1809637200@aikido-contracosta.com
SUMMARY:Regular Class
DESCRIPTION:
URL:https://aikido-contracosta.com/events/regular-class-327-2/2027-05-06/
LOCATION:Wah Dojo
END:VEVENT
BEGIN:VEVENT
DTSTART;TZID=America/Los_Angeles:20270511T193000
DTEND;TZID=America/Los_Angeles:20270511T210000
DTSTAMP:20260424T034827
CREATED:20250116T225203Z
LAST-MODIFIED:20250116T225205Z
UID:10001871-1810063800-1810069200@aikido-contracosta.com
SUMMARY:Regular Class
DESCRIPTION:
URL:https://aikido-contracosta.com/events/regular-class-327-2/2027-05-11/
LOCATION:Wah Dojo
END:VEVENT
BEGIN:VEVENT
DTSTART;TZID=America/Los_Angeles:20270512T190000
DTEND;TZID=America/Los_Angeles:20270512T203000
DTSTAMP:20260424T034827
CREATED:20260331T194306Z
LAST-MODIFIED:20260331T194306Z
UID:10003344-1810148400-1810153800@aikido-contracosta.com
SUMMARY:Regular Class
DESCRIPTION:
URL:https://aikido-contracosta.com/events/regular-class-378/2027-05-12/
LOCATION:St. Marks Church
END:VEVENT
BEGIN:VEVENT
DTSTART;TZID=America/Los_Angeles:20270513T193000
DTEND;TZID=America/Los_Angeles:20270513T210000
DTSTAMP:20260424T034827
CREATED:20250116T225203Z
LAST-MODIFIED:20250116T225205Z
UID:10001872-1810236600-1810242000@aikido-contracosta.com
SUMMARY:Regular Class
DESCRIPTION:
URL:https://aikido-contracosta.com/events/regular-class-327-2/2027-05-13/
LOCATION:Wah Dojo
END:VEVENT
BEGIN:VEVENT
DTSTART;TZID=America/Los_Angeles:20270518T193000
DTEND;TZID=America/Los_Angeles:20270518T210000
DTSTAMP:20260424T034827
CREATED:20250116T225203Z
LAST-MODIFIED:20250116T225205Z
UID:10001873-1810668600-1810674000@aikido-contracosta.com
SUMMARY:Regular Class
DESCRIPTION:
URL:https://aikido-contracosta.com/events/regular-class-327-2/2027-05-18/
LOCATION:Wah Dojo
END:VEVENT
BEGIN:VEVENT
DTSTART;TZID=America/Los_Angeles:20270519T190000
DTEND;TZID=America/Los_Angeles:20270519T203000
DTSTAMP:20260424T034827
CREATED:20260331T194306Z
LAST-MODIFIED:20260331T194306Z
UID:10003345-1810753200-1810758600@aikido-contracosta.com
SUMMARY:Regular Class
DESCRIPTION:
URL:https://aikido-contracosta.com/events/regular-class-378/2027-05-19/
LOCATION:St. Marks Church
END:VEVENT
BEGIN:VEVENT
DTSTART;TZID=America/Los_Angeles:20270520T193000
DTEND;TZID=America/Los_Angeles:20270520T210000
DTSTAMP:20260424T034827
CREATED:20250116T225203Z
LAST-MODIFIED:20250116T225205Z
UID:10001874-1810841400-1810846800@aikido-contracosta.com
SUMMARY:Regular Class
DESCRIPTION:
URL:https://aikido-contracosta.com/events/regular-class-327-2/2027-05-20/
LOCATION:Wah Dojo
END:VEVENT
BEGIN:VEVENT
DTSTART;TZID=America/Los_Angeles:20270525T193000
DTEND;TZID=America/Los_Angeles:20270525T210000
DTSTAMP:20260424T034827
CREATED:20250116T225203Z
LAST-MODIFIED:20250116T225205Z
UID:10001875-1811273400-1811278800@aikido-contracosta.com
SUMMARY:Regular Class
DESCRIPTION:
URL:https://aikido-contracosta.com/events/regular-class-327-2/2027-05-25/
LOCATION:Wah Dojo
END:VEVENT
BEGIN:VEVENT
DTSTART;TZID=America/Los_Angeles:20270526T190000
DTEND;TZID=America/Los_Angeles:20270526T203000
DTSTAMP:20260424T034827
CREATED:20260331T194306Z
LAST-MODIFIED:20260331T194306Z
UID:10003346-1811358000-1811363400@aikido-contracosta.com
SUMMARY:Regular Class
DESCRIPTION:
URL:https://aikido-contracosta.com/events/regular-class-378/2027-05-26/
LOCATION:St. Marks Church
END:VEVENT
BEGIN:VEVENT
DTSTART;TZID=America/Los_Angeles:20270527T193000
DTEND;TZID=America/Los_Angeles:20270527T210000
DTSTAMP:20260424T034827
CREATED:20250116T225203Z
LAST-MODIFIED:20250116T225205Z
UID:10001876-1811446200-1811451600@aikido-contracosta.com
SUMMARY:Regular Class
DESCRIPTION:
URL:https://aikido-contracosta.com/events/regular-class-327-2/2027-05-27/
LOCATION:Wah Dojo
END:VEVENT
END:VCALENDAR