BEGIN:VCALENDAR
VERSION:2.0
PRODID:-//AikidoContraCosta.com - ECPv6.15.20//NONSGML v1.0//EN
CALSCALE:GREGORIAN
METHOD:PUBLISH
X-WR-CALNAME:AikidoContraCosta.com
X-ORIGINAL-URL:https://aikido-contracosta.com
X-WR-CALDESC:Events for AikidoContraCosta.com
REFRESH-INTERVAL;VALUE=DURATION:PT1H
X-Robots-Tag:noindex
X-PUBLISHED-TTL:PT1H
BEGIN:VTIMEZONE
TZID:America/Los_Angeles
BEGIN:DAYLIGHT
TZOFFSETFROM:-0800
TZOFFSETTO:-0700
TZNAME:PDT
DTSTART:20260308T100000
END:DAYLIGHT
BEGIN:STANDARD
TZOFFSETFROM:-0700
TZOFFSETTO:-0800
TZNAME:PST
DTSTART:20261101T090000
END:STANDARD
BEGIN:DAYLIGHT
TZOFFSETFROM:-0800
TZOFFSETTO:-0700
TZNAME:PDT
DTSTART:20270314T100000
END:DAYLIGHT
BEGIN:STANDARD
TZOFFSETFROM:-0700
TZOFFSETTO:-0800
TZNAME:PST
DTSTART:20271107T090000
END:STANDARD
BEGIN:DAYLIGHT
TZOFFSETFROM:-0800
TZOFFSETTO:-0700
TZNAME:PDT
DTSTART:20280312T100000
END:DAYLIGHT
BEGIN:STANDARD
TZOFFSETFROM:-0700
TZOFFSETTO:-0800
TZNAME:PST
DTSTART:20281105T090000
END:STANDARD
END:VTIMEZONE
BEGIN:VEVENT
DTSTART;TZID=America/Los_Angeles:20270401T193000
DTEND;TZID=America/Los_Angeles:20270401T210000
DTSTAMP:20260424T021218
CREATED:20250116T225203Z
LAST-MODIFIED:20250116T225205Z
UID:10001860-1806607800-1806613200@aikido-contracosta.com
SUMMARY:Regular Class
DESCRIPTION:
URL:https://aikido-contracosta.com/events/regular-class-327-2/2027-04-01/
LOCATION:Wah Dojo
END:VEVENT
BEGIN:VEVENT
DTSTART;TZID=America/Los_Angeles:20270406T193000
DTEND;TZID=America/Los_Angeles:20270406T210000
DTSTAMP:20260424T021218
CREATED:20250116T225203Z
LAST-MODIFIED:20250116T225205Z
UID:10001861-1807039800-1807045200@aikido-contracosta.com
SUMMARY:Regular Class
DESCRIPTION:
URL:https://aikido-contracosta.com/events/regular-class-327-2/2027-04-06/
LOCATION:Wah Dojo
END:VEVENT
BEGIN:VEVENT
DTSTART;TZID=America/Los_Angeles:20270407T190000
DTEND;TZID=America/Los_Angeles:20270407T203000
DTSTAMP:20260424T021218
CREATED:20260331T194306Z
LAST-MODIFIED:20260331T194306Z
UID:10003339-1807124400-1807129800@aikido-contracosta.com
SUMMARY:Regular Class
DESCRIPTION:
URL:https://aikido-contracosta.com/events/regular-class-378/2027-04-07/
LOCATION:St. Marks Church
END:VEVENT
BEGIN:VEVENT
DTSTART;TZID=America/Los_Angeles:20270408T193000
DTEND;TZID=America/Los_Angeles:20270408T210000
DTSTAMP:20260424T021218
CREATED:20250116T225203Z
LAST-MODIFIED:20250116T225205Z
UID:10001862-1807212600-1807218000@aikido-contracosta.com
SUMMARY:Regular Class
DESCRIPTION:
URL:https://aikido-contracosta.com/events/regular-class-327-2/2027-04-08/
LOCATION:Wah Dojo
END:VEVENT
BEGIN:VEVENT
DTSTART;TZID=America/Los_Angeles:20270413T193000
DTEND;TZID=America/Los_Angeles:20270413T210000
DTSTAMP:20260424T021218
CREATED:20250116T225203Z
LAST-MODIFIED:20250116T225205Z
UID:10001863-1807644600-1807650000@aikido-contracosta.com
SUMMARY:Regular Class
DESCRIPTION:
URL:https://aikido-contracosta.com/events/regular-class-327-2/2027-04-13/
LOCATION:Wah Dojo
END:VEVENT
BEGIN:VEVENT
DTSTART;TZID=America/Los_Angeles:20270414T190000
DTEND;TZID=America/Los_Angeles:20270414T203000
DTSTAMP:20260424T021218
CREATED:20260331T194306Z
LAST-MODIFIED:20260331T194306Z
UID:10003340-1807729200-1807734600@aikido-contracosta.com
SUMMARY:Regular Class
DESCRIPTION:
URL:https://aikido-contracosta.com/events/regular-class-378/2027-04-14/
LOCATION:St. Marks Church
END:VEVENT
BEGIN:VEVENT
DTSTART;TZID=America/Los_Angeles:20270415T193000
DTEND;TZID=America/Los_Angeles:20270415T210000
DTSTAMP:20260424T021218
CREATED:20250116T225203Z
LAST-MODIFIED:20250116T225205Z
UID:10001864-1807817400-1807822800@aikido-contracosta.com
SUMMARY:Regular Class
DESCRIPTION:
URL:https://aikido-contracosta.com/events/regular-class-327-2/2027-04-15/
LOCATION:Wah Dojo
END:VEVENT
BEGIN:VEVENT
DTSTART;TZID=America/Los_Angeles:20270420T193000
DTEND;TZID=America/Los_Angeles:20270420T210000
DTSTAMP:20260424T021218
CREATED:20250116T225203Z
LAST-MODIFIED:20250116T225205Z
UID:10001865-1808249400-1808254800@aikido-contracosta.com
SUMMARY:Regular Class
DESCRIPTION:
URL:https://aikido-contracosta.com/events/regular-class-327-2/2027-04-20/
LOCATION:Wah Dojo
END:VEVENT
BEGIN:VEVENT
DTSTART;TZID=America/Los_Angeles:20270421T190000
DTEND;TZID=America/Los_Angeles:20270421T203000
DTSTAMP:20260424T021218
CREATED:20260331T194306Z
LAST-MODIFIED:20260331T194306Z
UID:10003341-1808334000-1808339400@aikido-contracosta.com
SUMMARY:Regular Class
DESCRIPTION:
URL:https://aikido-contracosta.com/events/regular-class-378/2027-04-21/
LOCATION:St. Marks Church
END:VEVENT
BEGIN:VEVENT
DTSTART;TZID=America/Los_Angeles:20270422T193000
DTEND;TZID=America/Los_Angeles:20270422T210000
DTSTAMP:20260424T021218
CREATED:20250116T225203Z
LAST-MODIFIED:20250116T225205Z
UID:10001866-1808422200-1808427600@aikido-contracosta.com
SUMMARY:Regular Class
DESCRIPTION:
URL:https://aikido-contracosta.com/events/regular-class-327-2/2027-04-22/
LOCATION:Wah Dojo
END:VEVENT
BEGIN:VEVENT
DTSTART;TZID=America/Los_Angeles:20270427T193000
DTEND;TZID=America/Los_Angeles:20270427T210000
DTSTAMP:20260424T021218
CREATED:20250116T225203Z
LAST-MODIFIED:20250116T225205Z
UID:10001867-1808854200-1808859600@aikido-contracosta.com
SUMMARY:Regular Class
DESCRIPTION:
URL:https://aikido-contracosta.com/events/regular-class-327-2/2027-04-27/
LOCATION:Wah Dojo
END:VEVENT
BEGIN:VEVENT
DTSTART;TZID=America/Los_Angeles:20270428T190000
DTEND;TZID=America/Los_Angeles:20270428T203000
DTSTAMP:20260424T021218
CREATED:20260331T194306Z
LAST-MODIFIED:20260331T194306Z
UID:10003342-1808938800-1808944200@aikido-contracosta.com
SUMMARY:Regular Class
DESCRIPTION:
URL:https://aikido-contracosta.com/events/regular-class-378/2027-04-28/
LOCATION:St. Marks Church
END:VEVENT
BEGIN:VEVENT
DTSTART;TZID=America/Los_Angeles:20270429T193000
DTEND;TZID=America/Los_Angeles:20270429T210000
DTSTAMP:20260424T021218
CREATED:20250116T225203Z
LAST-MODIFIED:20250116T225205Z
UID:10001868-1809027000-1809032400@aikido-contracosta.com
SUMMARY:Regular Class
DESCRIPTION:
URL:https://aikido-contracosta.com/events/regular-class-327-2/2027-04-29/
LOCATION:Wah Dojo
END:VEVENT
END:VCALENDAR