BEGIN:VCALENDAR
VERSION:2.0
PRODID:-//AikidoContraCosta.com - ECPv6.15.20//NONSGML v1.0//EN
CALSCALE:GREGORIAN
METHOD:PUBLISH
X-WR-CALNAME:AikidoContraCosta.com
X-ORIGINAL-URL:https://aikido-contracosta.com
X-WR-CALDESC:Events for AikidoContraCosta.com
REFRESH-INTERVAL;VALUE=DURATION:PT1H
X-Robots-Tag:noindex
X-PUBLISHED-TTL:PT1H
BEGIN:VTIMEZONE
TZID:America/Los_Angeles
BEGIN:DAYLIGHT
TZOFFSETFROM:-0800
TZOFFSETTO:-0700
TZNAME:PDT
DTSTART:20250309T100000
END:DAYLIGHT
BEGIN:STANDARD
TZOFFSETFROM:-0700
TZOFFSETTO:-0800
TZNAME:PST
DTSTART:20251102T090000
END:STANDARD
BEGIN:DAYLIGHT
TZOFFSETFROM:-0800
TZOFFSETTO:-0700
TZNAME:PDT
DTSTART:20260308T100000
END:DAYLIGHT
BEGIN:STANDARD
TZOFFSETFROM:-0700
TZOFFSETTO:-0800
TZNAME:PST
DTSTART:20261101T090000
END:STANDARD
BEGIN:DAYLIGHT
TZOFFSETFROM:-0800
TZOFFSETTO:-0700
TZNAME:PDT
DTSTART:20270314T100000
END:DAYLIGHT
BEGIN:STANDARD
TZOFFSETFROM:-0700
TZOFFSETTO:-0800
TZNAME:PST
DTSTART:20271107T090000
END:STANDARD
END:VTIMEZONE
BEGIN:VEVENT
DTSTART;TZID=America/Los_Angeles:20260701T190000
DTEND;TZID=America/Los_Angeles:20260701T203000
DTSTAMP:20260423T124020
CREATED:20260331T194306Z
LAST-MODIFIED:20260331T194306Z
UID:10003299-1782932400-1782937800@aikido-contracosta.com
SUMMARY:Regular Class
DESCRIPTION:
URL:https://aikido-contracosta.com/events/regular-class-378/2026-07-01/
LOCATION:St. Marks Church
END:VEVENT
BEGIN:VEVENT
DTSTART;TZID=America/Los_Angeles:20260702T193000
DTEND;TZID=America/Los_Angeles:20260702T210000
DTSTAMP:20260423T124020
CREATED:20250116T225203Z
LAST-MODIFIED:20250116T225205Z
UID:10001782-1783020600-1783026000@aikido-contracosta.com
SUMMARY:Regular Class
DESCRIPTION:
URL:https://aikido-contracosta.com/events/regular-class-327-2/2026-07-02/
LOCATION:Wah Dojo
END:VEVENT
BEGIN:VEVENT
DTSTART;TZID=America/Los_Angeles:20260704T120000
DTEND;TZID=America/Los_Angeles:20260704T140000
DTSTAMP:20260423T124020
CREATED:20260331T194441Z
LAST-MODIFIED:20260331T194627Z
UID:10003386-1783166400-1783173600@aikido-contracosta.com
SUMMARY:Regular Class
DESCRIPTION:
URL:https://aikido-contracosta.com/events/regular-class-379/2026-07-04/
LOCATION:Wah Dojo New Location\, 1436 Royal Industrial Way\, Concord\, CA\, 94520\, United States
END:VEVENT
BEGIN:VEVENT
DTSTART;TZID=America/Los_Angeles:20260707T193000
DTEND;TZID=America/Los_Angeles:20260707T210000
DTSTAMP:20260423T124020
CREATED:20250116T225203Z
LAST-MODIFIED:20250116T225205Z
UID:10001783-1783452600-1783458000@aikido-contracosta.com
SUMMARY:Regular Class
DESCRIPTION:
URL:https://aikido-contracosta.com/events/regular-class-327-2/2026-07-07/
LOCATION:Wah Dojo
END:VEVENT
BEGIN:VEVENT
DTSTART;TZID=America/Los_Angeles:20260708T190000
DTEND;TZID=America/Los_Angeles:20260708T203000
DTSTAMP:20260423T124020
CREATED:20260331T194306Z
LAST-MODIFIED:20260331T194306Z
UID:10003300-1783537200-1783542600@aikido-contracosta.com
SUMMARY:Regular Class
DESCRIPTION:
URL:https://aikido-contracosta.com/events/regular-class-378/2026-07-08/
LOCATION:St. Marks Church
END:VEVENT
BEGIN:VEVENT
DTSTART;TZID=America/Los_Angeles:20260709T193000
DTEND;TZID=America/Los_Angeles:20260709T210000
DTSTAMP:20260423T124020
CREATED:20250116T225203Z
LAST-MODIFIED:20250116T225205Z
UID:10001784-1783625400-1783630800@aikido-contracosta.com
SUMMARY:Regular Class
DESCRIPTION:
URL:https://aikido-contracosta.com/events/regular-class-327-2/2026-07-09/
LOCATION:Wah Dojo
END:VEVENT
BEGIN:VEVENT
DTSTART;TZID=America/Los_Angeles:20260711T120000
DTEND;TZID=America/Los_Angeles:20260711T140000
DTSTAMP:20260423T124020
CREATED:20260331T194441Z
LAST-MODIFIED:20260331T194627Z
UID:10003387-1783771200-1783778400@aikido-contracosta.com
SUMMARY:Regular Class
DESCRIPTION:
URL:https://aikido-contracosta.com/events/regular-class-379/2026-07-11/
LOCATION:Wah Dojo New Location\, 1436 Royal Industrial Way\, Concord\, CA\, 94520\, United States
END:VEVENT
BEGIN:VEVENT
DTSTART;TZID=America/Los_Angeles:20260714T193000
DTEND;TZID=America/Los_Angeles:20260714T210000
DTSTAMP:20260423T124020
CREATED:20250116T225203Z
LAST-MODIFIED:20250116T225205Z
UID:10001785-1784057400-1784062800@aikido-contracosta.com
SUMMARY:Regular Class
DESCRIPTION:
URL:https://aikido-contracosta.com/events/regular-class-327-2/2026-07-14/
LOCATION:Wah Dojo
END:VEVENT
BEGIN:VEVENT
DTSTART;TZID=America/Los_Angeles:20260715T190000
DTEND;TZID=America/Los_Angeles:20260715T203000
DTSTAMP:20260423T124020
CREATED:20260331T194306Z
LAST-MODIFIED:20260331T194306Z
UID:10003301-1784142000-1784147400@aikido-contracosta.com
SUMMARY:Regular Class
DESCRIPTION:
URL:https://aikido-contracosta.com/events/regular-class-378/2026-07-15/
LOCATION:St. Marks Church
END:VEVENT
BEGIN:VEVENT
DTSTART;TZID=America/Los_Angeles:20260716T193000
DTEND;TZID=America/Los_Angeles:20260716T210000
DTSTAMP:20260423T124020
CREATED:20250116T225203Z
LAST-MODIFIED:20250116T225205Z
UID:10001786-1784230200-1784235600@aikido-contracosta.com
SUMMARY:Regular Class
DESCRIPTION:
URL:https://aikido-contracosta.com/events/regular-class-327-2/2026-07-16/
LOCATION:Wah Dojo
END:VEVENT
BEGIN:VEVENT
DTSTART;TZID=America/Los_Angeles:20260718T120000
DTEND;TZID=America/Los_Angeles:20260718T140000
DTSTAMP:20260423T124020
CREATED:20260331T194441Z
LAST-MODIFIED:20260331T194627Z
UID:10003388-1784376000-1784383200@aikido-contracosta.com
SUMMARY:Regular Class
DESCRIPTION:
URL:https://aikido-contracosta.com/events/regular-class-379/2026-07-18/
LOCATION:Wah Dojo New Location\, 1436 Royal Industrial Way\, Concord\, CA\, 94520\, United States
END:VEVENT
BEGIN:VEVENT
DTSTART;TZID=America/Los_Angeles:20260721T193000
DTEND;TZID=America/Los_Angeles:20260721T210000
DTSTAMP:20260423T124020
CREATED:20250116T225203Z
LAST-MODIFIED:20250116T225205Z
UID:10001787-1784662200-1784667600@aikido-contracosta.com
SUMMARY:Regular Class
DESCRIPTION:
URL:https://aikido-contracosta.com/events/regular-class-327-2/2026-07-21/
LOCATION:Wah Dojo
END:VEVENT
BEGIN:VEVENT
DTSTART;TZID=America/Los_Angeles:20260722T190000
DTEND;TZID=America/Los_Angeles:20260722T203000
DTSTAMP:20260423T124020
CREATED:20260331T194306Z
LAST-MODIFIED:20260331T194306Z
UID:10003302-1784746800-1784752200@aikido-contracosta.com
SUMMARY:Regular Class
DESCRIPTION:
URL:https://aikido-contracosta.com/events/regular-class-378/2026-07-22/
LOCATION:St. Marks Church
END:VEVENT
BEGIN:VEVENT
DTSTART;TZID=America/Los_Angeles:20260723T193000
DTEND;TZID=America/Los_Angeles:20260723T210000
DTSTAMP:20260423T124020
CREATED:20250116T225203Z
LAST-MODIFIED:20250116T225205Z
UID:10001788-1784835000-1784840400@aikido-contracosta.com
SUMMARY:Regular Class
DESCRIPTION:
URL:https://aikido-contracosta.com/events/regular-class-327-2/2026-07-23/
LOCATION:Wah Dojo
END:VEVENT
BEGIN:VEVENT
DTSTART;TZID=America/Los_Angeles:20260725T120000
DTEND;TZID=America/Los_Angeles:20260725T140000
DTSTAMP:20260423T124020
CREATED:20260331T194441Z
LAST-MODIFIED:20260331T194627Z
UID:10003389-1784980800-1784988000@aikido-contracosta.com
SUMMARY:Regular Class
DESCRIPTION:
URL:https://aikido-contracosta.com/events/regular-class-379/2026-07-25/
LOCATION:Wah Dojo New Location\, 1436 Royal Industrial Way\, Concord\, CA\, 94520\, United States
END:VEVENT
BEGIN:VEVENT
DTSTART;TZID=America/Los_Angeles:20260728T193000
DTEND;TZID=America/Los_Angeles:20260728T210000
DTSTAMP:20260423T124020
CREATED:20250116T225203Z
LAST-MODIFIED:20250116T225205Z
UID:10001789-1785267000-1785272400@aikido-contracosta.com
SUMMARY:Regular Class
DESCRIPTION:
URL:https://aikido-contracosta.com/events/regular-class-327-2/2026-07-28/
LOCATION:Wah Dojo
END:VEVENT
BEGIN:VEVENT
DTSTART;TZID=America/Los_Angeles:20260729T190000
DTEND;TZID=America/Los_Angeles:20260729T203000
DTSTAMP:20260423T124020
CREATED:20260331T194306Z
LAST-MODIFIED:20260331T194306Z
UID:10003303-1785351600-1785357000@aikido-contracosta.com
SUMMARY:Regular Class
DESCRIPTION:
URL:https://aikido-contracosta.com/events/regular-class-378/2026-07-29/
LOCATION:St. Marks Church
END:VEVENT
BEGIN:VEVENT
DTSTART;TZID=America/Los_Angeles:20260730T193000
DTEND;TZID=America/Los_Angeles:20260730T210000
DTSTAMP:20260423T124020
CREATED:20250116T225203Z
LAST-MODIFIED:20250116T225205Z
UID:10001790-1785439800-1785445200@aikido-contracosta.com
SUMMARY:Regular Class
DESCRIPTION:
URL:https://aikido-contracosta.com/events/regular-class-327-2/2026-07-30/
LOCATION:Wah Dojo
END:VEVENT
END:VCALENDAR