BEGIN:VCALENDAR
VERSION:2.0
PRODID:-//AikidoContraCosta.com - ECPv6.15.20//NONSGML v1.0//EN
CALSCALE:GREGORIAN
METHOD:PUBLISH
X-ORIGINAL-URL:https://aikido-contracosta.com
X-WR-CALDESC:Events for AikidoContraCosta.com
REFRESH-INTERVAL;VALUE=DURATION:PT1H
X-Robots-Tag:noindex
X-PUBLISHED-TTL:PT1H
BEGIN:VTIMEZONE
TZID:America/Los_Angeles
BEGIN:DAYLIGHT
TZOFFSETFROM:-0800
TZOFFSETTO:-0700
TZNAME:PDT
DTSTART:20250309T100000
END:DAYLIGHT
BEGIN:STANDARD
TZOFFSETFROM:-0700
TZOFFSETTO:-0800
TZNAME:PST
DTSTART:20251102T090000
END:STANDARD
BEGIN:DAYLIGHT
TZOFFSETFROM:-0800
TZOFFSETTO:-0700
TZNAME:PDT
DTSTART:20260308T100000
END:DAYLIGHT
BEGIN:STANDARD
TZOFFSETFROM:-0700
TZOFFSETTO:-0800
TZNAME:PST
DTSTART:20261101T090000
END:STANDARD
BEGIN:DAYLIGHT
TZOFFSETFROM:-0800
TZOFFSETTO:-0700
TZNAME:PDT
DTSTART:20270314T100000
END:DAYLIGHT
BEGIN:STANDARD
TZOFFSETFROM:-0700
TZOFFSETTO:-0800
TZNAME:PST
DTSTART:20271107T090000
END:STANDARD
END:VTIMEZONE
BEGIN:VEVENT
DTSTART;TZID=America/Los_Angeles:20260602T193000
DTEND;TZID=America/Los_Angeles:20260602T210000
DTSTAMP:20260423T110224
CREATED:20250116T225203Z
LAST-MODIFIED:20250116T225205Z
UID:10001773-1780428600-1780434000@aikido-contracosta.com
SUMMARY:Regular Class
DESCRIPTION:
URL:https://aikido-contracosta.com/events/regular-class-327-2/2026-06-02/
LOCATION:Wah Dojo
END:VEVENT
BEGIN:VEVENT
DTSTART;TZID=America/Los_Angeles:20260603T190000
DTEND;TZID=America/Los_Angeles:20260603T203000
DTSTAMP:20260423T110224
CREATED:20260331T194306Z
LAST-MODIFIED:20260331T194306Z
UID:10003295-1780513200-1780518600@aikido-contracosta.com
SUMMARY:Regular Class
DESCRIPTION:
URL:https://aikido-contracosta.com/events/regular-class-378/2026-06-03/
LOCATION:St. Marks Church
END:VEVENT
BEGIN:VEVENT
DTSTART;TZID=America/Los_Angeles:20260604T193000
DTEND;TZID=America/Los_Angeles:20260604T210000
DTSTAMP:20260423T110224
CREATED:20250116T225203Z
LAST-MODIFIED:20250116T225205Z
UID:10001774-1780601400-1780606800@aikido-contracosta.com
SUMMARY:Regular Class
DESCRIPTION:
URL:https://aikido-contracosta.com/events/regular-class-327-2/2026-06-04/
LOCATION:Wah Dojo
END:VEVENT
BEGIN:VEVENT
DTSTART;TZID=America/Los_Angeles:20260606T120000
DTEND;TZID=America/Los_Angeles:20260606T140000
DTSTAMP:20260423T110224
CREATED:20260331T194441Z
LAST-MODIFIED:20260331T194627Z
UID:10003382-1780747200-1780754400@aikido-contracosta.com
SUMMARY:Regular Class
DESCRIPTION:
URL:https://aikido-contracosta.com/events/regular-class-379/2026-06-06/
LOCATION:Wah Dojo New Location\, 1436 Royal Industrial Way\, Concord\, CA\, 94520\, United States
END:VEVENT
BEGIN:VEVENT
DTSTART;TZID=America/Los_Angeles:20260609T193000
DTEND;TZID=America/Los_Angeles:20260609T210000
DTSTAMP:20260423T110224
CREATED:20250116T225203Z
LAST-MODIFIED:20250116T225205Z
UID:10001775-1781033400-1781038800@aikido-contracosta.com
SUMMARY:Regular Class
DESCRIPTION:
URL:https://aikido-contracosta.com/events/regular-class-327-2/2026-06-09/
LOCATION:Wah Dojo
END:VEVENT
BEGIN:VEVENT
DTSTART;TZID=America/Los_Angeles:20260610T190000
DTEND;TZID=America/Los_Angeles:20260610T203000
DTSTAMP:20260423T110224
CREATED:20260331T194306Z
LAST-MODIFIED:20260331T194306Z
UID:10003296-1781118000-1781123400@aikido-contracosta.com
SUMMARY:Regular Class
DESCRIPTION:
URL:https://aikido-contracosta.com/events/regular-class-378/2026-06-10/
LOCATION:St. Marks Church
END:VEVENT
BEGIN:VEVENT
DTSTART;TZID=America/Los_Angeles:20260611T193000
DTEND;TZID=America/Los_Angeles:20260611T210000
DTSTAMP:20260423T110224
CREATED:20250116T225203Z
LAST-MODIFIED:20250116T225205Z
UID:10001776-1781206200-1781211600@aikido-contracosta.com
SUMMARY:Regular Class
DESCRIPTION:
URL:https://aikido-contracosta.com/events/regular-class-327-2/2026-06-11/
LOCATION:Wah Dojo
END:VEVENT
BEGIN:VEVENT
DTSTART;TZID=America/Los_Angeles:20260613T120000
DTEND;TZID=America/Los_Angeles:20260613T140000
DTSTAMP:20260423T110224
CREATED:20260331T194441Z
LAST-MODIFIED:20260331T194627Z
UID:10003383-1781352000-1781359200@aikido-contracosta.com
SUMMARY:Regular Class
DESCRIPTION:
URL:https://aikido-contracosta.com/events/regular-class-379/2026-06-13/
LOCATION:Wah Dojo New Location\, 1436 Royal Industrial Way\, Concord\, CA\, 94520\, United States
END:VEVENT
BEGIN:VEVENT
DTSTART;TZID=America/Los_Angeles:20260616T193000
DTEND;TZID=America/Los_Angeles:20260616T210000
DTSTAMP:20260423T110224
CREATED:20250116T225203Z
LAST-MODIFIED:20250116T225205Z
UID:10001777-1781638200-1781643600@aikido-contracosta.com
SUMMARY:Regular Class
DESCRIPTION:
URL:https://aikido-contracosta.com/events/regular-class-327-2/2026-06-16/
LOCATION:Wah Dojo
END:VEVENT
BEGIN:VEVENT
DTSTART;TZID=America/Los_Angeles:20260617T190000
DTEND;TZID=America/Los_Angeles:20260617T203000
DTSTAMP:20260423T110224
CREATED:20260331T194306Z
LAST-MODIFIED:20260331T194306Z
UID:10003297-1781722800-1781728200@aikido-contracosta.com
SUMMARY:Regular Class
DESCRIPTION:
URL:https://aikido-contracosta.com/events/regular-class-378/2026-06-17/
LOCATION:St. Marks Church
END:VEVENT
BEGIN:VEVENT
DTSTART;TZID=America/Los_Angeles:20260618T193000
DTEND;TZID=America/Los_Angeles:20260618T210000
DTSTAMP:20260423T110224
CREATED:20250116T225203Z
LAST-MODIFIED:20250116T225205Z
UID:10001778-1781811000-1781816400@aikido-contracosta.com
SUMMARY:Regular Class
DESCRIPTION:
URL:https://aikido-contracosta.com/events/regular-class-327-2/2026-06-18/
LOCATION:Wah Dojo
END:VEVENT
BEGIN:VEVENT
DTSTART;TZID=America/Los_Angeles:20260620T120000
DTEND;TZID=America/Los_Angeles:20260620T140000
DTSTAMP:20260423T110224
CREATED:20260326T010811Z
LAST-MODIFIED:20260326T010830Z
UID:10003253-1781956800-1781964000@aikido-contracosta.com
SUMMARY:Dojo Closed ASL Seminar
DESCRIPTION:
URL:https://aikido-contracosta.com/events/regular-class-376/
LOCATION:Wah Dojo New Location\, 1436 Royal Industrial Way\, Concord\, CA\, 94520\, United States
END:VEVENT
BEGIN:VEVENT
DTSTART;TZID=America/Los_Angeles:20260620T120000
DTEND;TZID=America/Los_Angeles:20260620T140000
DTSTAMP:20260423T110224
CREATED:20260331T194441Z
LAST-MODIFIED:20260331T194627Z
UID:10003384-1781956800-1781964000@aikido-contracosta.com
SUMMARY:Regular Class
DESCRIPTION:
URL:https://aikido-contracosta.com/events/regular-class-379/2026-06-20/
LOCATION:Wah Dojo New Location\, 1436 Royal Industrial Way\, Concord\, CA\, 94520\, United States
END:VEVENT
BEGIN:VEVENT
DTSTART;TZID=America/Los_Angeles:20260623T193000
DTEND;TZID=America/Los_Angeles:20260623T210000
DTSTAMP:20260423T110224
CREATED:20250116T225203Z
LAST-MODIFIED:20250116T225205Z
UID:10001779-1782243000-1782248400@aikido-contracosta.com
SUMMARY:Regular Class
DESCRIPTION:
URL:https://aikido-contracosta.com/events/regular-class-327-2/2026-06-23/
LOCATION:Wah Dojo
END:VEVENT
BEGIN:VEVENT
DTSTART;TZID=America/Los_Angeles:20260624T190000
DTEND;TZID=America/Los_Angeles:20260624T203000
DTSTAMP:20260423T110224
CREATED:20260331T194306Z
LAST-MODIFIED:20260331T194306Z
UID:10003298-1782327600-1782333000@aikido-contracosta.com
SUMMARY:Regular Class
DESCRIPTION:
URL:https://aikido-contracosta.com/events/regular-class-378/2026-06-24/
LOCATION:St. Marks Church
END:VEVENT
BEGIN:VEVENT
DTSTART;TZID=America/Los_Angeles:20260625T193000
DTEND;TZID=America/Los_Angeles:20260625T210000
DTSTAMP:20260423T110224
CREATED:20250116T225203Z
LAST-MODIFIED:20250116T225205Z
UID:10001780-1782415800-1782421200@aikido-contracosta.com
SUMMARY:Regular Class
DESCRIPTION:
URL:https://aikido-contracosta.com/events/regular-class-327-2/2026-06-25/
LOCATION:Wah Dojo
END:VEVENT
BEGIN:VEVENT
DTSTART;TZID=America/Los_Angeles:20260627T120000
DTEND;TZID=America/Los_Angeles:20260627T140000
DTSTAMP:20260423T110224
CREATED:20260331T194441Z
LAST-MODIFIED:20260331T194627Z
UID:10003385-1782561600-1782568800@aikido-contracosta.com
SUMMARY:Regular Class
DESCRIPTION:
URL:https://aikido-contracosta.com/events/regular-class-379/2026-06-27/
LOCATION:Wah Dojo New Location\, 1436 Royal Industrial Way\, Concord\, CA\, 94520\, United States
END:VEVENT
BEGIN:VEVENT
DTSTART;TZID=America/Los_Angeles:20260630T193000
DTEND;TZID=America/Los_Angeles:20260630T210000
DTSTAMP:20260423T110224
CREATED:20250116T225203Z
LAST-MODIFIED:20250116T225205Z
UID:10001781-1782847800-1782853200@aikido-contracosta.com
SUMMARY:Regular Class
DESCRIPTION:
URL:https://aikido-contracosta.com/events/regular-class-327-2/2026-06-30/
LOCATION:Wah Dojo
END:VEVENT
END:VCALENDAR