BEGIN:VCALENDAR
VERSION:2.0
PRODID:-//AikidoContraCosta.com - ECPv6.15.20//NONSGML v1.0//EN
CALSCALE:GREGORIAN
METHOD:PUBLISH
X-WR-CALNAME:AikidoContraCosta.com
X-ORIGINAL-URL:https://aikido-contracosta.com
X-WR-CALDESC:Events for AikidoContraCosta.com
REFRESH-INTERVAL;VALUE=DURATION:PT1H
X-Robots-Tag:noindex
X-PUBLISHED-TTL:PT1H
BEGIN:VTIMEZONE
TZID:America/Los_Angeles
BEGIN:DAYLIGHT
TZOFFSETFROM:-0800
TZOFFSETTO:-0700
TZNAME:PDT
DTSTART:20240310T100000
END:DAYLIGHT
BEGIN:STANDARD
TZOFFSETFROM:-0700
TZOFFSETTO:-0800
TZNAME:PST
DTSTART:20241103T090000
END:STANDARD
BEGIN:DAYLIGHT
TZOFFSETFROM:-0800
TZOFFSETTO:-0700
TZNAME:PDT
DTSTART:20250309T100000
END:DAYLIGHT
BEGIN:STANDARD
TZOFFSETFROM:-0700
TZOFFSETTO:-0800
TZNAME:PST
DTSTART:20251102T090000
END:STANDARD
BEGIN:DAYLIGHT
TZOFFSETFROM:-0800
TZOFFSETTO:-0700
TZNAME:PDT
DTSTART:20260308T100000
END:DAYLIGHT
BEGIN:STANDARD
TZOFFSETFROM:-0700
TZOFFSETTO:-0800
TZNAME:PST
DTSTART:20261101T090000
END:STANDARD
BEGIN:DAYLIGHT
TZOFFSETFROM:-0800
TZOFFSETTO:-0700
TZNAME:PDT
DTSTART:20270314T100000
END:DAYLIGHT
BEGIN:STANDARD
TZOFFSETFROM:-0700
TZOFFSETTO:-0800
TZNAME:PST
DTSTART:20271107T090000
END:STANDARD
END:VTIMEZONE
BEGIN:VEVENT
DTSTART;TZID=America/Los_Angeles:20251202T193000
DTEND;TZID=America/Los_Angeles:20251202T210000
DTSTAMP:20260423T141525
CREATED:20250116T225203Z
LAST-MODIFIED:20250116T225205Z
UID:10001721-1764703800-1764709200@aikido-contracosta.com
SUMMARY:Regular Class
DESCRIPTION:
URL:https://aikido-contracosta.com/events/regular-class-327-2/2025-12-02/
LOCATION:Wah Dojo
END:VEVENT
BEGIN:VEVENT
DTSTART;TZID=America/Los_Angeles:20251203T190000
DTEND;TZID=America/Los_Angeles:20251203T210000
DTSTAMP:20260423T141525
CREATED:20251104T030126Z
LAST-MODIFIED:20260331T193707Z
UID:10003154-1764788400-1764795600@aikido-contracosta.com
SUMMARY:Regular Class
DESCRIPTION:
URL:https://aikido-contracosta.com/events/regular-class-368/2025-12-03/
LOCATION:St. Marks Church
END:VEVENT
BEGIN:VEVENT
DTSTART;TZID=America/Los_Angeles:20251204T153000
DTEND;TZID=America/Los_Angeles:20251204T162500
DTSTAMP:20260423T141525
CREATED:20250602T055730Z
LAST-MODIFIED:20250602T060007Z
UID:10002808-1764862200-1764865500@aikido-contracosta.com
SUMMARY:Kids Class
DESCRIPTION:
URL:https://aikido-contracosta.com/events/kids-class-100/2025-12-04/
LOCATION:Wah Dojo New Location\, 1436 Royal Industrial Way\, Concord\, CA\, 94520\, United States
END:VEVENT
BEGIN:VEVENT
DTSTART;TZID=America/Los_Angeles:20251204T193000
DTEND;TZID=America/Los_Angeles:20251204T210000
DTSTAMP:20260423T141525
CREATED:20250116T225203Z
LAST-MODIFIED:20250116T225205Z
UID:10001722-1764876600-1764882000@aikido-contracosta.com
SUMMARY:Regular Class
DESCRIPTION:
URL:https://aikido-contracosta.com/events/regular-class-327-2/2025-12-04/
LOCATION:Wah Dojo
END:VEVENT
BEGIN:VEVENT
DTSTART;TZID=America/Los_Angeles:20251206T120000
DTEND;TZID=America/Los_Angeles:20251206T140000
DTSTAMP:20260423T141525
CREATED:20250701T022025Z
LAST-MODIFIED:20250701T022027Z
UID:10002197-1765022400-1765029600@aikido-contracosta.com
SUMMARY:Regular Class
DESCRIPTION:
URL:https://aikido-contracosta.com/events/regular-class-339-2/2025-12-06/
LOCATION:Wah Dojo
END:VEVENT
BEGIN:VEVENT
DTSTART;TZID=America/Los_Angeles:20251209T193000
DTEND;TZID=America/Los_Angeles:20251209T210000
DTSTAMP:20260423T141525
CREATED:20250116T225203Z
LAST-MODIFIED:20250116T225205Z
UID:10001723-1765308600-1765314000@aikido-contracosta.com
SUMMARY:Regular Class
DESCRIPTION:
URL:https://aikido-contracosta.com/events/regular-class-327-2/2025-12-09/
LOCATION:Wah Dojo
END:VEVENT
BEGIN:VEVENT
DTSTART;TZID=America/Los_Angeles:20251210T190000
DTEND;TZID=America/Los_Angeles:20251210T210000
DTSTAMP:20260423T141525
CREATED:20251104T030126Z
LAST-MODIFIED:20260331T193707Z
UID:10003155-1765393200-1765400400@aikido-contracosta.com
SUMMARY:Regular Class
DESCRIPTION:
URL:https://aikido-contracosta.com/events/regular-class-368/2025-12-10/
LOCATION:St. Marks Church
END:VEVENT
BEGIN:VEVENT
DTSTART;TZID=America/Los_Angeles:20251211T153000
DTEND;TZID=America/Los_Angeles:20251211T162500
DTSTAMP:20260423T141525
CREATED:20250602T055730Z
LAST-MODIFIED:20250602T060007Z
UID:10002809-1765467000-1765470300@aikido-contracosta.com
SUMMARY:Kids Class
DESCRIPTION:
URL:https://aikido-contracosta.com/events/kids-class-100/2025-12-11/
LOCATION:Wah Dojo New Location\, 1436 Royal Industrial Way\, Concord\, CA\, 94520\, United States
END:VEVENT
BEGIN:VEVENT
DTSTART;TZID=America/Los_Angeles:20251211T193000
DTEND;TZID=America/Los_Angeles:20251211T210000
DTSTAMP:20260423T141525
CREATED:20250116T225203Z
LAST-MODIFIED:20250116T225205Z
UID:10001724-1765481400-1765486800@aikido-contracosta.com
SUMMARY:Regular Class
DESCRIPTION:
URL:https://aikido-contracosta.com/events/regular-class-327-2/2025-12-11/
LOCATION:Wah Dojo
END:VEVENT
BEGIN:VEVENT
DTSTART;TZID=America/Los_Angeles:20251213T120000
DTEND;TZID=America/Los_Angeles:20251213T140000
DTSTAMP:20260423T141525
CREATED:20250701T022025Z
LAST-MODIFIED:20250701T022027Z
UID:10002198-1765627200-1765634400@aikido-contracosta.com
SUMMARY:Regular Class
DESCRIPTION:
URL:https://aikido-contracosta.com/events/regular-class-339-2/2025-12-13/
LOCATION:Wah Dojo
END:VEVENT
BEGIN:VEVENT
DTSTART;TZID=America/Los_Angeles:20251216T193000
DTEND;TZID=America/Los_Angeles:20251216T210000
DTSTAMP:20260423T141525
CREATED:20250116T225203Z
LAST-MODIFIED:20250116T225205Z
UID:10001725-1765913400-1765918800@aikido-contracosta.com
SUMMARY:Regular Class
DESCRIPTION:
URL:https://aikido-contracosta.com/events/regular-class-327-2/2025-12-16/
LOCATION:Wah Dojo
END:VEVENT
BEGIN:VEVENT
DTSTART;TZID=America/Los_Angeles:20251217T190000
DTEND;TZID=America/Los_Angeles:20251217T210000
DTSTAMP:20260423T141525
CREATED:20251104T030126Z
LAST-MODIFIED:20260331T193707Z
UID:10003156-1765998000-1766005200@aikido-contracosta.com
SUMMARY:Regular Class
DESCRIPTION:
URL:https://aikido-contracosta.com/events/regular-class-368/2025-12-17/
LOCATION:St. Marks Church
END:VEVENT
BEGIN:VEVENT
DTSTART;TZID=America/Los_Angeles:20251218T153000
DTEND;TZID=America/Los_Angeles:20251218T162500
DTSTAMP:20260423T141525
CREATED:20250602T055730Z
LAST-MODIFIED:20250602T060007Z
UID:10002810-1766071800-1766075100@aikido-contracosta.com
SUMMARY:Kids Class
DESCRIPTION:
URL:https://aikido-contracosta.com/events/kids-class-100/2025-12-18/
LOCATION:Wah Dojo New Location\, 1436 Royal Industrial Way\, Concord\, CA\, 94520\, United States
END:VEVENT
BEGIN:VEVENT
DTSTART;TZID=America/Los_Angeles:20251218T193000
DTEND;TZID=America/Los_Angeles:20251218T210000
DTSTAMP:20260423T141525
CREATED:20250116T225203Z
LAST-MODIFIED:20250116T225205Z
UID:10001726-1766086200-1766091600@aikido-contracosta.com
SUMMARY:Regular Class
DESCRIPTION:
URL:https://aikido-contracosta.com/events/regular-class-327-2/2025-12-18/
LOCATION:Wah Dojo
END:VEVENT
BEGIN:VEVENT
DTSTART;TZID=America/Los_Angeles:20251220T120000
DTEND;TZID=America/Los_Angeles:20251220T140000
DTSTAMP:20260423T141525
CREATED:20250701T022025Z
LAST-MODIFIED:20250701T022027Z
UID:10002199-1766232000-1766239200@aikido-contracosta.com
SUMMARY:Regular Class
DESCRIPTION:
URL:https://aikido-contracosta.com/events/regular-class-339-2/2025-12-20/
LOCATION:Wah Dojo
END:VEVENT
BEGIN:VEVENT
DTSTART;VALUE=DATE:20251222
DTEND;VALUE=DATE:20260103
DTSTAMP:20260423T141525
CREATED:20251126T224009Z
LAST-MODIFIED:20251126T224205Z
UID:10003157-1766361600-1767398399@aikido-contracosta.com
SUMMARY:Closed for the Holiday
DESCRIPTION:
URL:https://aikido-contracosta.com/events/regular-class-370/
LOCATION:St. Marks Church
END:VEVENT
BEGIN:VEVENT
DTSTART;TZID=America/Los_Angeles:20251223T193000
DTEND;TZID=America/Los_Angeles:20251223T210000
DTSTAMP:20260423T141525
CREATED:20251104T024114Z
LAST-MODIFIED:20251104T024114Z
UID:10001727-1766518200-1766523600@aikido-contracosta.com
SUMMARY:Regular Class
DESCRIPTION:
URL:https://aikido-contracosta.com/events/regular-class-367/
LOCATION:Wah Dojo
END:VEVENT
BEGIN:VEVENT
DTSTART;TZID=America/Los_Angeles:20251224T190000
DTEND;TZID=America/Los_Angeles:20251224T210000
DTSTAMP:20260423T141525
CREATED:20251104T030126Z
LAST-MODIFIED:20260331T193707Z
UID:10003285-1766602800-1766610000@aikido-contracosta.com
SUMMARY:Regular Class
DESCRIPTION:
URL:https://aikido-contracosta.com/events/regular-class-368/2025-12-24/
LOCATION:St. Marks Church
END:VEVENT
BEGIN:VEVENT
DTSTART;TZID=America/Los_Angeles:20251225T153000
DTEND;TZID=America/Los_Angeles:20251225T162500
DTSTAMP:20260423T141525
CREATED:20251031T203414Z
LAST-MODIFIED:20251031T203442Z
UID:10002811-1766676600-1766679900@aikido-contracosta.com
SUMMARY:Closed for the Holidays
DESCRIPTION:
URL:https://aikido-contracosta.com/events/kids-class-101/
LOCATION:Wah Dojo New Location\, 1436 Royal Industrial Way\, Concord\, CA\, 94520\, United States
END:VEVENT
BEGIN:VEVENT
DTSTART;TZID=America/Los_Angeles:20251225T193000
DTEND;TZID=America/Los_Angeles:20251225T210000
DTSTAMP:20260423T141525
CREATED:20250116T225203Z
LAST-MODIFIED:20250116T225205Z
UID:10001728-1766691000-1766696400@aikido-contracosta.com
SUMMARY:Regular Class
DESCRIPTION:
URL:https://aikido-contracosta.com/events/regular-class-327-2/2025-12-25/
LOCATION:Wah Dojo
END:VEVENT
BEGIN:VEVENT
DTSTART;TZID=America/Los_Angeles:20251227T120000
DTEND;TZID=America/Los_Angeles:20251227T140000
DTSTAMP:20260423T141525
CREATED:20251031T203825Z
LAST-MODIFIED:20251031T203830Z
UID:10002200-1766836800-1766844000@aikido-contracosta.com
SUMMARY:Closed for the Holidays
DESCRIPTION:
URL:https://aikido-contracosta.com/events/closed-for-the-holidays/
LOCATION:Wah Dojo
END:VEVENT
BEGIN:VEVENT
DTSTART;TZID=America/Los_Angeles:20251230T193000
DTEND;TZID=America/Los_Angeles:20251230T210000
DTSTAMP:20260423T141525
CREATED:20250116T225203Z
LAST-MODIFIED:20250116T225205Z
UID:10001729-1767123000-1767128400@aikido-contracosta.com
SUMMARY:Regular Class
DESCRIPTION:
URL:https://aikido-contracosta.com/events/regular-class-327-2/2025-12-30/
LOCATION:Wah Dojo
END:VEVENT
BEGIN:VEVENT
DTSTART;TZID=America/Los_Angeles:20251231T190000
DTEND;TZID=America/Los_Angeles:20251231T210000
DTSTAMP:20260423T141525
CREATED:20251104T030126Z
LAST-MODIFIED:20260331T193707Z
UID:10003158-1767207600-1767214800@aikido-contracosta.com
SUMMARY:Regular Class
DESCRIPTION:
URL:https://aikido-contracosta.com/events/regular-class-368/2025-12-31/
LOCATION:St. Marks Church
END:VEVENT
END:VCALENDAR