BEGIN:VCALENDAR
VERSION:2.0
PRODID:-//AikidoContraCosta.com - ECPv6.15.20//NONSGML v1.0//EN
CALSCALE:GREGORIAN
METHOD:PUBLISH
X-ORIGINAL-URL:https://aikido-contracosta.com
X-WR-CALDESC:Events for AikidoContraCosta.com
REFRESH-INTERVAL;VALUE=DURATION:PT1H
X-Robots-Tag:noindex
X-PUBLISHED-TTL:PT1H
BEGIN:VTIMEZONE
TZID:America/Los_Angeles
BEGIN:DAYLIGHT
TZOFFSETFROM:-0800
TZOFFSETTO:-0700
TZNAME:PDT
DTSTART:20240310T100000
END:DAYLIGHT
BEGIN:STANDARD
TZOFFSETFROM:-0700
TZOFFSETTO:-0800
TZNAME:PST
DTSTART:20241103T090000
END:STANDARD
BEGIN:DAYLIGHT
TZOFFSETFROM:-0800
TZOFFSETTO:-0700
TZNAME:PDT
DTSTART:20250309T100000
END:DAYLIGHT
BEGIN:STANDARD
TZOFFSETFROM:-0700
TZOFFSETTO:-0800
TZNAME:PST
DTSTART:20251102T090000
END:STANDARD
BEGIN:DAYLIGHT
TZOFFSETFROM:-0800
TZOFFSETTO:-0700
TZNAME:PDT
DTSTART:20260308T100000
END:DAYLIGHT
BEGIN:STANDARD
TZOFFSETFROM:-0700
TZOFFSETTO:-0800
TZNAME:PST
DTSTART:20261101T090000
END:STANDARD
END:VTIMEZONE
BEGIN:VEVENT
DTSTART;TZID=America/Los_Angeles:20251101T120000
DTEND;TZID=America/Los_Angeles:20251101T140000
DTSTAMP:20260423T154146
CREATED:20250701T022025Z
LAST-MODIFIED:20250701T022027Z
UID:10002192-1761998400-1762005600@aikido-contracosta.com
SUMMARY:Regular Class
DESCRIPTION:
URL:https://aikido-contracosta.com/events/regular-class-339-2/2025-11-01/
LOCATION:Wah Dojo
END:VEVENT
BEGIN:VEVENT
DTSTART;TZID=America/Los_Angeles:20251104T193000
DTEND;TZID=America/Los_Angeles:20251104T210000
DTSTAMP:20260423T154146
CREATED:20250116T225203Z
LAST-MODIFIED:20250116T225205Z
UID:10001713-1762284600-1762290000@aikido-contracosta.com
SUMMARY:Regular Class
DESCRIPTION:
URL:https://aikido-contracosta.com/events/regular-class-327-2/2025-11-04/
LOCATION:Wah Dojo
END:VEVENT
BEGIN:VEVENT
DTSTART;TZID=America/Los_Angeles:20251105T190000
DTEND;TZID=America/Los_Angeles:20251105T210000
DTSTAMP:20260423T154146
CREATED:20240530T194227Z
LAST-MODIFIED:20240530T194227Z
UID:10001292-1762369200-1762376400@aikido-contracosta.com
SUMMARY:Regular Class
DESCRIPTION:
URL:https://aikido-contracosta.com/events/regular-class-320/2025-11-05/
LOCATION:St. Marks Church
END:VEVENT
BEGIN:VEVENT
DTSTART;TZID=America/Los_Angeles:20251106T153000
DTEND;TZID=America/Los_Angeles:20251106T162500
DTSTAMP:20260423T154146
CREATED:20250602T055730Z
LAST-MODIFIED:20250602T060007Z
UID:10002804-1762443000-1762446300@aikido-contracosta.com
SUMMARY:Kids Class
DESCRIPTION:
URL:https://aikido-contracosta.com/events/kids-class-100/2025-11-06/
LOCATION:Wah Dojo New Location\, 1436 Royal Industrial Way\, Concord\, CA\, 94520\, United States
END:VEVENT
BEGIN:VEVENT
DTSTART;TZID=America/Los_Angeles:20251106T193000
DTEND;TZID=America/Los_Angeles:20251106T210000
DTSTAMP:20260423T154146
CREATED:20250116T225203Z
LAST-MODIFIED:20250116T225205Z
UID:10001714-1762457400-1762462800@aikido-contracosta.com
SUMMARY:Regular Class
DESCRIPTION:
URL:https://aikido-contracosta.com/events/regular-class-327-2/2025-11-06/
LOCATION:Wah Dojo
END:VEVENT
BEGIN:VEVENT
DTSTART;TZID=America/Los_Angeles:20251111T193000
DTEND;TZID=America/Los_Angeles:20251111T210000
DTSTAMP:20260423T154146
CREATED:20250116T225203Z
LAST-MODIFIED:20250116T225205Z
UID:10001715-1762889400-1762894800@aikido-contracosta.com
SUMMARY:Regular Class
DESCRIPTION:
URL:https://aikido-contracosta.com/events/regular-class-327-2/2025-11-11/
LOCATION:Wah Dojo
END:VEVENT
BEGIN:VEVENT
DTSTART;TZID=America/Los_Angeles:20251112T190000
DTEND;TZID=America/Los_Angeles:20251112T210000
DTSTAMP:20260423T154146
CREATED:20240530T194227Z
LAST-MODIFIED:20240530T194227Z
UID:10001293-1762974000-1762981200@aikido-contracosta.com
SUMMARY:Regular Class
DESCRIPTION:
URL:https://aikido-contracosta.com/events/regular-class-320/2025-11-12/
LOCATION:St. Marks Church
END:VEVENT
BEGIN:VEVENT
DTSTART;TZID=America/Los_Angeles:20251113T153000
DTEND;TZID=America/Los_Angeles:20251113T162500
DTSTAMP:20260423T154146
CREATED:20250602T055730Z
LAST-MODIFIED:20250602T060007Z
UID:10002805-1763047800-1763051100@aikido-contracosta.com
SUMMARY:Kids Class
DESCRIPTION:
URL:https://aikido-contracosta.com/events/kids-class-100/2025-11-13/
LOCATION:Wah Dojo New Location\, 1436 Royal Industrial Way\, Concord\, CA\, 94520\, United States
END:VEVENT
BEGIN:VEVENT
DTSTART;TZID=America/Los_Angeles:20251113T193000
DTEND;TZID=America/Los_Angeles:20251113T210000
DTSTAMP:20260423T154146
CREATED:20250116T225203Z
LAST-MODIFIED:20250116T225205Z
UID:10001716-1763062200-1763067600@aikido-contracosta.com
SUMMARY:Regular Class
DESCRIPTION:
URL:https://aikido-contracosta.com/events/regular-class-327-2/2025-11-13/
LOCATION:Wah Dojo
END:VEVENT
BEGIN:VEVENT
DTSTART;TZID=America/Los_Angeles:20251115T100000
DTEND;TZID=America/Los_Angeles:20251115T123000
DTSTAMP:20260423T154146
CREATED:20251030T052800Z
LAST-MODIFIED:20251030T052936Z
UID:10002194-1763200800-1763209800@aikido-contracosta.com
SUMMARY:Bay Area Exchange at ASL
DESCRIPTION:
URL:https://aikido-contracosta.com/events/regular-class-363/
LOCATION:Aikido San Leandro\, 1033 MacArthur Blvd\,\, San Leandro\, CA\, 94577\, United States
END:VEVENT
BEGIN:VEVENT
DTSTART;TZID=America/Los_Angeles:20251118T193000
DTEND;TZID=America/Los_Angeles:20251118T210000
DTSTAMP:20260423T154146
CREATED:20250116T225203Z
LAST-MODIFIED:20250116T225205Z
UID:10001717-1763494200-1763499600@aikido-contracosta.com
SUMMARY:Regular Class
DESCRIPTION:
URL:https://aikido-contracosta.com/events/regular-class-327-2/2025-11-18/
LOCATION:Wah Dojo
END:VEVENT
BEGIN:VEVENT
DTSTART;TZID=America/Los_Angeles:20251119T190000
DTEND;TZID=America/Los_Angeles:20251119T210000
DTSTAMP:20260423T154146
CREATED:20240530T194227Z
LAST-MODIFIED:20240530T194227Z
UID:10001294-1763578800-1763586000@aikido-contracosta.com
SUMMARY:Regular Class
DESCRIPTION:
URL:https://aikido-contracosta.com/events/regular-class-320/2025-11-19/
LOCATION:St. Marks Church
END:VEVENT
BEGIN:VEVENT
DTSTART;TZID=America/Los_Angeles:20251120T153000
DTEND;TZID=America/Los_Angeles:20251120T162500
DTSTAMP:20260423T154146
CREATED:20250602T055730Z
LAST-MODIFIED:20250602T060007Z
UID:10002806-1763652600-1763655900@aikido-contracosta.com
SUMMARY:Kids Class
DESCRIPTION:
URL:https://aikido-contracosta.com/events/kids-class-100/2025-11-20/
LOCATION:Wah Dojo New Location\, 1436 Royal Industrial Way\, Concord\, CA\, 94520\, United States
END:VEVENT
BEGIN:VEVENT
DTSTART;TZID=America/Los_Angeles:20251120T193000
DTEND;TZID=America/Los_Angeles:20251120T210000
DTSTAMP:20260423T154146
CREATED:20250116T225203Z
LAST-MODIFIED:20250116T225205Z
UID:10001718-1763667000-1763672400@aikido-contracosta.com
SUMMARY:Regular Class
DESCRIPTION:
URL:https://aikido-contracosta.com/events/regular-class-327-2/2025-11-20/
LOCATION:Wah Dojo
END:VEVENT
BEGIN:VEVENT
DTSTART;TZID=America/Los_Angeles:20251122T083000
DTEND;TZID=America/Los_Angeles:20251122T120000
DTSTAMP:20260423T154146
CREATED:20251030T053002Z
LAST-MODIFIED:20251030T053038Z
UID:10002195-1763800200-1763812800@aikido-contracosta.com
SUMMARY:Weapons Seminar at ASL
DESCRIPTION:
URL:https://aikido-contracosta.com/events/regular-class-364/
LOCATION:Aikido San Leandro\, 1033 MacArthur Blvd\,\, San Leandro\, CA\, 94577\, United States
END:VEVENT
BEGIN:VEVENT
DTSTART;TZID=America/Los_Angeles:20251125T193000
DTEND;TZID=America/Los_Angeles:20251125T210000
DTSTAMP:20260423T154146
CREATED:20251104T015145Z
LAST-MODIFIED:20251104T020518Z
UID:10001719-1764099000-1764104400@aikido-contracosta.com
SUMMARY:Class Cancelled
DESCRIPTION:
URL:https://aikido-contracosta.com/events/regular-class-365/
LOCATION:Wah Dojo
END:VEVENT
BEGIN:VEVENT
DTSTART;VALUE=DATE:20251127
DTEND;VALUE=DATE:20251128
DTSTAMP:20260423T154146
CREATED:20251104T015038Z
LAST-MODIFIED:20251104T015038Z
UID:10003153-1764201600-1764287999@aikido-contracosta.com
SUMMARY:Closed for Thanksgiving
DESCRIPTION:
URL:https://aikido-contracosta.com/events/closed-for-thanksgiving-4/
END:VEVENT
BEGIN:VEVENT
DTSTART;TZID=America/Los_Angeles:20251127T153000
DTEND;TZID=America/Los_Angeles:20251127T162500
DTSTAMP:20260423T154146
CREATED:20251104T014229Z
LAST-MODIFIED:20251104T014229Z
UID:10002807-1764257400-1764260700@aikido-contracosta.com
SUMMARY:Kids Class
DESCRIPTION:
URL:https://aikido-contracosta.com/events/kids-class-100-2/
LOCATION:Wah Dojo New Location\, 1436 Royal Industrial Way\, Concord\, CA\, 94520\, United States
END:VEVENT
BEGIN:VEVENT
DTSTART;TZID=America/Los_Angeles:20251127T193000
DTEND;TZID=America/Los_Angeles:20251127T210000
DTSTAMP:20260423T154146
CREATED:20250116T225203Z
LAST-MODIFIED:20250116T225205Z
UID:10001720-1764271800-1764277200@aikido-contracosta.com
SUMMARY:Regular Class
DESCRIPTION:
URL:https://aikido-contracosta.com/events/regular-class-327-2/2025-11-27/
LOCATION:Wah Dojo
END:VEVENT
BEGIN:VEVENT
DTSTART;TZID=America/Los_Angeles:20251129T120000
DTEND;TZID=America/Los_Angeles:20251129T140000
DTSTAMP:20260423T154146
CREATED:20250701T022025Z
LAST-MODIFIED:20250701T022027Z
UID:10002196-1764417600-1764424800@aikido-contracosta.com
SUMMARY:Regular Class
DESCRIPTION:
URL:https://aikido-contracosta.com/events/regular-class-339-2/2025-11-29/
LOCATION:Wah Dojo
END:VEVENT
END:VCALENDAR