BEGIN:VCALENDAR
VERSION:2.0
PRODID:-//AikidoContraCosta.com - ECPv6.15.20//NONSGML v1.0//EN
CALSCALE:GREGORIAN
METHOD:PUBLISH
X-ORIGINAL-URL:https://aikido-contracosta.com
X-WR-CALDESC:Events for AikidoContraCosta.com
REFRESH-INTERVAL;VALUE=DURATION:PT1H
X-Robots-Tag:noindex
X-PUBLISHED-TTL:PT1H
BEGIN:VTIMEZONE
TZID:America/Los_Angeles
BEGIN:DAYLIGHT
TZOFFSETFROM:-0800
TZOFFSETTO:-0700
TZNAME:PDT
DTSTART:20240310T100000
END:DAYLIGHT
BEGIN:STANDARD
TZOFFSETFROM:-0700
TZOFFSETTO:-0800
TZNAME:PST
DTSTART:20241103T090000
END:STANDARD
BEGIN:DAYLIGHT
TZOFFSETFROM:-0800
TZOFFSETTO:-0700
TZNAME:PDT
DTSTART:20250309T100000
END:DAYLIGHT
BEGIN:STANDARD
TZOFFSETFROM:-0700
TZOFFSETTO:-0800
TZNAME:PST
DTSTART:20251102T090000
END:STANDARD
BEGIN:DAYLIGHT
TZOFFSETFROM:-0800
TZOFFSETTO:-0700
TZNAME:PDT
DTSTART:20260308T100000
END:DAYLIGHT
BEGIN:STANDARD
TZOFFSETFROM:-0700
TZOFFSETTO:-0800
TZNAME:PST
DTSTART:20261101T090000
END:STANDARD
END:VTIMEZONE
BEGIN:VEVENT
DTSTART;TZID=America/Los_Angeles:20251001T190000
DTEND;TZID=America/Los_Angeles:20251001T210000
DTSTAMP:20260423T171210
CREATED:20240530T194227Z
LAST-MODIFIED:20240530T194227Z
UID:10001287-1759345200-1759352400@aikido-contracosta.com
SUMMARY:Regular Class
DESCRIPTION:
URL:https://aikido-contracosta.com/events/regular-class-320/2025-10-01/
LOCATION:St. Marks Church
END:VEVENT
BEGIN:VEVENT
DTSTART;TZID=America/Los_Angeles:20251002T153000
DTEND;TZID=America/Los_Angeles:20251002T162500
DTSTAMP:20260423T171210
CREATED:20250602T055730Z
LAST-MODIFIED:20250602T060007Z
UID:10002799-1759419000-1759422300@aikido-contracosta.com
SUMMARY:Kids Class
DESCRIPTION:
URL:https://aikido-contracosta.com/events/kids-class-100/2025-10-02/
LOCATION:Wah Dojo New Location\, 1436 Royal Industrial Way\, Concord\, CA\, 94520\, United States
END:VEVENT
BEGIN:VEVENT
DTSTART;TZID=America/Los_Angeles:20251002T193000
DTEND;TZID=America/Los_Angeles:20251002T210000
DTSTAMP:20260423T171210
CREATED:20250116T225203Z
LAST-MODIFIED:20250116T225205Z
UID:10001704-1759433400-1759438800@aikido-contracosta.com
SUMMARY:Regular Class
DESCRIPTION:
URL:https://aikido-contracosta.com/events/regular-class-327-2/2025-10-02/
LOCATION:Wah Dojo
END:VEVENT
BEGIN:VEVENT
DTSTART;TZID=America/Los_Angeles:20251004T120000
DTEND;TZID=America/Los_Angeles:20251004T140000
DTSTAMP:20260423T171210
CREATED:20250701T022025Z
LAST-MODIFIED:20250701T022027Z
UID:10002188-1759579200-1759586400@aikido-contracosta.com
SUMMARY:Regular Class
DESCRIPTION:
URL:https://aikido-contracosta.com/events/regular-class-339-2/2025-10-04/
LOCATION:Wah Dojo
END:VEVENT
BEGIN:VEVENT
DTSTART;TZID=America/Los_Angeles:20251007T193000
DTEND;TZID=America/Los_Angeles:20251007T210000
DTSTAMP:20260423T171210
CREATED:20250116T225203Z
LAST-MODIFIED:20250116T225205Z
UID:10001705-1759865400-1759870800@aikido-contracosta.com
SUMMARY:Regular Class
DESCRIPTION:
URL:https://aikido-contracosta.com/events/regular-class-327-2/2025-10-07/
LOCATION:Wah Dojo
END:VEVENT
BEGIN:VEVENT
DTSTART;TZID=America/Los_Angeles:20251008T190000
DTEND;TZID=America/Los_Angeles:20251008T210000
DTSTAMP:20260423T171210
CREATED:20240530T194227Z
LAST-MODIFIED:20240530T194227Z
UID:10001288-1759950000-1759957200@aikido-contracosta.com
SUMMARY:Regular Class
DESCRIPTION:
URL:https://aikido-contracosta.com/events/regular-class-320/2025-10-08/
LOCATION:St. Marks Church
END:VEVENT
BEGIN:VEVENT
DTSTART;TZID=America/Los_Angeles:20251009T153000
DTEND;TZID=America/Los_Angeles:20251009T162500
DTSTAMP:20260423T171210
CREATED:20250602T055730Z
LAST-MODIFIED:20250602T060007Z
UID:10002800-1760023800-1760027100@aikido-contracosta.com
SUMMARY:Kids Class
DESCRIPTION:
URL:https://aikido-contracosta.com/events/kids-class-100/2025-10-09/
LOCATION:Wah Dojo New Location\, 1436 Royal Industrial Way\, Concord\, CA\, 94520\, United States
END:VEVENT
BEGIN:VEVENT
DTSTART;TZID=America/Los_Angeles:20251009T193000
DTEND;TZID=America/Los_Angeles:20251009T210000
DTSTAMP:20260423T171210
CREATED:20250116T225203Z
LAST-MODIFIED:20250116T225205Z
UID:10001706-1760038200-1760043600@aikido-contracosta.com
SUMMARY:Regular Class
DESCRIPTION:
URL:https://aikido-contracosta.com/events/regular-class-327-2/2025-10-09/
LOCATION:Wah Dojo
END:VEVENT
BEGIN:VEVENT
DTSTART;TZID=America/Los_Angeles:20251011T120000
DTEND;TZID=America/Los_Angeles:20251011T140000
DTSTAMP:20260423T171210
CREATED:20250701T022025Z
LAST-MODIFIED:20250701T022027Z
UID:10002189-1760184000-1760191200@aikido-contracosta.com
SUMMARY:Regular Class
DESCRIPTION:
URL:https://aikido-contracosta.com/events/regular-class-339-2/2025-10-11/
LOCATION:Wah Dojo
END:VEVENT
BEGIN:VEVENT
DTSTART;TZID=America/Los_Angeles:20251014T193000
DTEND;TZID=America/Los_Angeles:20251014T210000
DTSTAMP:20260423T171210
CREATED:20250116T225203Z
LAST-MODIFIED:20250116T225205Z
UID:10001707-1760470200-1760475600@aikido-contracosta.com
SUMMARY:Regular Class
DESCRIPTION:
URL:https://aikido-contracosta.com/events/regular-class-327-2/2025-10-14/
LOCATION:Wah Dojo
END:VEVENT
BEGIN:VEVENT
DTSTART;TZID=America/Los_Angeles:20251015T190000
DTEND;TZID=America/Los_Angeles:20251015T210000
DTSTAMP:20260423T171210
CREATED:20240530T194227Z
LAST-MODIFIED:20240530T194227Z
UID:10001289-1760554800-1760562000@aikido-contracosta.com
SUMMARY:Regular Class
DESCRIPTION:
URL:https://aikido-contracosta.com/events/regular-class-320/2025-10-15/
LOCATION:St. Marks Church
END:VEVENT
BEGIN:VEVENT
DTSTART;TZID=America/Los_Angeles:20251016T153000
DTEND;TZID=America/Los_Angeles:20251016T162500
DTSTAMP:20260423T171210
CREATED:20250602T055730Z
LAST-MODIFIED:20250602T060007Z
UID:10002801-1760628600-1760631900@aikido-contracosta.com
SUMMARY:Kids Class
DESCRIPTION:
URL:https://aikido-contracosta.com/events/kids-class-100/2025-10-16/
LOCATION:Wah Dojo New Location\, 1436 Royal Industrial Way\, Concord\, CA\, 94520\, United States
END:VEVENT
BEGIN:VEVENT
DTSTART;TZID=America/Los_Angeles:20251016T193000
DTEND;TZID=America/Los_Angeles:20251016T210000
DTSTAMP:20260423T171210
CREATED:20250116T225203Z
LAST-MODIFIED:20250116T225205Z
UID:10001708-1760643000-1760648400@aikido-contracosta.com
SUMMARY:Regular Class
DESCRIPTION:
URL:https://aikido-contracosta.com/events/regular-class-327-2/2025-10-16/
LOCATION:Wah Dojo
END:VEVENT
BEGIN:VEVENT
DTSTART;TZID=America/Los_Angeles:20251018T083000
DTEND;TZID=America/Los_Angeles:20251018T120000
DTSTAMP:20260423T171210
CREATED:20250922T231409Z
LAST-MODIFIED:20250922T231505Z
UID:10002190-1760776200-1760788800@aikido-contracosta.com
SUMMARY:ASL Weapons
DESCRIPTION:
URL:https://aikido-contracosta.com/events/regular-class-362/
LOCATION:Aikido San Leandro\, 1033 MacArthur Blvd\,\, San Leandro\, CA\, 94577\, United States
END:VEVENT
BEGIN:VEVENT
DTSTART;TZID=America/Los_Angeles:20251019T083000
DTEND;TZID=America/Los_Angeles:20251019T120000
DTSTAMP:20260423T171210
CREATED:20250922T231918Z
LAST-MODIFIED:20250922T231918Z
UID:10003107-1760862600-1760875200@aikido-contracosta.com
SUMMARY:ASL Weapons Seminar
DESCRIPTION:
URL:https://aikido-contracosta.com/events/asl-weapons-seminar-38/
LOCATION:Aikido San Leandro\, 1033 MacArthur Blvd\,\, San Leandro\, CA\, 94577\, United States
END:VEVENT
BEGIN:VEVENT
DTSTART;TZID=America/Los_Angeles:20251021T193000
DTEND;TZID=America/Los_Angeles:20251021T210000
DTSTAMP:20260423T171210
CREATED:20250116T225203Z
LAST-MODIFIED:20250116T225205Z
UID:10001709-1761075000-1761080400@aikido-contracosta.com
SUMMARY:Regular Class
DESCRIPTION:
URL:https://aikido-contracosta.com/events/regular-class-327-2/2025-10-21/
LOCATION:Wah Dojo
END:VEVENT
BEGIN:VEVENT
DTSTART;TZID=America/Los_Angeles:20251022T190000
DTEND;TZID=America/Los_Angeles:20251022T210000
DTSTAMP:20260423T171210
CREATED:20240530T194227Z
LAST-MODIFIED:20240530T194227Z
UID:10001290-1761159600-1761166800@aikido-contracosta.com
SUMMARY:Regular Class
DESCRIPTION:
URL:https://aikido-contracosta.com/events/regular-class-320/2025-10-22/
LOCATION:St. Marks Church
END:VEVENT
BEGIN:VEVENT
DTSTART;TZID=America/Los_Angeles:20251023T153000
DTEND;TZID=America/Los_Angeles:20251023T162500
DTSTAMP:20260423T171210
CREATED:20250602T055730Z
LAST-MODIFIED:20250602T060007Z
UID:10002802-1761233400-1761236700@aikido-contracosta.com
SUMMARY:Kids Class
DESCRIPTION:
URL:https://aikido-contracosta.com/events/kids-class-100/2025-10-23/
LOCATION:Wah Dojo New Location\, 1436 Royal Industrial Way\, Concord\, CA\, 94520\, United States
END:VEVENT
BEGIN:VEVENT
DTSTART;TZID=America/Los_Angeles:20251023T193000
DTEND;TZID=America/Los_Angeles:20251023T210000
DTSTAMP:20260423T171210
CREATED:20250116T225203Z
LAST-MODIFIED:20250116T225205Z
UID:10001710-1761247800-1761253200@aikido-contracosta.com
SUMMARY:Regular Class
DESCRIPTION:
URL:https://aikido-contracosta.com/events/regular-class-327-2/2025-10-23/
LOCATION:Wah Dojo
END:VEVENT
BEGIN:VEVENT
DTSTART;TZID=America/Los_Angeles:20251025T120000
DTEND;TZID=America/Los_Angeles:20251025T140000
DTSTAMP:20260423T171210
CREATED:20250701T022025Z
LAST-MODIFIED:20250701T022027Z
UID:10002191-1761393600-1761400800@aikido-contracosta.com
SUMMARY:Regular Class
DESCRIPTION:
URL:https://aikido-contracosta.com/events/regular-class-339-2/2025-10-25/
LOCATION:Wah Dojo
END:VEVENT
BEGIN:VEVENT
DTSTART;TZID=America/Los_Angeles:20251028T193000
DTEND;TZID=America/Los_Angeles:20251028T210000
DTSTAMP:20260423T171210
CREATED:20250116T225203Z
LAST-MODIFIED:20250116T225205Z
UID:10001711-1761679800-1761685200@aikido-contracosta.com
SUMMARY:Regular Class
DESCRIPTION:
URL:https://aikido-contracosta.com/events/regular-class-327-2/2025-10-28/
LOCATION:Wah Dojo
END:VEVENT
BEGIN:VEVENT
DTSTART;TZID=America/Los_Angeles:20251029T190000
DTEND;TZID=America/Los_Angeles:20251029T210000
DTSTAMP:20260423T171210
CREATED:20240530T194227Z
LAST-MODIFIED:20240530T194227Z
UID:10001291-1761764400-1761771600@aikido-contracosta.com
SUMMARY:Regular Class
DESCRIPTION:
URL:https://aikido-contracosta.com/events/regular-class-320/2025-10-29/
LOCATION:St. Marks Church
END:VEVENT
BEGIN:VEVENT
DTSTART;TZID=America/Los_Angeles:20251030T153000
DTEND;TZID=America/Los_Angeles:20251030T162500
DTSTAMP:20260423T171210
CREATED:20250602T055730Z
LAST-MODIFIED:20250602T060007Z
UID:10002803-1761838200-1761841500@aikido-contracosta.com
SUMMARY:Kids Class
DESCRIPTION:
URL:https://aikido-contracosta.com/events/kids-class-100/2025-10-30/
LOCATION:Wah Dojo New Location\, 1436 Royal Industrial Way\, Concord\, CA\, 94520\, United States
END:VEVENT
END:VCALENDAR