BEGIN:VCALENDAR
VERSION:2.0
PRODID:-//AikidoContraCosta.com - ECPv6.15.20//NONSGML v1.0//EN
CALSCALE:GREGORIAN
METHOD:PUBLISH
X-WR-CALNAME:AikidoContraCosta.com
X-ORIGINAL-URL:https://aikido-contracosta.com
X-WR-CALDESC:Events for AikidoContraCosta.com
REFRESH-INTERVAL;VALUE=DURATION:PT1H
X-Robots-Tag:noindex
X-PUBLISHED-TTL:PT1H
BEGIN:VTIMEZONE
TZID:America/Los_Angeles
BEGIN:DAYLIGHT
TZOFFSETFROM:-0800
TZOFFSETTO:-0700
TZNAME:PDT
DTSTART:20240310T100000
END:DAYLIGHT
BEGIN:STANDARD
TZOFFSETFROM:-0700
TZOFFSETTO:-0800
TZNAME:PST
DTSTART:20241103T090000
END:STANDARD
BEGIN:DAYLIGHT
TZOFFSETFROM:-0800
TZOFFSETTO:-0700
TZNAME:PDT
DTSTART:20250309T100000
END:DAYLIGHT
BEGIN:STANDARD
TZOFFSETFROM:-0700
TZOFFSETTO:-0800
TZNAME:PST
DTSTART:20251102T090000
END:STANDARD
BEGIN:DAYLIGHT
TZOFFSETFROM:-0800
TZOFFSETTO:-0700
TZNAME:PDT
DTSTART:20260308T100000
END:DAYLIGHT
BEGIN:STANDARD
TZOFFSETFROM:-0700
TZOFFSETTO:-0800
TZNAME:PST
DTSTART:20261101T090000
END:STANDARD
END:VTIMEZONE
BEGIN:VEVENT
DTSTART;TZID=America/Los_Angeles:20250603T153000
DTEND;TZID=America/Los_Angeles:20250603T164500
DTSTAMP:20260423T231603
CREATED:20250602T054537Z
LAST-MODIFIED:20250602T054729Z
UID:10001575-1748964600-1748969100@aikido-contracosta.com
SUMMARY:Summer Kids Class Flexible (check w/ instructor)
DESCRIPTION:
URL:https://aikido-contracosta.com/events/kids-class-86-2-2-2/2025-06-03/
END:VEVENT
BEGIN:VEVENT
DTSTART;TZID=America/Los_Angeles:20250603T193000
DTEND;TZID=America/Los_Angeles:20250603T210000
DTSTAMP:20260423T231603
CREATED:20250116T225203Z
LAST-MODIFIED:20250116T225205Z
UID:10001669-1748979000-1748984400@aikido-contracosta.com
SUMMARY:Regular Class
DESCRIPTION:
URL:https://aikido-contracosta.com/events/regular-class-327-2/2025-06-03/
LOCATION:Wah Dojo
END:VEVENT
BEGIN:VEVENT
DTSTART;TZID=America/Los_Angeles:20250604T190000
DTEND;TZID=America/Los_Angeles:20250604T210000
DTSTAMP:20260423T231603
CREATED:20240530T194227Z
LAST-MODIFIED:20240530T194227Z
UID:10001270-1749063600-1749070800@aikido-contracosta.com
SUMMARY:Regular Class
DESCRIPTION:
URL:https://aikido-contracosta.com/events/regular-class-320/2025-06-04/
LOCATION:St. Marks Church
END:VEVENT
BEGIN:VEVENT
DTSTART;TZID=America/Los_Angeles:20250605T153000
DTEND;TZID=America/Los_Angeles:20250605T162500
DTSTAMP:20260423T231603
CREATED:20250519T231802Z
LAST-MODIFIED:20250602T042238Z
UID:10002455-1749137400-1749140700@aikido-contracosta.com
SUMMARY:Summer Kids Class Flexible (check w/ instructor)
DESCRIPTION:
URL:https://aikido-contracosta.com/events/kids-class-99/2025-06-05/
LOCATION:Wah Dojo New Location\, 1436 Royal Industrial Way\, Concord\, CA\, 94520\, United States
END:VEVENT
BEGIN:VEVENT
DTSTART;TZID=America/Los_Angeles:20250605T193000
DTEND;TZID=America/Los_Angeles:20250605T210000
DTSTAMP:20260423T231603
CREATED:20250116T225203Z
LAST-MODIFIED:20250116T225205Z
UID:10001670-1749151800-1749157200@aikido-contracosta.com
SUMMARY:Regular Class
DESCRIPTION:
URL:https://aikido-contracosta.com/events/regular-class-327-2/2025-06-05/
LOCATION:Wah Dojo
END:VEVENT
BEGIN:VEVENT
DTSTART;TZID=America/Los_Angeles:20250607T120000
DTEND;TZID=America/Los_Angeles:20250607T140000
DTSTAMP:20260423T231603
CREATED:20241118T050345Z
LAST-MODIFIED:20241118T050345Z
UID:10002171-1749297600-1749304800@aikido-contracosta.com
SUMMARY:Regular Class
DESCRIPTION:
URL:https://aikido-contracosta.com/events/regular-class-339/2025-06-07/
LOCATION:Wah Dojo
END:VEVENT
BEGIN:VEVENT
DTSTART;TZID=America/Los_Angeles:20250610T153000
DTEND;TZID=America/Los_Angeles:20250610T164500
DTSTAMP:20260423T231603
CREATED:20250602T054537Z
LAST-MODIFIED:20250602T054729Z
UID:10001577-1749569400-1749573900@aikido-contracosta.com
SUMMARY:Summer Kids Class Flexible (check w/ instructor)
DESCRIPTION:
URL:https://aikido-contracosta.com/events/kids-class-86-2-2-2/2025-06-10/
END:VEVENT
BEGIN:VEVENT
DTSTART;TZID=America/Los_Angeles:20250610T193000
DTEND;TZID=America/Los_Angeles:20250610T210000
DTSTAMP:20260423T231603
CREATED:20250116T225203Z
LAST-MODIFIED:20250116T225205Z
UID:10001671-1749583800-1749589200@aikido-contracosta.com
SUMMARY:Regular Class
DESCRIPTION:
URL:https://aikido-contracosta.com/events/regular-class-327-2/2025-06-10/
LOCATION:Wah Dojo
END:VEVENT
BEGIN:VEVENT
DTSTART;TZID=America/Los_Angeles:20250611T190000
DTEND;TZID=America/Los_Angeles:20250611T210000
DTSTAMP:20260423T231603
CREATED:20240530T194227Z
LAST-MODIFIED:20240530T194227Z
UID:10001271-1749668400-1749675600@aikido-contracosta.com
SUMMARY:Regular Class
DESCRIPTION:
URL:https://aikido-contracosta.com/events/regular-class-320/2025-06-11/
LOCATION:St. Marks Church
END:VEVENT
BEGIN:VEVENT
DTSTART;TZID=America/Los_Angeles:20250612T153000
DTEND;TZID=America/Los_Angeles:20250612T162500
DTSTAMP:20260423T231603
CREATED:20250519T231802Z
LAST-MODIFIED:20250602T042238Z
UID:10002733-1749742200-1749745500@aikido-contracosta.com
SUMMARY:Summer Kids Class Flexible (check w/ instructor)
DESCRIPTION:
URL:https://aikido-contracosta.com/events/kids-class-99/2025-06-12/
LOCATION:Wah Dojo New Location\, 1436 Royal Industrial Way\, Concord\, CA\, 94520\, United States
END:VEVENT
BEGIN:VEVENT
DTSTART;TZID=America/Los_Angeles:20250612T193000
DTEND;TZID=America/Los_Angeles:20250612T210000
DTSTAMP:20260423T231603
CREATED:20250116T225203Z
LAST-MODIFIED:20250116T225205Z
UID:10001672-1749756600-1749762000@aikido-contracosta.com
SUMMARY:Regular Class
DESCRIPTION:
URL:https://aikido-contracosta.com/events/regular-class-327-2/2025-06-12/
LOCATION:Wah Dojo
END:VEVENT
BEGIN:VEVENT
DTSTART;TZID=America/Los_Angeles:20250614T083000
DTEND;TZID=America/Los_Angeles:20250614T113000
DTSTAMP:20260423T231603
CREATED:20250519T232512Z
LAST-MODIFIED:20250519T232909Z
UID:10002172-1749889800-1749900600@aikido-contracosta.com
SUMMARY:ASL Weapons Seminar
DESCRIPTION:
URL:https://aikido-contracosta.com/events/regular-class-356/
LOCATION:Aikido San Leandro\, 1033 MacArthur Blvd\,\, San Leandro\, CA\, 94577\, United States
END:VEVENT
BEGIN:VEVENT
DTSTART;TZID=America/Los_Angeles:20250615T083000
DTEND;TZID=America/Los_Angeles:20250615T113000
DTSTAMP:20260423T231603
CREATED:20250519T233005Z
LAST-MODIFIED:20250519T233005Z
UID:10002791-1749976200-1749987000@aikido-contracosta.com
SUMMARY:ASL Weapons Seminar
DESCRIPTION:
URL:https://aikido-contracosta.com/events/asl-weapons-seminar-36/
LOCATION:Aikido San Leandro\, 1033 MacArthur Blvd\,\, San Leandro\, CA\, 94577\, United States
END:VEVENT
BEGIN:VEVENT
DTSTART;TZID=America/Los_Angeles:20250617T153000
DTEND;TZID=America/Los_Angeles:20250617T164500
DTSTAMP:20260423T231603
CREATED:20250602T054537Z
LAST-MODIFIED:20250602T054729Z
UID:10001579-1750174200-1750178700@aikido-contracosta.com
SUMMARY:Summer Kids Class Flexible (check w/ instructor)
DESCRIPTION:
URL:https://aikido-contracosta.com/events/kids-class-86-2-2-2/2025-06-17/
END:VEVENT
BEGIN:VEVENT
DTSTART;TZID=America/Los_Angeles:20250617T193000
DTEND;TZID=America/Los_Angeles:20250617T210000
DTSTAMP:20260423T231603
CREATED:20250116T225203Z
LAST-MODIFIED:20250116T225205Z
UID:10001673-1750188600-1750194000@aikido-contracosta.com
SUMMARY:Regular Class
DESCRIPTION:
URL:https://aikido-contracosta.com/events/regular-class-327-2/2025-06-17/
LOCATION:Wah Dojo
END:VEVENT
BEGIN:VEVENT
DTSTART;TZID=America/Los_Angeles:20250618T190000
DTEND;TZID=America/Los_Angeles:20250618T210000
DTSTAMP:20260423T231603
CREATED:20240530T194227Z
LAST-MODIFIED:20240530T194227Z
UID:10001272-1750273200-1750280400@aikido-contracosta.com
SUMMARY:Regular Class
DESCRIPTION:
URL:https://aikido-contracosta.com/events/regular-class-320/2025-06-18/
LOCATION:St. Marks Church
END:VEVENT
BEGIN:VEVENT
DTSTART;TZID=America/Los_Angeles:20250619T153000
DTEND;TZID=America/Los_Angeles:20250619T162500
DTSTAMP:20260423T231603
CREATED:20250203T013739Z
LAST-MODIFIED:20250203T013739Z
UID:10002457-1750347000-1750350300@aikido-contracosta.com
SUMMARY:Kids Class
DESCRIPTION:
URL:https://aikido-contracosta.com/events/kids-class-98/2025-06-19/
LOCATION:Wah Dojo New Location\, 1436 Royal Industrial Way\, Concord\, CA\, 94520\, United States
END:VEVENT
BEGIN:VEVENT
DTSTART;TZID=America/Los_Angeles:20250619T153000
DTEND;TZID=America/Los_Angeles:20250619T162500
DTSTAMP:20260423T231603
CREATED:20250519T231802Z
LAST-MODIFIED:20250602T042238Z
UID:10002734-1750347000-1750350300@aikido-contracosta.com
SUMMARY:Summer Kids Class Flexible (check w/ instructor)
DESCRIPTION:
URL:https://aikido-contracosta.com/events/kids-class-99/2025-06-19/
LOCATION:Wah Dojo New Location\, 1436 Royal Industrial Way\, Concord\, CA\, 94520\, United States
END:VEVENT
BEGIN:VEVENT
DTSTART;TZID=America/Los_Angeles:20250619T193000
DTEND;TZID=America/Los_Angeles:20250619T210000
DTSTAMP:20260423T231603
CREATED:20250116T225203Z
LAST-MODIFIED:20250116T225205Z
UID:10001674-1750361400-1750366800@aikido-contracosta.com
SUMMARY:Regular Class
DESCRIPTION:
URL:https://aikido-contracosta.com/events/regular-class-327-2/2025-06-19/
LOCATION:Wah Dojo
END:VEVENT
BEGIN:VEVENT
DTSTART;TZID=America/Los_Angeles:20250621T083000
DTEND;TZID=America/Los_Angeles:20250621T100000
DTSTAMP:20260423T231603
CREATED:20250612T171545Z
LAST-MODIFIED:20250612T171654Z
UID:10002173-1750494600-1750500000@aikido-contracosta.com
SUMMARY:Special Class and Testing at ASL
DESCRIPTION:
URL:https://aikido-contracosta.com/events/regular-class-357/
LOCATION:Aikido San Leandro\, 1033 MacArthur Blvd\,\, San Leandro\, CA\, 94577\, United States
END:VEVENT
BEGIN:VEVENT
DTSTART;TZID=America/Los_Angeles:20250624T153000
DTEND;TZID=America/Los_Angeles:20250624T164500
DTSTAMP:20260423T231603
CREATED:20250602T054537Z
LAST-MODIFIED:20250602T054729Z
UID:10001581-1750779000-1750783500@aikido-contracosta.com
SUMMARY:Summer Kids Class Flexible (check w/ instructor)
DESCRIPTION:
URL:https://aikido-contracosta.com/events/kids-class-86-2-2-2/2025-06-24/
END:VEVENT
BEGIN:VEVENT
DTSTART;TZID=America/Los_Angeles:20250624T193000
DTEND;TZID=America/Los_Angeles:20250624T210000
DTSTAMP:20260423T231603
CREATED:20250116T225203Z
LAST-MODIFIED:20250116T225205Z
UID:10001675-1750793400-1750798800@aikido-contracosta.com
SUMMARY:Regular Class
DESCRIPTION:
URL:https://aikido-contracosta.com/events/regular-class-327-2/2025-06-24/
LOCATION:Wah Dojo
END:VEVENT
BEGIN:VEVENT
DTSTART;TZID=America/Los_Angeles:20250625T190000
DTEND;TZID=America/Los_Angeles:20250625T210000
DTSTAMP:20260423T231603
CREATED:20240530T194227Z
LAST-MODIFIED:20240530T194227Z
UID:10001273-1750878000-1750885200@aikido-contracosta.com
SUMMARY:Regular Class
DESCRIPTION:
URL:https://aikido-contracosta.com/events/regular-class-320/2025-06-25/
LOCATION:St. Marks Church
END:VEVENT
BEGIN:VEVENT
DTSTART;TZID=America/Los_Angeles:20250626T153000
DTEND;TZID=America/Los_Angeles:20250626T162500
DTSTAMP:20260423T231603
CREATED:20250519T231802Z
LAST-MODIFIED:20250602T042238Z
UID:10002735-1750951800-1750955100@aikido-contracosta.com
SUMMARY:Summer Kids Class Flexible (check w/ instructor)
DESCRIPTION:
URL:https://aikido-contracosta.com/events/kids-class-99/2025-06-26/
LOCATION:Wah Dojo New Location\, 1436 Royal Industrial Way\, Concord\, CA\, 94520\, United States
END:VEVENT
BEGIN:VEVENT
DTSTART;TZID=America/Los_Angeles:20250626T193000
DTEND;TZID=America/Los_Angeles:20250626T210000
DTSTAMP:20260423T231603
CREATED:20250116T225203Z
LAST-MODIFIED:20250116T225205Z
UID:10001676-1750966200-1750971600@aikido-contracosta.com
SUMMARY:Regular Class
DESCRIPTION:
URL:https://aikido-contracosta.com/events/regular-class-327-2/2025-06-26/
LOCATION:Wah Dojo
END:VEVENT
BEGIN:VEVENT
DTSTART;TZID=America/Los_Angeles:20250628T120000
DTEND;TZID=America/Los_Angeles:20250628T140000
DTSTAMP:20260423T231603
CREATED:20250612T171716Z
LAST-MODIFIED:20250612T171755Z
UID:10002174-1751112000-1751119200@aikido-contracosta.com
SUMMARY:Class Cancelled Wah Dojo Rankings
DESCRIPTION:
URL:https://aikido-contracosta.com/events/regular-class-358/
LOCATION:Wah Dojo
END:VEVENT
END:VCALENDAR