BEGIN:VCALENDAR
VERSION:2.0
PRODID:-//AikidoContraCosta.com - ECPv6.15.20//NONSGML v1.0//EN
CALSCALE:GREGORIAN
METHOD:PUBLISH
X-ORIGINAL-URL:https://aikido-contracosta.com
X-WR-CALDESC:Events for AikidoContraCosta.com
REFRESH-INTERVAL;VALUE=DURATION:PT1H
X-Robots-Tag:noindex
X-PUBLISHED-TTL:PT1H
BEGIN:VTIMEZONE
TZID:America/Los_Angeles
BEGIN:DAYLIGHT
TZOFFSETFROM:-0800
TZOFFSETTO:-0700
TZNAME:PDT
DTSTART:20240310T100000
END:DAYLIGHT
BEGIN:STANDARD
TZOFFSETFROM:-0700
TZOFFSETTO:-0800
TZNAME:PST
DTSTART:20241103T090000
END:STANDARD
BEGIN:DAYLIGHT
TZOFFSETFROM:-0800
TZOFFSETTO:-0700
TZNAME:PDT
DTSTART:20250309T100000
END:DAYLIGHT
BEGIN:STANDARD
TZOFFSETFROM:-0700
TZOFFSETTO:-0800
TZNAME:PST
DTSTART:20251102T090000
END:STANDARD
BEGIN:DAYLIGHT
TZOFFSETFROM:-0800
TZOFFSETTO:-0700
TZNAME:PDT
DTSTART:20260308T100000
END:DAYLIGHT
BEGIN:STANDARD
TZOFFSETFROM:-0700
TZOFFSETTO:-0800
TZNAME:PST
DTSTART:20261101T090000
END:STANDARD
END:VTIMEZONE
BEGIN:VEVENT
DTSTART;TZID=America/Los_Angeles:20250401T153000
DTEND;TZID=America/Los_Angeles:20250401T164500
DTSTAMP:20260424T021701
CREATED:20250203T013057Z
LAST-MODIFIED:20250203T013208Z
UID:10001557-1743521400-1743525900@aikido-contracosta.com
SUMMARY:For Kids Class Contact Instructor
DESCRIPTION:
URL:https://aikido-contracosta.com/events/kids-class-86-2/2025-04-01/
END:VEVENT
BEGIN:VEVENT
DTSTART;TZID=America/Los_Angeles:20250401T193000
DTEND;TZID=America/Los_Angeles:20250401T210000
DTSTAMP:20260424T021701
CREATED:20250116T225203Z
LAST-MODIFIED:20250116T225205Z
UID:10001651-1743535800-1743541200@aikido-contracosta.com
SUMMARY:Regular Class
DESCRIPTION:
URL:https://aikido-contracosta.com/events/regular-class-327-2/2025-04-01/
LOCATION:Wah Dojo
END:VEVENT
BEGIN:VEVENT
DTSTART;TZID=America/Los_Angeles:20250402T190000
DTEND;TZID=America/Los_Angeles:20250402T210000
DTSTAMP:20260424T021701
CREATED:20240530T194227Z
LAST-MODIFIED:20240530T194227Z
UID:10001261-1743620400-1743627600@aikido-contracosta.com
SUMMARY:Regular Class
DESCRIPTION:
URL:https://aikido-contracosta.com/events/regular-class-320/2025-04-02/
LOCATION:St. Marks Church
END:VEVENT
BEGIN:VEVENT
DTSTART;TZID=America/Los_Angeles:20250403T153000
DTEND;TZID=America/Los_Angeles:20250403T162500
DTSTAMP:20260424T021701
CREATED:20250203T013739Z
LAST-MODIFIED:20250203T013739Z
UID:10002446-1743694200-1743697500@aikido-contracosta.com
SUMMARY:Kids Class
DESCRIPTION:
URL:https://aikido-contracosta.com/events/kids-class-98/2025-04-03/
LOCATION:Wah Dojo New Location\, 1436 Royal Industrial Way\, Concord\, CA\, 94520\, United States
END:VEVENT
BEGIN:VEVENT
DTSTART;TZID=America/Los_Angeles:20250403T193000
DTEND;TZID=America/Los_Angeles:20250403T210000
DTSTAMP:20260424T021701
CREATED:20250116T225203Z
LAST-MODIFIED:20250116T225205Z
UID:10001652-1743708600-1743714000@aikido-contracosta.com
SUMMARY:Regular Class
DESCRIPTION:
URL:https://aikido-contracosta.com/events/regular-class-327-2/2025-04-03/
LOCATION:Wah Dojo
END:VEVENT
BEGIN:VEVENT
DTSTART;TZID=America/Los_Angeles:20250405T120000
DTEND;TZID=America/Los_Angeles:20250405T140000
DTSTAMP:20260424T021701
CREATED:20241118T050345Z
LAST-MODIFIED:20241118T050345Z
UID:10002162-1743854400-1743861600@aikido-contracosta.com
SUMMARY:Regular Class
DESCRIPTION:
URL:https://aikido-contracosta.com/events/regular-class-339/2025-04-05/
LOCATION:Wah Dojo
END:VEVENT
BEGIN:VEVENT
DTSTART;TZID=America/Los_Angeles:20250408T153000
DTEND;TZID=America/Los_Angeles:20250408T164500
DTSTAMP:20260424T021701
CREATED:20250203T013057Z
LAST-MODIFIED:20250203T013208Z
UID:10001559-1744126200-1744130700@aikido-contracosta.com
SUMMARY:For Kids Class Contact Instructor
DESCRIPTION:
URL:https://aikido-contracosta.com/events/kids-class-86-2/2025-04-08/
END:VEVENT
BEGIN:VEVENT
DTSTART;TZID=America/Los_Angeles:20250408T193000
DTEND;TZID=America/Los_Angeles:20250408T210000
DTSTAMP:20260424T021701
CREATED:20250116T225203Z
LAST-MODIFIED:20250116T225205Z
UID:10001653-1744140600-1744146000@aikido-contracosta.com
SUMMARY:Regular Class
DESCRIPTION:
URL:https://aikido-contracosta.com/events/regular-class-327-2/2025-04-08/
LOCATION:Wah Dojo
END:VEVENT
BEGIN:VEVENT
DTSTART;TZID=America/Los_Angeles:20250409T190000
DTEND;TZID=America/Los_Angeles:20250409T210000
DTSTAMP:20260424T021701
CREATED:20240530T194227Z
LAST-MODIFIED:20240530T194227Z
UID:10001262-1744225200-1744232400@aikido-contracosta.com
SUMMARY:Regular Class
DESCRIPTION:
URL:https://aikido-contracosta.com/events/regular-class-320/2025-04-09/
LOCATION:St. Marks Church
END:VEVENT
BEGIN:VEVENT
DTSTART;TZID=America/Los_Angeles:20250410T153000
DTEND;TZID=America/Los_Angeles:20250410T162500
DTSTAMP:20260424T021701
CREATED:20250203T013739Z
LAST-MODIFIED:20250203T013739Z
UID:10002447-1744299000-1744302300@aikido-contracosta.com
SUMMARY:Kids Class
DESCRIPTION:
URL:https://aikido-contracosta.com/events/kids-class-98/2025-04-10/
LOCATION:Wah Dojo New Location\, 1436 Royal Industrial Way\, Concord\, CA\, 94520\, United States
END:VEVENT
BEGIN:VEVENT
DTSTART;TZID=America/Los_Angeles:20250410T193000
DTEND;TZID=America/Los_Angeles:20250410T210000
DTSTAMP:20260424T021701
CREATED:20250116T225203Z
LAST-MODIFIED:20250116T225205Z
UID:10001654-1744313400-1744318800@aikido-contracosta.com
SUMMARY:Regular Class
DESCRIPTION:
URL:https://aikido-contracosta.com/events/regular-class-327-2/2025-04-10/
LOCATION:Wah Dojo
END:VEVENT
BEGIN:VEVENT
DTSTART;TZID=America/Los_Angeles:20250412T083000
DTEND;TZID=America/Los_Angeles:20250412T113000
DTSTAMP:20260424T021701
CREATED:20250310T020252Z
LAST-MODIFIED:20250310T020331Z
UID:10002163-1744446600-1744457400@aikido-contracosta.com
SUMMARY:ASL Weapons Seminar
DESCRIPTION:
URL:https://aikido-contracosta.com/events/regular-class-351/
LOCATION:Aikido San Leandro\, 1033 MacArthur Blvd\,\, San Leandro\, CA\, 94577\, United States
END:VEVENT
BEGIN:VEVENT
DTSTART;TZID=America/Los_Angeles:20250413T083000
DTEND;TZID=America/Los_Angeles:20250413T113000
DTSTAMP:20260424T021701
CREATED:20250310T020409Z
LAST-MODIFIED:20250310T020409Z
UID:10002706-1744533000-1744543800@aikido-contracosta.com
SUMMARY:ASL Weapons Seminar
DESCRIPTION:
URL:https://aikido-contracosta.com/events/asl-weapons-seminar-33/
LOCATION:Aikido San Leandro\, 1033 MacArthur Blvd\,\, San Leandro\, CA\, 94577\, United States
END:VEVENT
BEGIN:VEVENT
DTSTART;TZID=America/Los_Angeles:20250415T153000
DTEND;TZID=America/Los_Angeles:20250415T164500
DTSTAMP:20260424T021701
CREATED:20250203T013057Z
LAST-MODIFIED:20250203T013208Z
UID:10001561-1744731000-1744735500@aikido-contracosta.com
SUMMARY:For Kids Class Contact Instructor
DESCRIPTION:
URL:https://aikido-contracosta.com/events/kids-class-86-2/2025-04-15/
END:VEVENT
BEGIN:VEVENT
DTSTART;TZID=America/Los_Angeles:20250415T193000
DTEND;TZID=America/Los_Angeles:20250415T210000
DTSTAMP:20260424T021701
CREATED:20250116T225203Z
LAST-MODIFIED:20250116T225205Z
UID:10001655-1744745400-1744750800@aikido-contracosta.com
SUMMARY:Regular Class
DESCRIPTION:
URL:https://aikido-contracosta.com/events/regular-class-327-2/2025-04-15/
LOCATION:Wah Dojo
END:VEVENT
BEGIN:VEVENT
DTSTART;TZID=America/Los_Angeles:20250416T190000
DTEND;TZID=America/Los_Angeles:20250416T210000
DTSTAMP:20260424T021701
CREATED:20240530T194227Z
LAST-MODIFIED:20240530T194227Z
UID:10001263-1744830000-1744837200@aikido-contracosta.com
SUMMARY:Regular Class
DESCRIPTION:
URL:https://aikido-contracosta.com/events/regular-class-320/2025-04-16/
LOCATION:St. Marks Church
END:VEVENT
BEGIN:VEVENT
DTSTART;TZID=America/Los_Angeles:20250417T153000
DTEND;TZID=America/Los_Angeles:20250417T162500
DTSTAMP:20260424T021701
CREATED:20250203T013739Z
LAST-MODIFIED:20250203T013739Z
UID:10002448-1744903800-1744907100@aikido-contracosta.com
SUMMARY:Kids Class
DESCRIPTION:
URL:https://aikido-contracosta.com/events/kids-class-98/2025-04-17/
LOCATION:Wah Dojo New Location\, 1436 Royal Industrial Way\, Concord\, CA\, 94520\, United States
END:VEVENT
BEGIN:VEVENT
DTSTART;TZID=America/Los_Angeles:20250417T193000
DTEND;TZID=America/Los_Angeles:20250417T210000
DTSTAMP:20260424T021701
CREATED:20250116T225203Z
LAST-MODIFIED:20250116T225205Z
UID:10001656-1744918200-1744923600@aikido-contracosta.com
SUMMARY:Regular Class
DESCRIPTION:
URL:https://aikido-contracosta.com/events/regular-class-327-2/2025-04-17/
LOCATION:Wah Dojo
END:VEVENT
BEGIN:VEVENT
DTSTART;TZID=America/Los_Angeles:20250419T120000
DTEND;TZID=America/Los_Angeles:20250419T140000
DTSTAMP:20260424T021701
CREATED:20250412T053405Z
LAST-MODIFIED:20250412T053444Z
UID:10002164-1745064000-1745071200@aikido-contracosta.com
SUMMARY:Class Cancelled (Dojo Work Being Done)
DESCRIPTION:
URL:https://aikido-contracosta.com/events/regular-class-354/
LOCATION:Wah Dojo
END:VEVENT
BEGIN:VEVENT
DTSTART;TZID=America/Los_Angeles:20250422T153000
DTEND;TZID=America/Los_Angeles:20250422T164500
DTSTAMP:20260424T021701
CREATED:20250203T013057Z
LAST-MODIFIED:20250203T013208Z
UID:10001563-1745335800-1745340300@aikido-contracosta.com
SUMMARY:For Kids Class Contact Instructor
DESCRIPTION:
URL:https://aikido-contracosta.com/events/kids-class-86-2/2025-04-22/
END:VEVENT
BEGIN:VEVENT
DTSTART;TZID=America/Los_Angeles:20250422T193000
DTEND;TZID=America/Los_Angeles:20250422T210000
DTSTAMP:20260424T021701
CREATED:20250116T225203Z
LAST-MODIFIED:20250116T225205Z
UID:10001657-1745350200-1745355600@aikido-contracosta.com
SUMMARY:Regular Class
DESCRIPTION:
URL:https://aikido-contracosta.com/events/regular-class-327-2/2025-04-22/
LOCATION:Wah Dojo
END:VEVENT
BEGIN:VEVENT
DTSTART;TZID=America/Los_Angeles:20250423T190000
DTEND;TZID=America/Los_Angeles:20250423T210000
DTSTAMP:20260424T021701
CREATED:20250320T065056Z
LAST-MODIFIED:20250320T065056Z
UID:10002707-1745434800-1745442000@aikido-contracosta.com
SUMMARY:Regular Class
DESCRIPTION:
URL:https://aikido-contracosta.com/events/regular-class-353/
LOCATION:St. Marks Church
END:VEVENT
BEGIN:VEVENT
DTSTART;TZID=America/Los_Angeles:20250424T153000
DTEND;TZID=America/Los_Angeles:20250424T162500
DTSTAMP:20260424T021701
CREATED:20250203T013739Z
LAST-MODIFIED:20250203T013739Z
UID:10002449-1745508600-1745511900@aikido-contracosta.com
SUMMARY:Kids Class
DESCRIPTION:
URL:https://aikido-contracosta.com/events/kids-class-98/2025-04-24/
LOCATION:Wah Dojo New Location\, 1436 Royal Industrial Way\, Concord\, CA\, 94520\, United States
END:VEVENT
BEGIN:VEVENT
DTSTART;TZID=America/Los_Angeles:20250424T190000
DTEND;TZID=America/Los_Angeles:20250424T210000
DTSTAMP:20260424T021701
CREATED:20250320T064825Z
LAST-MODIFIED:20250320T065009Z
UID:10001264-1745521200-1745528400@aikido-contracosta.com
SUMMARY:Tai Sai w/ Jumonville\, Shihan
DESCRIPTION:
URL:https://aikido-contracosta.com/events/tai-sai-w-jumonville-shihan/
LOCATION:Wah Dojo New Location\, 1436 Royal Industrial Way\, Concord\, CA\, 94520\, United States
END:VEVENT
BEGIN:VEVENT
DTSTART;TZID=America/Los_Angeles:20250424T193000
DTEND;TZID=America/Los_Angeles:20250424T210000
DTSTAMP:20260424T021701
CREATED:20250116T225203Z
LAST-MODIFIED:20250116T225205Z
UID:10001658-1745523000-1745528400@aikido-contracosta.com
SUMMARY:Regular Class
DESCRIPTION:
URL:https://aikido-contracosta.com/events/regular-class-327-2/2025-04-24/
LOCATION:Wah Dojo
END:VEVENT
BEGIN:VEVENT
DTSTART;TZID=America/Los_Angeles:20250426T120000
DTEND;TZID=America/Los_Angeles:20250426T140000
DTSTAMP:20260424T021701
CREATED:20241118T050345Z
LAST-MODIFIED:20241118T050345Z
UID:10002165-1745668800-1745676000@aikido-contracosta.com
SUMMARY:Regular Class
DESCRIPTION:
URL:https://aikido-contracosta.com/events/regular-class-339/2025-04-26/
LOCATION:Wah Dojo
END:VEVENT
BEGIN:VEVENT
DTSTART;TZID=America/Los_Angeles:20250429T153000
DTEND;TZID=America/Los_Angeles:20250429T164500
DTSTAMP:20260424T021701
CREATED:20250203T013057Z
LAST-MODIFIED:20250203T013208Z
UID:10001565-1745940600-1745945100@aikido-contracosta.com
SUMMARY:For Kids Class Contact Instructor
DESCRIPTION:
URL:https://aikido-contracosta.com/events/kids-class-86-2/2025-04-29/
END:VEVENT
BEGIN:VEVENT
DTSTART;TZID=America/Los_Angeles:20250429T193000
DTEND;TZID=America/Los_Angeles:20250429T210000
DTSTAMP:20260424T021701
CREATED:20250116T225203Z
LAST-MODIFIED:20250116T225205Z
UID:10001659-1745955000-1745960400@aikido-contracosta.com
SUMMARY:Regular Class
DESCRIPTION:
URL:https://aikido-contracosta.com/events/regular-class-327-2/2025-04-29/
LOCATION:Wah Dojo
END:VEVENT
BEGIN:VEVENT
DTSTART;TZID=America/Los_Angeles:20250430T190000
DTEND;TZID=America/Los_Angeles:20250430T210000
DTSTAMP:20260424T021701
CREATED:20240530T194227Z
LAST-MODIFIED:20240530T194227Z
UID:10001265-1746039600-1746046800@aikido-contracosta.com
SUMMARY:Regular Class
DESCRIPTION:
URL:https://aikido-contracosta.com/events/regular-class-320/2025-04-30/
LOCATION:St. Marks Church
END:VEVENT
END:VCALENDAR