BEGIN:VCALENDAR
VERSION:2.0
PRODID:-//AikidoContraCosta.com - ECPv6.15.20//NONSGML v1.0//EN
CALSCALE:GREGORIAN
METHOD:PUBLISH
X-WR-CALNAME:AikidoContraCosta.com
X-ORIGINAL-URL:https://aikido-contracosta.com
X-WR-CALDESC:Events for AikidoContraCosta.com
REFRESH-INTERVAL;VALUE=DURATION:PT1H
X-Robots-Tag:noindex
X-PUBLISHED-TTL:PT1H
BEGIN:VTIMEZONE
TZID:America/Los_Angeles
BEGIN:DAYLIGHT
TZOFFSETFROM:-0800
TZOFFSETTO:-0700
TZNAME:PDT
DTSTART:20240310T100000
END:DAYLIGHT
BEGIN:STANDARD
TZOFFSETFROM:-0700
TZOFFSETTO:-0800
TZNAME:PST
DTSTART:20241103T090000
END:STANDARD
BEGIN:DAYLIGHT
TZOFFSETFROM:-0800
TZOFFSETTO:-0700
TZNAME:PDT
DTSTART:20250309T100000
END:DAYLIGHT
BEGIN:STANDARD
TZOFFSETFROM:-0700
TZOFFSETTO:-0800
TZNAME:PST
DTSTART:20251102T090000
END:STANDARD
BEGIN:DAYLIGHT
TZOFFSETFROM:-0800
TZOFFSETTO:-0700
TZNAME:PDT
DTSTART:20260308T100000
END:DAYLIGHT
BEGIN:STANDARD
TZOFFSETFROM:-0700
TZOFFSETTO:-0800
TZNAME:PST
DTSTART:20261101T090000
END:STANDARD
END:VTIMEZONE
BEGIN:VEVENT
DTSTART;TZID=America/Los_Angeles:20250201T120000
DTEND;TZID=America/Los_Angeles:20250201T140000
DTSTAMP:20260424T050240
CREATED:20250128T041541Z
LAST-MODIFIED:20250128T041618Z
UID:10002153-1738411200-1738418400@aikido-contracosta.com
SUMMARY:Setup @ New Place\, Train Outside
DESCRIPTION:
URL:https://aikido-contracosta.com/events/regular-class-346/
END:VEVENT
BEGIN:VEVENT
DTSTART;TZID=America/Los_Angeles:20250204T153000
DTEND;TZID=America/Los_Angeles:20250204T164500
DTSTAMP:20260424T050240
CREATED:20250117T022551Z
LAST-MODIFIED:20250117T022628Z
UID:10001541-1738683000-1738687500@aikido-contracosta.com
SUMMARY:Kids Class-All Classes Are Now at the New Location
DESCRIPTION:
URL:https://aikido-contracosta.com/events/kids-class-96/
END:VEVENT
BEGIN:VEVENT
DTSTART;TZID=America/Los_Angeles:20250204T193000
DTEND;TZID=America/Los_Angeles:20250204T210000
DTSTAMP:20260424T050240
CREATED:20250116T225203Z
LAST-MODIFIED:20250116T225205Z
UID:10001635-1738697400-1738702800@aikido-contracosta.com
SUMMARY:Regular Class
DESCRIPTION:
URL:https://aikido-contracosta.com/events/regular-class-327-2/2025-02-04/
LOCATION:Wah Dojo
END:VEVENT
BEGIN:VEVENT
DTSTART;TZID=America/Los_Angeles:20250205T190000
DTEND;TZID=America/Los_Angeles:20250205T210000
DTSTAMP:20260424T050240
CREATED:20240530T194227Z
LAST-MODIFIED:20240530T194227Z
UID:10001253-1738782000-1738789200@aikido-contracosta.com
SUMMARY:Regular Class
DESCRIPTION:
URL:https://aikido-contracosta.com/events/regular-class-320/2025-02-05/
LOCATION:St. Marks Church
END:VEVENT
BEGIN:VEVENT
DTSTART;TZID=America/Los_Angeles:20250206T153000
DTEND;TZID=America/Los_Angeles:20250206T164500
DTSTAMP:20260424T050240
CREATED:20250117T022639Z
LAST-MODIFIED:20250117T022645Z
UID:10001542-1738855800-1738860300@aikido-contracosta.com
SUMMARY:Kids Class-All Classes Are Now at the New Location
DESCRIPTION:
URL:https://aikido-contracosta.com/events/kids-class-97/
END:VEVENT
BEGIN:VEVENT
DTSTART;TZID=America/Los_Angeles:20250206T193000
DTEND;TZID=America/Los_Angeles:20250206T210000
DTSTAMP:20260424T050240
CREATED:20250116T225203Z
LAST-MODIFIED:20250116T225205Z
UID:10001636-1738870200-1738875600@aikido-contracosta.com
SUMMARY:Regular Class
DESCRIPTION:
URL:https://aikido-contracosta.com/events/regular-class-327-2/2025-02-06/
LOCATION:Wah Dojo
END:VEVENT
BEGIN:VEVENT
DTSTART;TZID=America/Los_Angeles:20250208T120000
DTEND;TZID=America/Los_Angeles:20250208T140000
DTSTAMP:20260424T050240
CREATED:20241118T050345Z
LAST-MODIFIED:20241118T050345Z
UID:10002154-1739016000-1739023200@aikido-contracosta.com
SUMMARY:Regular Class
DESCRIPTION:
URL:https://aikido-contracosta.com/events/regular-class-339/2025-02-08/
LOCATION:Wah Dojo
END:VEVENT
BEGIN:VEVENT
DTSTART;TZID=America/Los_Angeles:20250211T153000
DTEND;TZID=America/Los_Angeles:20250211T164500
DTSTAMP:20260424T050240
CREATED:20240530T194412Z
LAST-MODIFIED:20240722T001331Z
UID:10001543-1739287800-1739292300@aikido-contracosta.com
SUMMARY:Kids Class
DESCRIPTION:
URL:https://aikido-contracosta.com/events/kids-class-86/2025-02-11/
LOCATION:Wah Dojo
END:VEVENT
BEGIN:VEVENT
DTSTART;TZID=America/Los_Angeles:20250211T153000
DTEND;TZID=America/Los_Angeles:20250211T164500
DTSTAMP:20260424T050240
CREATED:20250203T013057Z
LAST-MODIFIED:20250203T013208Z
UID:10002438-1739287800-1739292300@aikido-contracosta.com
SUMMARY:For Kids Class Contact Instructor
DESCRIPTION:
URL:https://aikido-contracosta.com/events/kids-class-86-2/2025-02-11/
END:VEVENT
BEGIN:VEVENT
DTSTART;TZID=America/Los_Angeles:20250211T193000
DTEND;TZID=America/Los_Angeles:20250211T210000
DTSTAMP:20260424T050240
CREATED:20250116T225203Z
LAST-MODIFIED:20250116T225205Z
UID:10001637-1739302200-1739307600@aikido-contracosta.com
SUMMARY:Regular Class
DESCRIPTION:
URL:https://aikido-contracosta.com/events/regular-class-327-2/2025-02-11/
LOCATION:Wah Dojo
END:VEVENT
BEGIN:VEVENT
DTSTART;TZID=America/Los_Angeles:20250212T190000
DTEND;TZID=America/Los_Angeles:20250212T210000
DTSTAMP:20260424T050240
CREATED:20240530T194227Z
LAST-MODIFIED:20240530T194227Z
UID:10001254-1739386800-1739394000@aikido-contracosta.com
SUMMARY:Regular Class
DESCRIPTION:
URL:https://aikido-contracosta.com/events/regular-class-320/2025-02-12/
LOCATION:St. Marks Church
END:VEVENT
BEGIN:VEVENT
DTSTART;TZID=America/Los_Angeles:20250213T153000
DTEND;TZID=America/Los_Angeles:20250213T162500
DTSTAMP:20260424T050240
CREATED:20250203T013739Z
LAST-MODIFIED:20250203T013739Z
UID:10002439-1739460600-1739463900@aikido-contracosta.com
SUMMARY:Kids Class
DESCRIPTION:
URL:https://aikido-contracosta.com/events/kids-class-98/2025-02-13/
LOCATION:Wah Dojo New Location\, 1436 Royal Industrial Way\, Concord\, CA\, 94520\, United States
END:VEVENT
BEGIN:VEVENT
DTSTART;TZID=America/Los_Angeles:20250213T193000
DTEND;TZID=America/Los_Angeles:20250213T210000
DTSTAMP:20260424T050240
CREATED:20250116T225203Z
LAST-MODIFIED:20250116T225205Z
UID:10001638-1739475000-1739480400@aikido-contracosta.com
SUMMARY:Regular Class
DESCRIPTION:
URL:https://aikido-contracosta.com/events/regular-class-327-2/2025-02-13/
LOCATION:Wah Dojo
END:VEVENT
BEGIN:VEVENT
DTSTART;TZID=America/Los_Angeles:20250215T120000
DTEND;TZID=America/Los_Angeles:20250215T140000
DTSTAMP:20260424T050240
CREATED:20241118T050345Z
LAST-MODIFIED:20241118T050345Z
UID:10002155-1739620800-1739628000@aikido-contracosta.com
SUMMARY:Regular Class
DESCRIPTION:
URL:https://aikido-contracosta.com/events/regular-class-339/2025-02-15/
LOCATION:Wah Dojo
END:VEVENT
BEGIN:VEVENT
DTSTART;TZID=America/Los_Angeles:20250218T153000
DTEND;TZID=America/Los_Angeles:20250218T164500
DTSTAMP:20260424T050240
CREATED:20250203T013057Z
LAST-MODIFIED:20250203T013208Z
UID:10001545-1739892600-1739897100@aikido-contracosta.com
SUMMARY:For Kids Class Contact Instructor
DESCRIPTION:
URL:https://aikido-contracosta.com/events/kids-class-86-2/2025-02-18/
END:VEVENT
BEGIN:VEVENT
DTSTART;TZID=America/Los_Angeles:20250218T193000
DTEND;TZID=America/Los_Angeles:20250218T210000
DTSTAMP:20260424T050240
CREATED:20250116T225203Z
LAST-MODIFIED:20250116T225205Z
UID:10001639-1739907000-1739912400@aikido-contracosta.com
SUMMARY:Regular Class
DESCRIPTION:
URL:https://aikido-contracosta.com/events/regular-class-327-2/2025-02-18/
LOCATION:Wah Dojo
END:VEVENT
BEGIN:VEVENT
DTSTART;TZID=America/Los_Angeles:20250219T190000
DTEND;TZID=America/Los_Angeles:20250219T210000
DTSTAMP:20260424T050240
CREATED:20250128T041825Z
LAST-MODIFIED:20250128T042249Z
UID:10002436-1739991600-1739998800@aikido-contracosta.com
SUMMARY:Regular Class
DESCRIPTION:
URL:https://aikido-contracosta.com/events/regular-class-347/
LOCATION:St. Marks Church
END:VEVENT
BEGIN:VEVENT
DTSTART;TZID=America/Los_Angeles:20250220T153000
DTEND;TZID=America/Los_Angeles:20250220T162500
DTSTAMP:20260424T050240
CREATED:20250203T013739Z
LAST-MODIFIED:20250203T013739Z
UID:10002440-1740065400-1740068700@aikido-contracosta.com
SUMMARY:Kids Class
DESCRIPTION:
URL:https://aikido-contracosta.com/events/kids-class-98/2025-02-20/
LOCATION:Wah Dojo New Location\, 1436 Royal Industrial Way\, Concord\, CA\, 94520\, United States
END:VEVENT
BEGIN:VEVENT
DTSTART;TZID=America/Los_Angeles:20250220T170000
DTEND;TZID=America/Los_Angeles:20250220T180000
DTSTAMP:20260424T050240
CREATED:20250128T042718Z
LAST-MODIFIED:20250128T043718Z
UID:10002437-1740070800-1740074400@aikido-contracosta.com
SUMMARY:Class @ASL w/ Hendricks Shihan
DESCRIPTION:Dinner at Chinese restaurant to follow
URL:https://aikido-contracosta.com/events/class-asl-w-hendricks-shihan/
LOCATION:Aikido San Leandro\, 1033 MacArthur Blvd\,\, San Leandro\, CA\, 94577\, United States
END:VEVENT
BEGIN:VEVENT
DTSTART;TZID=America/Los_Angeles:20250220T193000
DTEND;TZID=America/Los_Angeles:20250220T210000
DTSTAMP:20260424T050240
CREATED:20250116T225203Z
LAST-MODIFIED:20250116T225205Z
UID:10001640-1740079800-1740085200@aikido-contracosta.com
SUMMARY:Regular Class
DESCRIPTION:
URL:https://aikido-contracosta.com/events/regular-class-327-2/2025-02-20/
LOCATION:Wah Dojo
END:VEVENT
BEGIN:VEVENT
DTSTART;TZID=America/Los_Angeles:20250222T083000
DTEND;TZID=America/Los_Angeles:20250222T160000
DTSTAMP:20260424T050240
CREATED:20250117T023458Z
LAST-MODIFIED:20250117T023554Z
UID:10002156-1740213000-1740240000@aikido-contracosta.com
SUMMARY:CAA Saturday at ASL
DESCRIPTION:
URL:https://aikido-contracosta.com/events/regular-class-345/
LOCATION:Aikido San Leandro\, 1033 MacArthur Blvd\,\, San Leandro\, CA\, 94577\, United States
END:VEVENT
BEGIN:VEVENT
DTSTART;TZID=America/Los_Angeles:20250223T100000
DTEND;TZID=America/Los_Angeles:20250223T133000
DTSTAMP:20260424T050240
CREATED:20250117T024012Z
LAST-MODIFIED:20250117T024012Z
UID:10002433-1740304800-1740317400@aikido-contracosta.com
SUMMARY:CAA Sunday at Aikido West
DESCRIPTION:
URL:https://aikido-contracosta.com/events/caa-sunday-at-aikido-west/
LOCATION:https://aikido-west.org/contact\, 3164 Bay Road\, Redwood City\, CA\, 94063\, United States
END:VEVENT
BEGIN:VEVENT
DTSTART;TZID=America/Los_Angeles:20250225T153000
DTEND;TZID=America/Los_Angeles:20250225T164500
DTSTAMP:20260424T050240
CREATED:20250203T013057Z
LAST-MODIFIED:20250203T013208Z
UID:10001547-1740497400-1740501900@aikido-contracosta.com
SUMMARY:For Kids Class Contact Instructor
DESCRIPTION:
URL:https://aikido-contracosta.com/events/kids-class-86-2/2025-02-25/
END:VEVENT
BEGIN:VEVENT
DTSTART;TZID=America/Los_Angeles:20250225T193000
DTEND;TZID=America/Los_Angeles:20250225T210000
DTSTAMP:20260424T050240
CREATED:20250116T225203Z
LAST-MODIFIED:20250116T225205Z
UID:10001641-1740511800-1740517200@aikido-contracosta.com
SUMMARY:Regular Class
DESCRIPTION:
URL:https://aikido-contracosta.com/events/regular-class-327-2/2025-02-25/
LOCATION:Wah Dojo
END:VEVENT
BEGIN:VEVENT
DTSTART;TZID=America/Los_Angeles:20250226T190000
DTEND;TZID=America/Los_Angeles:20250226T210000
DTSTAMP:20260424T050240
CREATED:20240530T194227Z
LAST-MODIFIED:20240530T194227Z
UID:10001256-1740596400-1740603600@aikido-contracosta.com
SUMMARY:Regular Class
DESCRIPTION:
URL:https://aikido-contracosta.com/events/regular-class-320/2025-02-26/
LOCATION:St. Marks Church
END:VEVENT
BEGIN:VEVENT
DTSTART;TZID=America/Los_Angeles:20250227T153000
DTEND;TZID=America/Los_Angeles:20250227T162500
DTSTAMP:20260424T050240
CREATED:20250203T013739Z
LAST-MODIFIED:20250203T013739Z
UID:10002441-1740670200-1740673500@aikido-contracosta.com
SUMMARY:Kids Class
DESCRIPTION:
URL:https://aikido-contracosta.com/events/kids-class-98/2025-02-27/
LOCATION:Wah Dojo New Location\, 1436 Royal Industrial Way\, Concord\, CA\, 94520\, United States
END:VEVENT
BEGIN:VEVENT
DTSTART;TZID=America/Los_Angeles:20250227T193000
DTEND;TZID=America/Los_Angeles:20250227T210000
DTSTAMP:20260424T050240
CREATED:20250116T225203Z
LAST-MODIFIED:20250116T225205Z
UID:10001642-1740684600-1740690000@aikido-contracosta.com
SUMMARY:Regular Class
DESCRIPTION:
URL:https://aikido-contracosta.com/events/regular-class-327-2/2025-02-27/
LOCATION:Wah Dojo
END:VEVENT
END:VCALENDAR