BEGIN:VCALENDAR
VERSION:2.0
PRODID:-//AikidoContraCosta.com - ECPv6.15.20//NONSGML v1.0//EN
CALSCALE:GREGORIAN
METHOD:PUBLISH
X-ORIGINAL-URL:https://aikido-contracosta.com
X-WR-CALDESC:Events for AikidoContraCosta.com
REFRESH-INTERVAL;VALUE=DURATION:PT1H
X-Robots-Tag:noindex
X-PUBLISHED-TTL:PT1H
BEGIN:VTIMEZONE
TZID:America/Los_Angeles
BEGIN:DAYLIGHT
TZOFFSETFROM:-0800
TZOFFSETTO:-0700
TZNAME:PDT
DTSTART:20240310T100000
END:DAYLIGHT
BEGIN:STANDARD
TZOFFSETFROM:-0700
TZOFFSETTO:-0800
TZNAME:PST
DTSTART:20241103T090000
END:STANDARD
BEGIN:DAYLIGHT
TZOFFSETFROM:-0800
TZOFFSETTO:-0700
TZNAME:PDT
DTSTART:20250309T100000
END:DAYLIGHT
BEGIN:STANDARD
TZOFFSETFROM:-0700
TZOFFSETTO:-0800
TZNAME:PST
DTSTART:20251102T090000
END:STANDARD
BEGIN:DAYLIGHT
TZOFFSETFROM:-0800
TZOFFSETTO:-0700
TZNAME:PDT
DTSTART:20260308T100000
END:DAYLIGHT
BEGIN:STANDARD
TZOFFSETFROM:-0700
TZOFFSETTO:-0800
TZNAME:PST
DTSTART:20261101T090000
END:STANDARD
END:VTIMEZONE
BEGIN:VEVENT
DTSTART;TZID=America/Los_Angeles:20250101T190000
DTEND;TZID=America/Los_Angeles:20250101T210000
DTSTAMP:20260424T064705
CREATED:20241118T044456Z
LAST-MODIFIED:20241118T044502Z
UID:10001248-1735758000-1735765200@aikido-contracosta.com
SUMMARY:Winter Break
DESCRIPTION:
URL:https://aikido-contracosta.com/events/regular-class-338/
LOCATION:St. Marks Church
END:VEVENT
BEGIN:VEVENT
DTSTART;TZID=America/Los_Angeles:20250102T153000
DTEND;TZID=America/Los_Angeles:20250102T164500
DTSTAMP:20260424T064705
CREATED:20241118T044515Z
LAST-MODIFIED:20241118T044522Z
UID:10001532-1735831800-1735836300@aikido-contracosta.com
SUMMARY:Winter Break
DESCRIPTION:
URL:https://aikido-contracosta.com/events/kids-class-92/
LOCATION:Wah Dojo
END:VEVENT
BEGIN:VEVENT
DTSTART;TZID=America/Los_Angeles:20250104T120000
DTEND;TZID=America/Los_Angeles:20250104T140000
DTSTAMP:20260424T064705
CREATED:20241118T050345Z
LAST-MODIFIED:20241118T050345Z
UID:10002149-1735992000-1735999200@aikido-contracosta.com
SUMMARY:Regular Class
DESCRIPTION:
URL:https://aikido-contracosta.com/events/regular-class-339/2025-01-04/
LOCATION:Wah Dojo
END:VEVENT
BEGIN:VEVENT
DTSTART;TZID=America/Los_Angeles:20250107T153000
DTEND;TZID=America/Los_Angeles:20250107T164500
DTSTAMP:20260424T064705
CREATED:20240530T194412Z
LAST-MODIFIED:20240722T001331Z
UID:10001533-1736263800-1736268300@aikido-contracosta.com
SUMMARY:Kids Class
DESCRIPTION:
URL:https://aikido-contracosta.com/events/kids-class-86/2025-01-07/
LOCATION:Wah Dojo
END:VEVENT
BEGIN:VEVENT
DTSTART;TZID=America/Los_Angeles:20250107T193000
DTEND;TZID=America/Los_Angeles:20250107T210000
DTSTAMP:20260424T064705
CREATED:20241101T205639Z
LAST-MODIFIED:20241101T205639Z
UID:10001626-1736278200-1736283600@aikido-contracosta.com
SUMMARY:Regular Class
DESCRIPTION:
URL:https://aikido-contracosta.com/events/regular-class-321-3-2/
LOCATION:Wah Dojo
END:VEVENT
BEGIN:VEVENT
DTSTART;TZID=America/Los_Angeles:20250108T190000
DTEND;TZID=America/Los_Angeles:20250108T210000
DTSTAMP:20260424T064705
CREATED:20240530T194227Z
LAST-MODIFIED:20240530T194227Z
UID:10001249-1736362800-1736370000@aikido-contracosta.com
SUMMARY:Regular Class
DESCRIPTION:
URL:https://aikido-contracosta.com/events/regular-class-320/2025-01-08/
LOCATION:St. Marks Church
END:VEVENT
BEGIN:VEVENT
DTSTART;TZID=America/Los_Angeles:20250109T153000
DTEND;TZID=America/Los_Angeles:20250109T164500
DTSTAMP:20260424T064705
CREATED:20240530T194412Z
LAST-MODIFIED:20240722T001331Z
UID:10001534-1736436600-1736441100@aikido-contracosta.com
SUMMARY:Kids Class
DESCRIPTION:
URL:https://aikido-contracosta.com/events/kids-class-86/2025-01-09/
LOCATION:Wah Dojo
END:VEVENT
BEGIN:VEVENT
DTSTART;TZID=America/Los_Angeles:20250109T193000
DTEND;TZID=America/Los_Angeles:20250109T210000
DTSTAMP:20260424T064705
CREATED:20241102T032619Z
LAST-MODIFIED:20241102T032619Z
UID:10001628-1736451000-1736456400@aikido-contracosta.com
SUMMARY:Regular Class
DESCRIPTION:
URL:https://aikido-contracosta.com/events/regular-class-327/2025-01-09/
LOCATION:Wah Dojo
END:VEVENT
BEGIN:VEVENT
DTSTART;TZID=America/Los_Angeles:20250111T083000
DTEND;TZID=America/Los_Angeles:20250111T110000
DTSTAMP:20260424T064705
CREATED:20241211T011720Z
LAST-MODIFIED:20241213T224615Z
UID:10002150-1736584200-1736593200@aikido-contracosta.com
SUMMARY:ASL Weapons Seminar
DESCRIPTION:
URL:https://aikido-contracosta.com/events/regular-class-343/
LOCATION:Aikido San Leandro\, 1033 MacArthur Blvd\,\, San Leandro\, CA\, 94577\, United States
END:VEVENT
BEGIN:VEVENT
DTSTART;TZID=America/Los_Angeles:20250112T083000
DTEND;TZID=America/Los_Angeles:20250112T110000
DTSTAMP:20260424T064705
CREATED:20241213T225017Z
LAST-MODIFIED:20241213T225017Z
UID:10002408-1736670600-1736679600@aikido-contracosta.com
SUMMARY:ASL Weapons Seminar
DESCRIPTION:
URL:https://aikido-contracosta.com/events/asl-weapons-seminar-32/
LOCATION:Aikido San Leandro\, 1033 MacArthur Blvd\,\, San Leandro\, CA\, 94577\, United States
END:VEVENT
BEGIN:VEVENT
DTSTART;TZID=America/Los_Angeles:20250114T153000
DTEND;TZID=America/Los_Angeles:20250114T164500
DTSTAMP:20260424T064705
CREATED:20240530T194412Z
LAST-MODIFIED:20240722T001331Z
UID:10001535-1736868600-1736873100@aikido-contracosta.com
SUMMARY:Kids Class
DESCRIPTION:
URL:https://aikido-contracosta.com/events/kids-class-86/2025-01-14/
LOCATION:Wah Dojo
END:VEVENT
BEGIN:VEVENT
DTSTART;TZID=America/Los_Angeles:20250114T193000
DTEND;TZID=America/Los_Angeles:20250114T210000
DTSTAMP:20260424T064705
CREATED:20241102T032619Z
LAST-MODIFIED:20241102T032619Z
UID:10001629-1736883000-1736888400@aikido-contracosta.com
SUMMARY:Regular Class
DESCRIPTION:
URL:https://aikido-contracosta.com/events/regular-class-327/2025-01-14/
LOCATION:Wah Dojo
END:VEVENT
BEGIN:VEVENT
DTSTART;TZID=America/Los_Angeles:20250115T190000
DTEND;TZID=America/Los_Angeles:20250115T210000
DTSTAMP:20260424T064705
CREATED:20240530T194227Z
LAST-MODIFIED:20240530T194227Z
UID:10001250-1736967600-1736974800@aikido-contracosta.com
SUMMARY:Regular Class
DESCRIPTION:
URL:https://aikido-contracosta.com/events/regular-class-320/2025-01-15/
LOCATION:St. Marks Church
END:VEVENT
BEGIN:VEVENT
DTSTART;TZID=America/Los_Angeles:20250116T153000
DTEND;TZID=America/Los_Angeles:20250116T164500
DTSTAMP:20260424T064705
CREATED:20240530T194412Z
LAST-MODIFIED:20240722T001331Z
UID:10001536-1737041400-1737045900@aikido-contracosta.com
SUMMARY:Kids Class
DESCRIPTION:
URL:https://aikido-contracosta.com/events/kids-class-86/2025-01-16/
LOCATION:Wah Dojo
END:VEVENT
BEGIN:VEVENT
DTSTART;TZID=America/Los_Angeles:20250116T193000
DTEND;TZID=America/Los_Angeles:20250116T210000
DTSTAMP:20260424T064705
CREATED:20250116T225203Z
LAST-MODIFIED:20250116T225205Z
UID:10001630-1737055800-1737061200@aikido-contracosta.com
SUMMARY:Regular Class
DESCRIPTION:
URL:https://aikido-contracosta.com/events/regular-class-327-2/2025-01-16/
LOCATION:Wah Dojo
END:VEVENT
BEGIN:VEVENT
DTSTART;TZID=America/Los_Angeles:20250118T120000
DTEND;TZID=America/Los_Angeles:20250118T140000
DTSTAMP:20260424T064705
CREATED:20241118T050345Z
LAST-MODIFIED:20241118T050345Z
UID:10002151-1737201600-1737208800@aikido-contracosta.com
SUMMARY:Regular Class
DESCRIPTION:
URL:https://aikido-contracosta.com/events/regular-class-339/2025-01-18/
LOCATION:Wah Dojo
END:VEVENT
BEGIN:VEVENT
DTSTART;TZID=America/Los_Angeles:20250121T153000
DTEND;TZID=America/Los_Angeles:20250121T164500
DTSTAMP:20260424T064705
CREATED:20240530T194412Z
LAST-MODIFIED:20240722T001331Z
UID:10001537-1737473400-1737477900@aikido-contracosta.com
SUMMARY:Kids Class
DESCRIPTION:
URL:https://aikido-contracosta.com/events/kids-class-86/2025-01-21/
LOCATION:Wah Dojo
END:VEVENT
BEGIN:VEVENT
DTSTART;TZID=America/Los_Angeles:20250121T193000
DTEND;TZID=America/Los_Angeles:20250121T210000
DTSTAMP:20260424T064705
CREATED:20250116T225203Z
LAST-MODIFIED:20250116T225205Z
UID:10001631-1737487800-1737493200@aikido-contracosta.com
SUMMARY:Regular Class
DESCRIPTION:
URL:https://aikido-contracosta.com/events/regular-class-327-2/2025-01-21/
LOCATION:Wah Dojo
END:VEVENT
BEGIN:VEVENT
DTSTART;TZID=America/Los_Angeles:20250122T190000
DTEND;TZID=America/Los_Angeles:20250122T210000
DTSTAMP:20260424T064705
CREATED:20240530T194227Z
LAST-MODIFIED:20240530T194227Z
UID:10001251-1737572400-1737579600@aikido-contracosta.com
SUMMARY:Regular Class
DESCRIPTION:
URL:https://aikido-contracosta.com/events/regular-class-320/2025-01-22/
LOCATION:St. Marks Church
END:VEVENT
BEGIN:VEVENT
DTSTART;TZID=America/Los_Angeles:20250123T153000
DTEND;TZID=America/Los_Angeles:20250123T164500
DTSTAMP:20260424T064705
CREATED:20240530T194412Z
LAST-MODIFIED:20240722T001331Z
UID:10001538-1737646200-1737650700@aikido-contracosta.com
SUMMARY:Kids Class
DESCRIPTION:
URL:https://aikido-contracosta.com/events/kids-class-86/2025-01-23/
LOCATION:Wah Dojo
END:VEVENT
BEGIN:VEVENT
DTSTART;TZID=America/Los_Angeles:20250123T193000
DTEND;TZID=America/Los_Angeles:20250123T210000
DTSTAMP:20260424T064705
CREATED:20250116T225203Z
LAST-MODIFIED:20250116T225205Z
UID:10001632-1737660600-1737666000@aikido-contracosta.com
SUMMARY:Regular Class
DESCRIPTION:
URL:https://aikido-contracosta.com/events/regular-class-327-2/2025-01-23/
LOCATION:Wah Dojo
END:VEVENT
BEGIN:VEVENT
DTSTART;VALUE=DATE:20250125
DTEND;VALUE=DATE:20250126
DTSTAMP:20260424T064705
CREATED:20241213T224739Z
LAST-MODIFIED:20241213T224753Z
UID:10002152-1737763200-1737849599@aikido-contracosta.com
SUMMARY:Kagami Biraki w/ Hendricks Shihan
DESCRIPTION:
URL:https://aikido-contracosta.com/events/regular-class-344/
LOCATION:Wah Dojo
END:VEVENT
BEGIN:VEVENT
DTSTART;TZID=America/Los_Angeles:20250128T153000
DTEND;TZID=America/Los_Angeles:20250128T164500
DTSTAMP:20260424T064705
CREATED:20250117T022359Z
LAST-MODIFIED:20250117T022416Z
UID:10001539-1738078200-1738082700@aikido-contracosta.com
SUMMARY:Help With Cleanup
DESCRIPTION:
URL:https://aikido-contracosta.com/events/kids-class-94/
END:VEVENT
BEGIN:VEVENT
DTSTART;TZID=America/Los_Angeles:20250128T193000
DTEND;TZID=America/Los_Angeles:20250128T210000
DTSTAMP:20260424T064705
CREATED:20250116T225352Z
LAST-MODIFIED:20250116T225352Z
UID:10002426-1738092600-1738098000@aikido-contracosta.com
SUMMARY:Dojo Clean Up and Move
DESCRIPTION:
URL:https://aikido-contracosta.com/events/dojo-clean-up-and-move/
LOCATION:Wah Dojo
END:VEVENT
BEGIN:VEVENT
DTSTART;TZID=America/Los_Angeles:20250129T190000
DTEND;TZID=America/Los_Angeles:20250129T210000
DTSTAMP:20260424T064705
CREATED:20240530T194227Z
LAST-MODIFIED:20240530T194227Z
UID:10001252-1738177200-1738184400@aikido-contracosta.com
SUMMARY:Regular Class
DESCRIPTION:
URL:https://aikido-contracosta.com/events/regular-class-320/2025-01-29/
LOCATION:St. Marks Church
END:VEVENT
BEGIN:VEVENT
DTSTART;TZID=America/Los_Angeles:20250130T153000
DTEND;TZID=America/Los_Angeles:20250130T164500
DTSTAMP:20260424T064705
CREATED:20250117T022437Z
LAST-MODIFIED:20250117T022454Z
UID:10001540-1738251000-1738255500@aikido-contracosta.com
SUMMARY:Help With Cleanup
DESCRIPTION:
URL:https://aikido-contracosta.com/events/kids-class-95/
END:VEVENT
BEGIN:VEVENT
DTSTART;TZID=America/Los_Angeles:20250130T193000
DTEND;TZID=America/Los_Angeles:20250130T210000
DTSTAMP:20260424T064705
CREATED:20250116T225427Z
LAST-MODIFIED:20250116T225427Z
UID:10002427-1738265400-1738270800@aikido-contracosta.com
SUMMARY:Dojo Clean Up and Move
DESCRIPTION:
URL:https://aikido-contracosta.com/events/dojo-clean-up-and-move-2/
END:VEVENT
END:VCALENDAR