BEGIN:VCALENDAR
VERSION:2.0
PRODID:-//AikidoContraCosta.com - ECPv6.15.20//NONSGML v1.0//EN
CALSCALE:GREGORIAN
METHOD:PUBLISH
X-ORIGINAL-URL:https://aikido-contracosta.com
X-WR-CALDESC:Events for AikidoContraCosta.com
REFRESH-INTERVAL;VALUE=DURATION:PT1H
X-Robots-Tag:noindex
X-PUBLISHED-TTL:PT1H
BEGIN:VTIMEZONE
TZID:America/Los_Angeles
BEGIN:DAYLIGHT
TZOFFSETFROM:-0800
TZOFFSETTO:-0700
TZNAME:PDT
DTSTART:20230312T100000
END:DAYLIGHT
BEGIN:STANDARD
TZOFFSETFROM:-0700
TZOFFSETTO:-0800
TZNAME:PST
DTSTART:20231105T090000
END:STANDARD
BEGIN:DAYLIGHT
TZOFFSETFROM:-0800
TZOFFSETTO:-0700
TZNAME:PDT
DTSTART:20240310T100000
END:DAYLIGHT
BEGIN:STANDARD
TZOFFSETFROM:-0700
TZOFFSETTO:-0800
TZNAME:PST
DTSTART:20241103T090000
END:STANDARD
BEGIN:DAYLIGHT
TZOFFSETFROM:-0800
TZOFFSETTO:-0700
TZNAME:PDT
DTSTART:20250309T100000
END:DAYLIGHT
BEGIN:STANDARD
TZOFFSETFROM:-0700
TZOFFSETTO:-0800
TZNAME:PST
DTSTART:20251102T090000
END:STANDARD
END:VTIMEZONE
BEGIN:VEVENT
DTSTART;TZID=America/Los_Angeles:20241001T153000
DTEND;TZID=America/Los_Angeles:20241001T164500
DTSTAMP:20260424T132709
CREATED:20240530T194412Z
LAST-MODIFIED:20240722T001331Z
UID:10001505-1727796600-1727801100@aikido-contracosta.com
SUMMARY:Kids Class
DESCRIPTION:
URL:https://aikido-contracosta.com/events/kids-class-86/2024-10-01/
LOCATION:Wah Dojo
END:VEVENT
BEGIN:VEVENT
DTSTART;TZID=America/Los_Angeles:20241001T193000
DTEND;TZID=America/Los_Angeles:20241001T210000
DTSTAMP:20260424T132709
CREATED:20240530T193944Z
LAST-MODIFIED:20240530T194039Z
UID:10001200-1727811000-1727816400@aikido-contracosta.com
SUMMARY:Regular Class
DESCRIPTION:
URL:https://aikido-contracosta.com/events/regular-class-319/2024-10-01/
LOCATION:Wah Dojo
END:VEVENT
BEGIN:VEVENT
DTSTART;TZID=America/Los_Angeles:20241002T190000
DTEND;TZID=America/Los_Angeles:20241002T210000
DTSTAMP:20260424T132709
CREATED:20240530T194227Z
LAST-MODIFIED:20240530T194227Z
UID:10001235-1727895600-1727902800@aikido-contracosta.com
SUMMARY:Regular Class
DESCRIPTION:
URL:https://aikido-contracosta.com/events/regular-class-320/2024-10-02/
LOCATION:St. Marks Church
END:VEVENT
BEGIN:VEVENT
DTSTART;TZID=America/Los_Angeles:20241003T153000
DTEND;TZID=America/Los_Angeles:20241003T164500
DTSTAMP:20260424T132709
CREATED:20240530T194412Z
LAST-MODIFIED:20240722T001331Z
UID:10001506-1727969400-1727973900@aikido-contracosta.com
SUMMARY:Kids Class
DESCRIPTION:
URL:https://aikido-contracosta.com/events/kids-class-86/2024-10-03/
LOCATION:Wah Dojo
END:VEVENT
BEGIN:VEVENT
DTSTART;TZID=America/Los_Angeles:20241003T193000
DTEND;TZID=America/Los_Angeles:20241003T210000
DTSTAMP:20260424T132709
CREATED:20240530T193944Z
LAST-MODIFIED:20240530T194039Z
UID:10001201-1727983800-1727989200@aikido-contracosta.com
SUMMARY:Regular Class
DESCRIPTION:
URL:https://aikido-contracosta.com/events/regular-class-319/2024-10-03/
LOCATION:Wah Dojo
END:VEVENT
BEGIN:VEVENT
DTSTART;TZID=America/Los_Angeles:20241005T120000
DTEND;TZID=America/Los_Angeles:20241005T140000
DTSTAMP:20260424T132709
CREATED:20240602T024635Z
LAST-MODIFIED:20240602T025014Z
UID:10001463-1728129600-1728136800@aikido-contracosta.com
SUMMARY:Regular Class
DESCRIPTION:
URL:https://aikido-contracosta.com/events/regular-class-321/2024-10-05/
LOCATION:Wah Dojo
END:VEVENT
BEGIN:VEVENT
DTSTART;TZID=America/Los_Angeles:20241008T153000
DTEND;TZID=America/Los_Angeles:20241008T164500
DTSTAMP:20260424T132709
CREATED:20240530T194412Z
LAST-MODIFIED:20240722T001331Z
UID:10001507-1728401400-1728405900@aikido-contracosta.com
SUMMARY:Kids Class
DESCRIPTION:
URL:https://aikido-contracosta.com/events/kids-class-86/2024-10-08/
LOCATION:Wah Dojo
END:VEVENT
BEGIN:VEVENT
DTSTART;TZID=America/Los_Angeles:20241008T193000
DTEND;TZID=America/Los_Angeles:20241008T210000
DTSTAMP:20260424T132709
CREATED:20240530T193944Z
LAST-MODIFIED:20240530T194039Z
UID:10001202-1728415800-1728421200@aikido-contracosta.com
SUMMARY:Regular Class
DESCRIPTION:
URL:https://aikido-contracosta.com/events/regular-class-319/2024-10-08/
LOCATION:Wah Dojo
END:VEVENT
BEGIN:VEVENT
DTSTART;TZID=America/Los_Angeles:20241009T190000
DTEND;TZID=America/Los_Angeles:20241009T210000
DTSTAMP:20260424T132709
CREATED:20240530T194227Z
LAST-MODIFIED:20240530T194227Z
UID:10001236-1728500400-1728507600@aikido-contracosta.com
SUMMARY:Regular Class
DESCRIPTION:
URL:https://aikido-contracosta.com/events/regular-class-320/2024-10-09/
LOCATION:St. Marks Church
END:VEVENT
BEGIN:VEVENT
DTSTART;TZID=America/Los_Angeles:20241010T153000
DTEND;TZID=America/Los_Angeles:20241010T164500
DTSTAMP:20260424T132709
CREATED:20240530T194412Z
LAST-MODIFIED:20240722T001331Z
UID:10001508-1728574200-1728578700@aikido-contracosta.com
SUMMARY:Kids Class
DESCRIPTION:
URL:https://aikido-contracosta.com/events/kids-class-86/2024-10-10/
LOCATION:Wah Dojo
END:VEVENT
BEGIN:VEVENT
DTSTART;TZID=America/Los_Angeles:20241010T193000
DTEND;TZID=America/Los_Angeles:20241010T210000
DTSTAMP:20260424T132709
CREATED:20240530T193944Z
LAST-MODIFIED:20240530T194039Z
UID:10001203-1728588600-1728594000@aikido-contracosta.com
SUMMARY:Regular Class
DESCRIPTION:
URL:https://aikido-contracosta.com/events/regular-class-319/2024-10-10/
LOCATION:Wah Dojo
END:VEVENT
BEGIN:VEVENT
DTSTART;TZID=America/Los_Angeles:20241012T083000
DTEND;TZID=America/Los_Angeles:20241012T110000
DTSTAMP:20260424T132709
CREATED:20241010T060015Z
LAST-MODIFIED:20241010T060335Z
UID:10001464-1728721800-1728730800@aikido-contracosta.com
SUMMARY:ASL Weapons Seminar
DESCRIPTION:
URL:https://aikido-contracosta.com/events/regular-class-325/
LOCATION:Aikido San Leandro\, 1033 MacArthur Blvd\,\, San Leandro\, CA\, 94577\, United States
END:VEVENT
BEGIN:VEVENT
DTSTART;TZID=America/Los_Angeles:20241013T083000
DTEND;TZID=America/Los_Angeles:20241013T110000
DTSTAMP:20260424T132709
CREATED:20241010T060103Z
LAST-MODIFIED:20241010T060446Z
UID:10001625-1728808200-1728817200@aikido-contracosta.com
SUMMARY:ASL Weapons Seminar
DESCRIPTION:
URL:https://aikido-contracosta.com/events/asl-weapons-class/
LOCATION:Aikido San Leandro\, 1033 MacArthur Blvd\,\, San Leandro\, CA\, 94577\, United States
END:VEVENT
BEGIN:VEVENT
DTSTART;TZID=America/Los_Angeles:20241015T153000
DTEND;TZID=America/Los_Angeles:20241015T164500
DTSTAMP:20260424T132709
CREATED:20240530T194412Z
LAST-MODIFIED:20240722T001331Z
UID:10001509-1729006200-1729010700@aikido-contracosta.com
SUMMARY:Kids Class
DESCRIPTION:
URL:https://aikido-contracosta.com/events/kids-class-86/2024-10-15/
LOCATION:Wah Dojo
END:VEVENT
BEGIN:VEVENT
DTSTART;TZID=America/Los_Angeles:20241015T193000
DTEND;TZID=America/Los_Angeles:20241015T210000
DTSTAMP:20260424T132709
CREATED:20240530T193944Z
LAST-MODIFIED:20240530T194039Z
UID:10001204-1729020600-1729026000@aikido-contracosta.com
SUMMARY:Regular Class
DESCRIPTION:
URL:https://aikido-contracosta.com/events/regular-class-319/2024-10-15/
LOCATION:Wah Dojo
END:VEVENT
BEGIN:VEVENT
DTSTART;TZID=America/Los_Angeles:20241016T190000
DTEND;TZID=America/Los_Angeles:20241016T210000
DTSTAMP:20260424T132709
CREATED:20240530T194227Z
LAST-MODIFIED:20240530T194227Z
UID:10001237-1729105200-1729112400@aikido-contracosta.com
SUMMARY:Regular Class
DESCRIPTION:
URL:https://aikido-contracosta.com/events/regular-class-320/2024-10-16/
LOCATION:St. Marks Church
END:VEVENT
BEGIN:VEVENT
DTSTART;TZID=America/Los_Angeles:20241017T153000
DTEND;TZID=America/Los_Angeles:20241017T164500
DTSTAMP:20260424T132709
CREATED:20240530T194412Z
LAST-MODIFIED:20240722T001331Z
UID:10001510-1729179000-1729183500@aikido-contracosta.com
SUMMARY:Kids Class
DESCRIPTION:
URL:https://aikido-contracosta.com/events/kids-class-86/2024-10-17/
LOCATION:Wah Dojo
END:VEVENT
BEGIN:VEVENT
DTSTART;TZID=America/Los_Angeles:20241017T193000
DTEND;TZID=America/Los_Angeles:20241017T210000
DTSTAMP:20260424T132709
CREATED:20240530T193944Z
LAST-MODIFIED:20240530T194039Z
UID:10001205-1729193400-1729198800@aikido-contracosta.com
SUMMARY:Regular Class
DESCRIPTION:
URL:https://aikido-contracosta.com/events/regular-class-319/2024-10-17/
LOCATION:Wah Dojo
END:VEVENT
BEGIN:VEVENT
DTSTART;TZID=America/Los_Angeles:20241019T120000
DTEND;TZID=America/Los_Angeles:20241019T140000
DTSTAMP:20260424T132709
CREATED:20241118T045747Z
LAST-MODIFIED:20241118T045747Z
UID:10001465-1729339200-1729346400@aikido-contracosta.com
SUMMARY:Regular Class
DESCRIPTION:
URL:https://aikido-contracosta.com/events/regular-class-321-4/2024-10-19/
LOCATION:Wah Dojo
END:VEVENT
BEGIN:VEVENT
DTSTART;TZID=America/Los_Angeles:20241022T153000
DTEND;TZID=America/Los_Angeles:20241022T164500
DTSTAMP:20260424T132709
CREATED:20240530T194412Z
LAST-MODIFIED:20240722T001331Z
UID:10001511-1729611000-1729615500@aikido-contracosta.com
SUMMARY:Kids Class
DESCRIPTION:
URL:https://aikido-contracosta.com/events/kids-class-86/2024-10-22/
LOCATION:Wah Dojo
END:VEVENT
BEGIN:VEVENT
DTSTART;TZID=America/Los_Angeles:20241022T193000
DTEND;TZID=America/Los_Angeles:20241022T210000
DTSTAMP:20260424T132709
CREATED:20240530T193944Z
LAST-MODIFIED:20240530T194039Z
UID:10001206-1729625400-1729630800@aikido-contracosta.com
SUMMARY:Regular Class
DESCRIPTION:
URL:https://aikido-contracosta.com/events/regular-class-319/2024-10-22/
LOCATION:Wah Dojo
END:VEVENT
BEGIN:VEVENT
DTSTART;TZID=America/Los_Angeles:20241023T190000
DTEND;TZID=America/Los_Angeles:20241023T210000
DTSTAMP:20260424T132709
CREATED:20240530T194227Z
LAST-MODIFIED:20240530T194227Z
UID:10001238-1729710000-1729717200@aikido-contracosta.com
SUMMARY:Regular Class
DESCRIPTION:
URL:https://aikido-contracosta.com/events/regular-class-320/2024-10-23/
LOCATION:St. Marks Church
END:VEVENT
BEGIN:VEVENT
DTSTART;TZID=America/Los_Angeles:20241024T153000
DTEND;TZID=America/Los_Angeles:20241024T164500
DTSTAMP:20260424T132709
CREATED:20240530T194412Z
LAST-MODIFIED:20240722T001331Z
UID:10001512-1729783800-1729788300@aikido-contracosta.com
SUMMARY:Kids Class
DESCRIPTION:
URL:https://aikido-contracosta.com/events/kids-class-86/2024-10-24/
LOCATION:Wah Dojo
END:VEVENT
BEGIN:VEVENT
DTSTART;TZID=America/Los_Angeles:20241024T193000
DTEND;TZID=America/Los_Angeles:20241024T210000
DTSTAMP:20260424T132709
CREATED:20240530T193944Z
LAST-MODIFIED:20240530T194039Z
UID:10001207-1729798200-1729803600@aikido-contracosta.com
SUMMARY:Regular Class
DESCRIPTION:
URL:https://aikido-contracosta.com/events/regular-class-319/2024-10-24/
LOCATION:Wah Dojo
END:VEVENT
BEGIN:VEVENT
DTSTART;TZID=America/Los_Angeles:20241026T120000
DTEND;TZID=America/Los_Angeles:20241026T140000
DTSTAMP:20260424T132709
CREATED:20241118T045747Z
LAST-MODIFIED:20241118T045747Z
UID:10001466-1729944000-1729951200@aikido-contracosta.com
SUMMARY:Regular Class
DESCRIPTION:
URL:https://aikido-contracosta.com/events/regular-class-321-4/2024-10-26/
LOCATION:Wah Dojo
END:VEVENT
BEGIN:VEVENT
DTSTART;TZID=America/Los_Angeles:20241029T153000
DTEND;TZID=America/Los_Angeles:20241029T164500
DTSTAMP:20260424T132709
CREATED:20240530T194412Z
LAST-MODIFIED:20240722T001331Z
UID:10001513-1730215800-1730220300@aikido-contracosta.com
SUMMARY:Kids Class
DESCRIPTION:
URL:https://aikido-contracosta.com/events/kids-class-86/2024-10-29/
LOCATION:Wah Dojo
END:VEVENT
BEGIN:VEVENT
DTSTART;TZID=America/Los_Angeles:20241029T193000
DTEND;TZID=America/Los_Angeles:20241029T210000
DTSTAMP:20260424T132709
CREATED:20240530T193944Z
LAST-MODIFIED:20240530T194039Z
UID:10001208-1730230200-1730235600@aikido-contracosta.com
SUMMARY:Regular Class
DESCRIPTION:
URL:https://aikido-contracosta.com/events/regular-class-319/2024-10-29/
LOCATION:Wah Dojo
END:VEVENT
BEGIN:VEVENT
DTSTART;TZID=America/Los_Angeles:20241030T190000
DTEND;TZID=America/Los_Angeles:20241030T210000
DTSTAMP:20260424T132709
CREATED:20241010T055833Z
LAST-MODIFIED:20241013T133750Z
UID:10001239-1730314800-1730322000@aikido-contracosta.com
SUMMARY:Regular Class
DESCRIPTION:
URL:https://aikido-contracosta.com/events/regular-class-324/
LOCATION:St. Marks Church
END:VEVENT
BEGIN:VEVENT
DTSTART;TZID=America/Los_Angeles:20241031T153000
DTEND;TZID=America/Los_Angeles:20241031T164500
DTSTAMP:20260424T132709
CREATED:20240530T194412Z
LAST-MODIFIED:20240722T001331Z
UID:10001514-1730388600-1730393100@aikido-contracosta.com
SUMMARY:Kids Class
DESCRIPTION:
URL:https://aikido-contracosta.com/events/kids-class-86/2024-10-31/
LOCATION:Wah Dojo
END:VEVENT
BEGIN:VEVENT
DTSTART;TZID=America/Los_Angeles:20241031T193000
DTEND;TZID=America/Los_Angeles:20241031T210000
DTSTAMP:20260424T132709
CREATED:20240530T193944Z
LAST-MODIFIED:20240530T194039Z
UID:10002137-1730403000-1730408400@aikido-contracosta.com
SUMMARY:Regular Class
DESCRIPTION:
URL:https://aikido-contracosta.com/events/regular-class-319/2024-10-31/
LOCATION:Wah Dojo
END:VEVENT
END:VCALENDAR