BEGIN:VCALENDAR
VERSION:2.0
PRODID:-//AikidoContraCosta.com - ECPv6.15.20//NONSGML v1.0//EN
CALSCALE:GREGORIAN
METHOD:PUBLISH
X-WR-CALNAME:AikidoContraCosta.com
X-ORIGINAL-URL:https://aikido-contracosta.com
X-WR-CALDESC:Events for AikidoContraCosta.com
REFRESH-INTERVAL;VALUE=DURATION:PT1H
X-Robots-Tag:noindex
X-PUBLISHED-TTL:PT1H
BEGIN:VTIMEZONE
TZID:America/Los_Angeles
BEGIN:DAYLIGHT
TZOFFSETFROM:-0800
TZOFFSETTO:-0700
TZNAME:PDT
DTSTART:20230312T100000
END:DAYLIGHT
BEGIN:STANDARD
TZOFFSETFROM:-0700
TZOFFSETTO:-0800
TZNAME:PST
DTSTART:20231105T090000
END:STANDARD
BEGIN:DAYLIGHT
TZOFFSETFROM:-0800
TZOFFSETTO:-0700
TZNAME:PDT
DTSTART:20240310T100000
END:DAYLIGHT
BEGIN:STANDARD
TZOFFSETFROM:-0700
TZOFFSETTO:-0800
TZNAME:PST
DTSTART:20241103T090000
END:STANDARD
BEGIN:DAYLIGHT
TZOFFSETFROM:-0800
TZOFFSETTO:-0700
TZNAME:PDT
DTSTART:20250309T100000
END:DAYLIGHT
BEGIN:STANDARD
TZOFFSETFROM:-0700
TZOFFSETTO:-0800
TZNAME:PST
DTSTART:20251102T090000
END:STANDARD
END:VTIMEZONE
BEGIN:VEVENT
DTSTART;TZID=America/Los_Angeles:20240702T153000
DTEND;TZID=America/Los_Angeles:20240702T164500
DTSTAMP:20260424T164050
CREATED:20240530T194412Z
LAST-MODIFIED:20240722T001331Z
UID:10001479-1719934200-1719938700@aikido-contracosta.com
SUMMARY:Kids Class
DESCRIPTION:
URL:https://aikido-contracosta.com/events/kids-class-86/2024-07-02/
LOCATION:Wah Dojo
END:VEVENT
BEGIN:VEVENT
DTSTART;TZID=America/Los_Angeles:20240702T193000
DTEND;TZID=America/Los_Angeles:20240702T210000
DTSTAMP:20260424T164050
CREATED:20240530T193944Z
LAST-MODIFIED:20240530T194039Z
UID:10001174-1719948600-1719954000@aikido-contracosta.com
SUMMARY:Regular Class
DESCRIPTION:
URL:https://aikido-contracosta.com/events/regular-class-319/2024-07-02/
LOCATION:Wah Dojo
END:VEVENT
BEGIN:VEVENT
DTSTART;TZID=America/Los_Angeles:20240703T190000
DTEND;TZID=America/Los_Angeles:20240703T210000
DTSTAMP:20260424T164050
CREATED:20240530T194227Z
LAST-MODIFIED:20240530T194227Z
UID:10001222-1720033200-1720040400@aikido-contracosta.com
SUMMARY:Regular Class
DESCRIPTION:
URL:https://aikido-contracosta.com/events/regular-class-320/2024-07-03/
LOCATION:St. Marks Church
END:VEVENT
BEGIN:VEVENT
DTSTART;VALUE=DATE:20240704
DTEND;VALUE=DATE:20240705
DTSTAMP:20260424T164050
CREATED:20240628T180805Z
LAST-MODIFIED:20240628T180805Z
UID:10001472-1720051200-1720137599@aikido-contracosta.com
SUMMARY:Closed for 4th of July
DESCRIPTION:
URL:https://aikido-contracosta.com/events/closed-for-4th-of-july/
END:VEVENT
BEGIN:VEVENT
DTSTART;TZID=America/Los_Angeles:20240704T153000
DTEND;TZID=America/Los_Angeles:20240704T164500
DTSTAMP:20260424T164050
CREATED:20240530T194412Z
LAST-MODIFIED:20240722T001331Z
UID:10001480-1720107000-1720111500@aikido-contracosta.com
SUMMARY:Kids Class
DESCRIPTION:
URL:https://aikido-contracosta.com/events/kids-class-86/2024-07-04/
LOCATION:Wah Dojo
END:VEVENT
BEGIN:VEVENT
DTSTART;TZID=America/Los_Angeles:20240704T193000
DTEND;TZID=America/Los_Angeles:20240704T210000
DTSTAMP:20260424T164050
CREATED:20240530T193944Z
LAST-MODIFIED:20240530T194039Z
UID:10001175-1720121400-1720126800@aikido-contracosta.com
SUMMARY:Regular Class
DESCRIPTION:
URL:https://aikido-contracosta.com/events/regular-class-319/2024-07-04/
LOCATION:Wah Dojo
END:VEVENT
BEGIN:VEVENT
DTSTART;TZID=America/Los_Angeles:20240706T120000
DTEND;TZID=America/Los_Angeles:20240706T140000
DTSTAMP:20260424T164050
CREATED:20240602T024635Z
LAST-MODIFIED:20240602T025014Z
UID:10001450-1720267200-1720274400@aikido-contracosta.com
SUMMARY:Regular Class
DESCRIPTION:
URL:https://aikido-contracosta.com/events/regular-class-321/2024-07-06/
LOCATION:Wah Dojo
END:VEVENT
BEGIN:VEVENT
DTSTART;TZID=America/Los_Angeles:20240709T153000
DTEND;TZID=America/Los_Angeles:20240709T164500
DTSTAMP:20260424T164050
CREATED:20240530T194412Z
LAST-MODIFIED:20240722T001331Z
UID:10001481-1720539000-1720543500@aikido-contracosta.com
SUMMARY:Kids Class
DESCRIPTION:
URL:https://aikido-contracosta.com/events/kids-class-86/2024-07-09/
LOCATION:Wah Dojo
END:VEVENT
BEGIN:VEVENT
DTSTART;TZID=America/Los_Angeles:20240709T193000
DTEND;TZID=America/Los_Angeles:20240709T210000
DTSTAMP:20260424T164050
CREATED:20240530T193944Z
LAST-MODIFIED:20240530T194039Z
UID:10001176-1720553400-1720558800@aikido-contracosta.com
SUMMARY:Regular Class
DESCRIPTION:
URL:https://aikido-contracosta.com/events/regular-class-319/2024-07-09/
LOCATION:Wah Dojo
END:VEVENT
BEGIN:VEVENT
DTSTART;TZID=America/Los_Angeles:20240710T190000
DTEND;TZID=America/Los_Angeles:20240710T210000
DTSTAMP:20260424T164050
CREATED:20240530T194227Z
LAST-MODIFIED:20240530T194227Z
UID:10001223-1720638000-1720645200@aikido-contracosta.com
SUMMARY:Regular Class
DESCRIPTION:
URL:https://aikido-contracosta.com/events/regular-class-320/2024-07-10/
LOCATION:St. Marks Church
END:VEVENT
BEGIN:VEVENT
DTSTART;TZID=America/Los_Angeles:20240711T153000
DTEND;TZID=America/Los_Angeles:20240711T164500
DTSTAMP:20260424T164050
CREATED:20240530T194412Z
LAST-MODIFIED:20240722T001331Z
UID:10001482-1720711800-1720716300@aikido-contracosta.com
SUMMARY:Kids Class
DESCRIPTION:
URL:https://aikido-contracosta.com/events/kids-class-86/2024-07-11/
LOCATION:Wah Dojo
END:VEVENT
BEGIN:VEVENT
DTSTART;TZID=America/Los_Angeles:20240711T193000
DTEND;TZID=America/Los_Angeles:20240711T210000
DTSTAMP:20260424T164050
CREATED:20240530T193944Z
LAST-MODIFIED:20240530T194039Z
UID:10001177-1720726200-1720731600@aikido-contracosta.com
SUMMARY:Regular Class
DESCRIPTION:
URL:https://aikido-contracosta.com/events/regular-class-319/2024-07-11/
LOCATION:Wah Dojo
END:VEVENT
BEGIN:VEVENT
DTSTART;TZID=America/Los_Angeles:20240713T083000
DTEND;TZID=America/Los_Angeles:20240713T113000
DTSTAMP:20260424T164050
CREATED:20240127T023304Z
LAST-MODIFIED:20240127T023304Z
UID:10000928-1720859400-1720870200@aikido-contracosta.com
SUMMARY:ASL Weapons Seminar
DESCRIPTION:
URL:https://aikido-contracosta.com/events/asl-weapons-seminar-24/
LOCATION:Aikido San Leandro\, 1033 MacArthur Blvd\,\, San Leandro\, CA\, 94577\, United States
END:VEVENT
BEGIN:VEVENT
DTSTART;TZID=America/Los_Angeles:20240714T083000
DTEND;TZID=America/Los_Angeles:20240714T113000
DTSTAMP:20260424T164050
CREATED:20240127T023331Z
LAST-MODIFIED:20240127T023331Z
UID:10000930-1720945800-1720956600@aikido-contracosta.com
SUMMARY:ASL Weapons Seminar
DESCRIPTION:
URL:https://aikido-contracosta.com/events/asl-weapons-seminar-25/
LOCATION:Aikido San Leandro\, 1033 MacArthur Blvd\,\, San Leandro\, CA\, 94577\, United States
END:VEVENT
BEGIN:VEVENT
DTSTART;TZID=America/Los_Angeles:20240716T153000
DTEND;TZID=America/Los_Angeles:20240716T164500
DTSTAMP:20260424T164050
CREATED:20240530T194412Z
LAST-MODIFIED:20240722T001331Z
UID:10001483-1721143800-1721148300@aikido-contracosta.com
SUMMARY:Kids Class
DESCRIPTION:
URL:https://aikido-contracosta.com/events/kids-class-86/2024-07-16/
LOCATION:Wah Dojo
END:VEVENT
BEGIN:VEVENT
DTSTART;TZID=America/Los_Angeles:20240716T193000
DTEND;TZID=America/Los_Angeles:20240716T210000
DTSTAMP:20260424T164050
CREATED:20240530T193944Z
LAST-MODIFIED:20240530T194039Z
UID:10001178-1721158200-1721163600@aikido-contracosta.com
SUMMARY:Regular Class
DESCRIPTION:
URL:https://aikido-contracosta.com/events/regular-class-319/2024-07-16/
LOCATION:Wah Dojo
END:VEVENT
BEGIN:VEVENT
DTSTART;TZID=America/Los_Angeles:20240717T190000
DTEND;TZID=America/Los_Angeles:20240717T210000
DTSTAMP:20260424T164050
CREATED:20240530T194227Z
LAST-MODIFIED:20240530T194227Z
UID:10001224-1721242800-1721250000@aikido-contracosta.com
SUMMARY:Regular Class
DESCRIPTION:
URL:https://aikido-contracosta.com/events/regular-class-320/2024-07-17/
LOCATION:St. Marks Church
END:VEVENT
BEGIN:VEVENT
DTSTART;TZID=America/Los_Angeles:20240718T153000
DTEND;TZID=America/Los_Angeles:20240718T164500
DTSTAMP:20260424T164050
CREATED:20240530T194412Z
LAST-MODIFIED:20240722T001331Z
UID:10001484-1721316600-1721321100@aikido-contracosta.com
SUMMARY:Kids Class
DESCRIPTION:
URL:https://aikido-contracosta.com/events/kids-class-86/2024-07-18/
LOCATION:Wah Dojo
END:VEVENT
BEGIN:VEVENT
DTSTART;TZID=America/Los_Angeles:20240718T193000
DTEND;TZID=America/Los_Angeles:20240718T210000
DTSTAMP:20260424T164050
CREATED:20240530T193944Z
LAST-MODIFIED:20240530T194039Z
UID:10001179-1721331000-1721336400@aikido-contracosta.com
SUMMARY:Regular Class
DESCRIPTION:
URL:https://aikido-contracosta.com/events/regular-class-319/2024-07-18/
LOCATION:Wah Dojo
END:VEVENT
BEGIN:VEVENT
DTSTART;TZID=America/Los_Angeles:20240720T120000
DTEND;TZID=America/Los_Angeles:20240720T140000
DTSTAMP:20260424T164050
CREATED:20240602T024635Z
LAST-MODIFIED:20240602T025014Z
UID:10001452-1721476800-1721484000@aikido-contracosta.com
SUMMARY:Regular Class
DESCRIPTION:
URL:https://aikido-contracosta.com/events/regular-class-321/2024-07-20/
LOCATION:Wah Dojo
END:VEVENT
BEGIN:VEVENT
DTSTART;TZID=America/Los_Angeles:20240723T153000
DTEND;TZID=America/Los_Angeles:20240723T164500
DTSTAMP:20260424T164050
CREATED:20240530T194412Z
LAST-MODIFIED:20240722T001331Z
UID:10001485-1721748600-1721753100@aikido-contracosta.com
SUMMARY:Kids Class
DESCRIPTION:
URL:https://aikido-contracosta.com/events/kids-class-86/2024-07-23/
LOCATION:Wah Dojo
END:VEVENT
BEGIN:VEVENT
DTSTART;TZID=America/Los_Angeles:20240723T193000
DTEND;TZID=America/Los_Angeles:20240723T210000
DTSTAMP:20260424T164050
CREATED:20240530T193944Z
LAST-MODIFIED:20240530T194039Z
UID:10001180-1721763000-1721768400@aikido-contracosta.com
SUMMARY:Regular Class
DESCRIPTION:
URL:https://aikido-contracosta.com/events/regular-class-319/2024-07-23/
LOCATION:Wah Dojo
END:VEVENT
BEGIN:VEVENT
DTSTART;TZID=America/Los_Angeles:20240724T190000
DTEND;TZID=America/Los_Angeles:20240724T210000
DTSTAMP:20260424T164050
CREATED:20240722T001752Z
LAST-MODIFIED:20240722T001811Z
UID:10001225-1721847600-1721854800@aikido-contracosta.com
SUMMARY:Class Cancelled
DESCRIPTION:
URL:https://aikido-contracosta.com/events/regular-class-322/
LOCATION:St. Marks Church
END:VEVENT
BEGIN:VEVENT
DTSTART;TZID=America/Los_Angeles:20240725T153000
DTEND;TZID=America/Los_Angeles:20240725T164500
DTSTAMP:20260424T164050
CREATED:20240530T194412Z
LAST-MODIFIED:20240722T001331Z
UID:10001486-1721921400-1721925900@aikido-contracosta.com
SUMMARY:Kids Class
DESCRIPTION:
URL:https://aikido-contracosta.com/events/kids-class-86/2024-07-25/
LOCATION:Wah Dojo
END:VEVENT
BEGIN:VEVENT
DTSTART;TZID=America/Los_Angeles:20240725T193000
DTEND;TZID=America/Los_Angeles:20240725T210000
DTSTAMP:20260424T164050
CREATED:20240530T193944Z
LAST-MODIFIED:20240530T194039Z
UID:10001181-1721935800-1721941200@aikido-contracosta.com
SUMMARY:Regular Class
DESCRIPTION:
URL:https://aikido-contracosta.com/events/regular-class-319/2024-07-25/
LOCATION:Wah Dojo
END:VEVENT
BEGIN:VEVENT
DTSTART;TZID=America/Los_Angeles:20240727T120000
DTEND;TZID=America/Los_Angeles:20240727T140000
DTSTAMP:20260424T164050
CREATED:20240602T024635Z
LAST-MODIFIED:20240602T025014Z
UID:10001453-1722081600-1722088800@aikido-contracosta.com
SUMMARY:Regular Class
DESCRIPTION:
URL:https://aikido-contracosta.com/events/regular-class-321/2024-07-27/
LOCATION:Wah Dojo
END:VEVENT
BEGIN:VEVENT
DTSTART;TZID=America/Los_Angeles:20240730T153000
DTEND;TZID=America/Los_Angeles:20240730T164500
DTSTAMP:20260424T164050
CREATED:20240530T194412Z
LAST-MODIFIED:20240722T001331Z
UID:10001487-1722353400-1722357900@aikido-contracosta.com
SUMMARY:Kids Class
DESCRIPTION:
URL:https://aikido-contracosta.com/events/kids-class-86/2024-07-30/
LOCATION:Wah Dojo
END:VEVENT
BEGIN:VEVENT
DTSTART;TZID=America/Los_Angeles:20240730T193000
DTEND;TZID=America/Los_Angeles:20240730T210000
DTSTAMP:20260424T164050
CREATED:20240530T193944Z
LAST-MODIFIED:20240530T194039Z
UID:10001182-1722367800-1722373200@aikido-contracosta.com
SUMMARY:Regular Class
DESCRIPTION:
URL:https://aikido-contracosta.com/events/regular-class-319/2024-07-30/
LOCATION:Wah Dojo
END:VEVENT
BEGIN:VEVENT
DTSTART;TZID=America/Los_Angeles:20240731T190000
DTEND;TZID=America/Los_Angeles:20240731T210000
DTSTAMP:20260424T164050
CREATED:20240530T194227Z
LAST-MODIFIED:20240530T194227Z
UID:10001226-1722452400-1722459600@aikido-contracosta.com
SUMMARY:Regular Class
DESCRIPTION:
URL:https://aikido-contracosta.com/events/regular-class-320/2024-07-31/
LOCATION:St. Marks Church
END:VEVENT
END:VCALENDAR