BEGIN:VCALENDAR
VERSION:2.0
PRODID:-//AikidoContraCosta.com - ECPv6.15.20//NONSGML v1.0//EN
CALSCALE:GREGORIAN
METHOD:PUBLISH
X-WR-CALNAME:AikidoContraCosta.com
X-ORIGINAL-URL:https://aikido-contracosta.com
X-WR-CALDESC:Events for AikidoContraCosta.com
REFRESH-INTERVAL;VALUE=DURATION:PT1H
X-Robots-Tag:noindex
X-PUBLISHED-TTL:PT1H
BEGIN:VTIMEZONE
TZID:America/Los_Angeles
BEGIN:DAYLIGHT
TZOFFSETFROM:-0800
TZOFFSETTO:-0700
TZNAME:PDT
DTSTART:20230312T100000
END:DAYLIGHT
BEGIN:STANDARD
TZOFFSETFROM:-0700
TZOFFSETTO:-0800
TZNAME:PST
DTSTART:20231105T090000
END:STANDARD
BEGIN:DAYLIGHT
TZOFFSETFROM:-0800
TZOFFSETTO:-0700
TZNAME:PDT
DTSTART:20240310T100000
END:DAYLIGHT
BEGIN:STANDARD
TZOFFSETFROM:-0700
TZOFFSETTO:-0800
TZNAME:PST
DTSTART:20241103T090000
END:STANDARD
BEGIN:DAYLIGHT
TZOFFSETFROM:-0800
TZOFFSETTO:-0700
TZNAME:PDT
DTSTART:20250309T100000
END:DAYLIGHT
BEGIN:STANDARD
TZOFFSETFROM:-0700
TZOFFSETTO:-0800
TZNAME:PST
DTSTART:20251102T090000
END:STANDARD
END:VTIMEZONE
BEGIN:VEVENT
DTSTART;TZID=America/Los_Angeles:20240501T190000
DTEND;TZID=America/Los_Angeles:20240501T210000
DTSTAMP:20260424T200622
CREATED:20240428T215625Z
LAST-MODIFIED:20240428T215625Z
UID:10001159-1714590000-1714597200@aikido-contracosta.com
SUMMARY:Regular Class
DESCRIPTION:
URL:https://aikido-contracosta.com/events/regular-class-312/
LOCATION:St. Marks Church
END:VEVENT
BEGIN:VEVENT
DTSTART;TZID=America/Los_Angeles:20240502T153000
DTEND;TZID=America/Los_Angeles:20240502T162500
DTSTAMP:20260424T200622
CREATED:20240330T174422Z
LAST-MODIFIED:20240330T174422Z
UID:10001142-1714663800-1714667100@aikido-contracosta.com
SUMMARY:Kids Class
DESCRIPTION:
URL:https://aikido-contracosta.com/events/kids-class-79/
LOCATION:Wah Dojo
END:VEVENT
BEGIN:VEVENT
DTSTART;TZID=America/Los_Angeles:20240502T193000
DTEND;TZID=America/Los_Angeles:20240502T210000
DTSTAMP:20260424T200622
CREATED:20240330T173440Z
LAST-MODIFIED:20240330T173440Z
UID:10001132-1714678200-1714683600@aikido-contracosta.com
SUMMARY:Regular Class
DESCRIPTION:
URL:https://aikido-contracosta.com/events/regular-class-303/
LOCATION:Wah Dojo
END:VEVENT
BEGIN:VEVENT
DTSTART;TZID=America/Los_Angeles:20240504T120000
DTEND;TZID=America/Los_Angeles:20240504T140000
DTSTAMP:20260424T200622
CREATED:20240428T220403Z
LAST-MODIFIED:20240428T220403Z
UID:10001164-1714824000-1714831200@aikido-contracosta.com
SUMMARY:Regular Class
DESCRIPTION:
URL:https://aikido-contracosta.com/events/regular-class-317/
LOCATION:Wah Dojo
END:VEVENT
BEGIN:VEVENT
DTSTART;TZID=America/Los_Angeles:20240507T153000
DTEND;TZID=America/Los_Angeles:20240507T162500
DTSTAMP:20260424T200622
CREATED:20240428T215220Z
LAST-MODIFIED:20240428T215220Z
UID:10001155-1715095800-1715099100@aikido-contracosta.com
SUMMARY:Kids Class on Pause for Now
DESCRIPTION:
URL:https://aikido-contracosta.com/events/kids-class-on-pause-for-now-5/
LOCATION:Wah Dojo
END:VEVENT
BEGIN:VEVENT
DTSTART;TZID=America/Los_Angeles:20240507T193000
DTEND;TZID=America/Los_Angeles:20240507T210000
DTSTAMP:20260424T200622
CREATED:20240428T214206Z
LAST-MODIFIED:20240428T214206Z
UID:10001143-1715110200-1715115600@aikido-contracosta.com
SUMMARY:Regular Class
DESCRIPTION:
URL:https://aikido-contracosta.com/events/regular-class-304/
LOCATION:Wah Dojo
END:VEVENT
BEGIN:VEVENT
DTSTART;TZID=America/Los_Angeles:20240508T190000
DTEND;TZID=America/Los_Angeles:20240508T210000
DTSTAMP:20260424T200622
CREATED:20240428T215710Z
LAST-MODIFIED:20240428T215710Z
UID:10001160-1715194800-1715202000@aikido-contracosta.com
SUMMARY:Regular Class
DESCRIPTION:
URL:https://aikido-contracosta.com/events/regular-class-313/
LOCATION:St. Marks Church
END:VEVENT
BEGIN:VEVENT
DTSTART;TZID=America/Los_Angeles:20240509T153000
DTEND;TZID=America/Los_Angeles:20240509T162500
DTSTAMP:20260424T200622
CREATED:20240428T214256Z
LAST-MODIFIED:20240428T214256Z
UID:10001144-1715268600-1715271900@aikido-contracosta.com
SUMMARY:Kids Class
DESCRIPTION:
URL:https://aikido-contracosta.com/events/kids-class-80/
LOCATION:Wah Dojo
END:VEVENT
BEGIN:VEVENT
DTSTART;TZID=America/Los_Angeles:20240509T193000
DTEND;TZID=America/Los_Angeles:20240509T210000
DTSTAMP:20260424T200622
CREATED:20240428T214332Z
LAST-MODIFIED:20240428T214332Z
UID:10001145-1715283000-1715288400@aikido-contracosta.com
SUMMARY:Regular Class
DESCRIPTION:
URL:https://aikido-contracosta.com/events/regular-class-305/
LOCATION:Wah Dojo
END:VEVENT
BEGIN:VEVENT
DTSTART;TZID=America/Los_Angeles:20240511T120000
DTEND;TZID=America/Los_Angeles:20240511T140000
DTSTAMP:20260424T200622
CREATED:20240428T220756Z
LAST-MODIFIED:20240428T220847Z
UID:10001010-1715428800-1715436000@aikido-contracosta.com
SUMMARY:Regular Class
DESCRIPTION:
URL:https://aikido-contracosta.com/events/memorial-day-weekend-double-check-before-coming/
LOCATION:Wah Dojo
END:VEVENT
BEGIN:VEVENT
DTSTART;TZID=America/Los_Angeles:20240514T153000
DTEND;TZID=America/Los_Angeles:20240514T162500
DTSTAMP:20260424T200622
CREATED:20240428T215301Z
LAST-MODIFIED:20240428T215301Z
UID:10001156-1715700600-1715703900@aikido-contracosta.com
SUMMARY:Kids Class on Pause for Now
DESCRIPTION:
URL:https://aikido-contracosta.com/events/kids-class-on-pause-for-now-6/
LOCATION:Wah Dojo
END:VEVENT
BEGIN:VEVENT
DTSTART;TZID=America/Los_Angeles:20240514T193000
DTEND;TZID=America/Los_Angeles:20240514T210000
DTSTAMP:20260424T200622
CREATED:20240428T214455Z
LAST-MODIFIED:20240428T214455Z
UID:10001147-1715715000-1715720400@aikido-contracosta.com
SUMMARY:Regular Class
DESCRIPTION:
URL:https://aikido-contracosta.com/events/regular-class-306/
LOCATION:Wah Dojo
END:VEVENT
BEGIN:VEVENT
DTSTART;TZID=America/Los_Angeles:20240515T190000
DTEND;TZID=America/Los_Angeles:20240515T210000
DTSTAMP:20260424T200622
CREATED:20240428T215826Z
LAST-MODIFIED:20240428T215826Z
UID:10001161-1715799600-1715806800@aikido-contracosta.com
SUMMARY:Regular Class
DESCRIPTION:
URL:https://aikido-contracosta.com/events/regular-class-314/
LOCATION:St. Marks Church
END:VEVENT
BEGIN:VEVENT
DTSTART;TZID=America/Los_Angeles:20240516T153000
DTEND;TZID=America/Los_Angeles:20240516T162500
DTSTAMP:20260424T200622
CREATED:20240428T214410Z
LAST-MODIFIED:20240428T214410Z
UID:10001146-1715873400-1715876700@aikido-contracosta.com
SUMMARY:Kids Class
DESCRIPTION:
URL:https://aikido-contracosta.com/events/kids-class-81/
LOCATION:Wah Dojo
END:VEVENT
BEGIN:VEVENT
DTSTART;TZID=America/Los_Angeles:20240516T193000
DTEND;TZID=America/Los_Angeles:20240516T210000
DTSTAMP:20260424T200622
CREATED:20240428T214635Z
LAST-MODIFIED:20240428T214635Z
UID:10001149-1715887800-1715893200@aikido-contracosta.com
SUMMARY:Regular Class
DESCRIPTION:
URL:https://aikido-contracosta.com/events/regular-class-307/
LOCATION:Wah Dojo
END:VEVENT
BEGIN:VEVENT
DTSTART;TZID=America/Los_Angeles:20240518T083000
DTEND;TZID=America/Los_Angeles:20240518T113000
DTSTAMP:20260424T200622
CREATED:20240127T022947Z
LAST-MODIFIED:20240127T022947Z
UID:10001079-1716021000-1716031800@aikido-contracosta.com
SUMMARY:ASL Weapons Seminar
DESCRIPTION:
URL:https://aikido-contracosta.com/events/asl-weapons-seminar-20/
LOCATION:Aikido San Leandro\, 1033 MacArthur Blvd\,\, San Leandro\, CA\, 94577\, United States
END:VEVENT
BEGIN:VEVENT
DTSTART;TZID=America/Los_Angeles:20240519T083000
DTEND;TZID=America/Los_Angeles:20240519T113000
DTSTAMP:20260424T200622
CREATED:20240127T023008Z
LAST-MODIFIED:20240127T023008Z
UID:10001080-1716107400-1716118200@aikido-contracosta.com
SUMMARY:ASL Weapons Seminar
DESCRIPTION:
URL:https://aikido-contracosta.com/events/asl-weapons-seminar-21/
LOCATION:Aikido San Leandro\, 1033 MacArthur Blvd\,\, San Leandro\, CA\, 94577\, United States
END:VEVENT
BEGIN:VEVENT
DTSTART;TZID=America/Los_Angeles:20240521T153000
DTEND;TZID=America/Los_Angeles:20240521T162500
DTSTAMP:20260424T200622
CREATED:20240428T215352Z
LAST-MODIFIED:20240428T215352Z
UID:10001157-1716305400-1716308700@aikido-contracosta.com
SUMMARY:Kids Class on Pause for Now
DESCRIPTION:
URL:https://aikido-contracosta.com/events/kids-class-on-pause-for-now-7/
LOCATION:Wah Dojo
END:VEVENT
BEGIN:VEVENT
DTSTART;TZID=America/Los_Angeles:20240521T193000
DTEND;TZID=America/Los_Angeles:20240521T210000
DTSTAMP:20260424T200622
CREATED:20240428T214826Z
LAST-MODIFIED:20240428T214826Z
UID:10001150-1716319800-1716325200@aikido-contracosta.com
SUMMARY:Regular Class
DESCRIPTION:
URL:https://aikido-contracosta.com/events/regular-class-308/
LOCATION:Wah Dojo
END:VEVENT
BEGIN:VEVENT
DTSTART;TZID=America/Los_Angeles:20240522T190000
DTEND;TZID=America/Los_Angeles:20240522T210000
DTSTAMP:20260424T200622
CREATED:20240428T215934Z
LAST-MODIFIED:20240428T215934Z
UID:10001162-1716404400-1716411600@aikido-contracosta.com
SUMMARY:Regular Class
DESCRIPTION:
URL:https://aikido-contracosta.com/events/regular-class-315/
LOCATION:St. Marks Church
END:VEVENT
BEGIN:VEVENT
DTSTART;TZID=America/Los_Angeles:20240523T153000
DTEND;TZID=America/Los_Angeles:20240523T162500
DTSTAMP:20260424T200622
CREATED:20240428T214557Z
LAST-MODIFIED:20240428T214557Z
UID:10001148-1716478200-1716481500@aikido-contracosta.com
SUMMARY:Kids Class
DESCRIPTION:
URL:https://aikido-contracosta.com/events/kids-class-82/
LOCATION:Wah Dojo
END:VEVENT
BEGIN:VEVENT
DTSTART;TZID=America/Los_Angeles:20240523T193000
DTEND;TZID=America/Los_Angeles:20240523T210000
DTSTAMP:20260424T200622
CREATED:20240428T214856Z
LAST-MODIFIED:20240428T214856Z
UID:10001151-1716492600-1716498000@aikido-contracosta.com
SUMMARY:Regular Class
DESCRIPTION:
URL:https://aikido-contracosta.com/events/regular-class-309/
LOCATION:Wah Dojo
END:VEVENT
BEGIN:VEVENT
DTSTART;TZID=America/Los_Angeles:20240525T120000
DTEND;TZID=America/Los_Angeles:20240525T140000
DTSTAMP:20260424T200622
CREATED:20240428T220927Z
LAST-MODIFIED:20240428T220927Z
UID:10001012-1716638400-1716645600@aikido-contracosta.com
SUMMARY:Memorial Day Weekend/Double Check Before Coming
DESCRIPTION:
URL:https://aikido-contracosta.com/events/memorial-day-weekend-double-check-before-coming-2/
LOCATION:Wah Dojo
END:VEVENT
BEGIN:VEVENT
DTSTART;TZID=America/Los_Angeles:20240528T153000
DTEND;TZID=America/Los_Angeles:20240528T162500
DTSTAMP:20260424T200622
CREATED:20240428T215418Z
LAST-MODIFIED:20240428T215418Z
UID:10001158-1716910200-1716913500@aikido-contracosta.com
SUMMARY:Kids Class on Pause for Now
DESCRIPTION:
URL:https://aikido-contracosta.com/events/kids-class-on-pause-for-now-8/
LOCATION:Wah Dojo
END:VEVENT
BEGIN:VEVENT
DTSTART;TZID=America/Los_Angeles:20240528T193000
DTEND;TZID=America/Los_Angeles:20240528T210000
DTSTAMP:20260424T200622
CREATED:20240428T214938Z
LAST-MODIFIED:20240428T214938Z
UID:10001152-1716924600-1716930000@aikido-contracosta.com
SUMMARY:Regular Class
DESCRIPTION:
URL:https://aikido-contracosta.com/events/regular-class-310/
LOCATION:Wah Dojo
END:VEVENT
BEGIN:VEVENT
DTSTART;TZID=America/Los_Angeles:20240529T190000
DTEND;TZID=America/Los_Angeles:20240529T210000
DTSTAMP:20260424T200622
CREATED:20240428T220000Z
LAST-MODIFIED:20240428T220000Z
UID:10001163-1717009200-1717016400@aikido-contracosta.com
SUMMARY:Regular Class
DESCRIPTION:
URL:https://aikido-contracosta.com/events/regular-class-316/
LOCATION:St. Marks Church
END:VEVENT
BEGIN:VEVENT
DTSTART;TZID=America/Los_Angeles:20240530T153000
DTEND;TZID=America/Los_Angeles:20240530T162500
DTSTAMP:20260424T200622
CREATED:20240428T215051Z
LAST-MODIFIED:20240428T215051Z
UID:10001154-1717083000-1717086300@aikido-contracosta.com
SUMMARY:Kids Class
DESCRIPTION:
URL:https://aikido-contracosta.com/events/kids-class-83/
LOCATION:Wah Dojo
END:VEVENT
BEGIN:VEVENT
DTSTART;TZID=America/Los_Angeles:20240530T193000
DTEND;TZID=America/Los_Angeles:20240530T210000
DTSTAMP:20260424T200622
CREATED:20240428T215017Z
LAST-MODIFIED:20240428T215017Z
UID:10001153-1717097400-1717102800@aikido-contracosta.com
SUMMARY:Regular Class
DESCRIPTION:
URL:https://aikido-contracosta.com/events/regular-class-311/
LOCATION:Wah Dojo
END:VEVENT
END:VCALENDAR