BEGIN:VCALENDAR
VERSION:2.0
PRODID:-//AikidoContraCosta.com - ECPv6.15.20//NONSGML v1.0//EN
CALSCALE:GREGORIAN
METHOD:PUBLISH
X-ORIGINAL-URL:https://aikido-contracosta.com
X-WR-CALDESC:Events for AikidoContraCosta.com
REFRESH-INTERVAL;VALUE=DURATION:PT1H
X-Robots-Tag:noindex
X-PUBLISHED-TTL:PT1H
BEGIN:VTIMEZONE
TZID:America/Los_Angeles
BEGIN:DAYLIGHT
TZOFFSETFROM:-0800
TZOFFSETTO:-0700
TZNAME:PDT
DTSTART:20220313T100000
END:DAYLIGHT
BEGIN:STANDARD
TZOFFSETFROM:-0700
TZOFFSETTO:-0800
TZNAME:PST
DTSTART:20221106T090000
END:STANDARD
BEGIN:DAYLIGHT
TZOFFSETFROM:-0800
TZOFFSETTO:-0700
TZNAME:PDT
DTSTART:20230312T100000
END:DAYLIGHT
BEGIN:STANDARD
TZOFFSETFROM:-0700
TZOFFSETTO:-0800
TZNAME:PST
DTSTART:20231105T090000
END:STANDARD
BEGIN:DAYLIGHT
TZOFFSETFROM:-0800
TZOFFSETTO:-0700
TZNAME:PDT
DTSTART:20240310T100000
END:DAYLIGHT
BEGIN:STANDARD
TZOFFSETFROM:-0700
TZOFFSETTO:-0800
TZNAME:PST
DTSTART:20241103T090000
END:STANDARD
END:VTIMEZONE
BEGIN:VEVENT
DTSTART;TZID=America/Los_Angeles:20231101T190000
DTEND;TZID=America/Los_Angeles:20231101T210000
DTSTAMP:20260425T060028
CREATED:20231107T021327Z
LAST-MODIFIED:20231107T021327Z
UID:10001036-1698865200-1698872400@aikido-contracosta.com
SUMMARY:Regular Class
DESCRIPTION:
URL:https://aikido-contracosta.com/events/regular-class-235/
LOCATION:St. Marks Church
END:VEVENT
BEGIN:VEVENT
DTSTART;TZID=America/Los_Angeles:20231102T153000
DTEND;TZID=America/Los_Angeles:20231102T162500
DTSTAMP:20260425T060028
CREATED:20231107T020448Z
LAST-MODIFIED:20231107T020448Z
UID:10001031-1698939000-1698942300@aikido-contracosta.com
SUMMARY:Kids Class
DESCRIPTION:
URL:https://aikido-contracosta.com/events/kids-class-47/
LOCATION:Wah Dojo
END:VEVENT
BEGIN:VEVENT
DTSTART;TZID=America/Los_Angeles:20231102T193000
DTEND;TZID=America/Los_Angeles:20231102T210000
DTSTAMP:20260425T060028
CREATED:20231107T011925Z
LAST-MODIFIED:20231107T011925Z
UID:10000864-1698953400-1698958800@aikido-contracosta.com
SUMMARY:Regular Class
DESCRIPTION:
URL:https://aikido-contracosta.com/events/regular-class-222/
LOCATION:Wah Dojo
END:VEVENT
BEGIN:VEVENT
DTSTART;TZID=America/Los_Angeles:20231104T120000
DTEND;TZID=America/Los_Angeles:20231104T140000
DTSTAMP:20260425T060028
CREATED:20231107T022718Z
LAST-MODIFIED:20231107T022718Z
UID:10001042-1699099200-1699106400@aikido-contracosta.com
SUMMARY:Saturday Weapons Outside by Wah Dojo
DESCRIPTION:
URL:https://aikido-contracosta.com/events/saturday-weapons-outside-by-wah-dojo-18/
LOCATION:Wah Dojo
END:VEVENT
BEGIN:VEVENT
DTSTART;TZID=America/Los_Angeles:20231107T153000
DTEND;TZID=America/Los_Angeles:20231107T162500
DTSTAMP:20260425T060028
CREATED:20231107T014320Z
LAST-MODIFIED:20231107T014320Z
UID:10001025-1699371000-1699374300@aikido-contracosta.com
SUMMARY:Kids Class
DESCRIPTION:
URL:https://aikido-contracosta.com/events/kids-class-41/
LOCATION:Wah Dojo
END:VEVENT
BEGIN:VEVENT
DTSTART;TZID=America/Los_Angeles:20231107T193000
DTEND;TZID=America/Los_Angeles:20231107T210000
DTSTAMP:20260425T060028
CREATED:20231107T012011Z
LAST-MODIFIED:20231107T012011Z
UID:10000866-1699385400-1699390800@aikido-contracosta.com
SUMMARY:Regular Class
DESCRIPTION:
URL:https://aikido-contracosta.com/events/regular-class-223/
LOCATION:Wah Dojo
END:VEVENT
BEGIN:VEVENT
DTSTART;TZID=America/Los_Angeles:20231108T190000
DTEND;TZID=America/Los_Angeles:20231108T210000
DTSTAMP:20260425T060028
CREATED:20231107T021854Z
LAST-MODIFIED:20231107T021854Z
UID:10001037-1699470000-1699477200@aikido-contracosta.com
SUMMARY:Regular Class
DESCRIPTION:
URL:https://aikido-contracosta.com/events/regular-class-236/
LOCATION:St. Marks Church
END:VEVENT
BEGIN:VEVENT
DTSTART;TZID=America/Los_Angeles:20231109T153000
DTEND;TZID=America/Los_Angeles:20231109T162500
DTSTAMP:20260425T060028
CREATED:20231107T014423Z
LAST-MODIFIED:20231107T014423Z
UID:10001026-1699543800-1699547100@aikido-contracosta.com
SUMMARY:Kids Class
DESCRIPTION:
URL:https://aikido-contracosta.com/events/kids-class-42/
LOCATION:Wah Dojo
END:VEVENT
BEGIN:VEVENT
DTSTART;TZID=America/Los_Angeles:20231109T193000
DTEND;TZID=America/Los_Angeles:20231109T210000
DTSTAMP:20260425T060028
CREATED:20231107T012038Z
LAST-MODIFIED:20231107T012038Z
UID:10000868-1699558200-1699563600@aikido-contracosta.com
SUMMARY:Regular Class
DESCRIPTION:
URL:https://aikido-contracosta.com/events/regular-class-224/
LOCATION:Wah Dojo
END:VEVENT
BEGIN:VEVENT
DTSTART;TZID=America/Los_Angeles:20231111T120000
DTEND;TZID=America/Los_Angeles:20231111T140000
DTSTAMP:20260425T060028
CREATED:20231107T022813Z
LAST-MODIFIED:20231107T022813Z
UID:10001043-1699704000-1699711200@aikido-contracosta.com
SUMMARY:Saturday Weapons Outside by Wah Dojo
DESCRIPTION:
URL:https://aikido-contracosta.com/events/saturday-weapons-outside-by-wah-dojo-19/
LOCATION:Wah Dojo
END:VEVENT
BEGIN:VEVENT
DTSTART;TZID=America/Los_Angeles:20231114T153000
DTEND;TZID=America/Los_Angeles:20231114T162500
DTSTAMP:20260425T060028
CREATED:20231107T014650Z
LAST-MODIFIED:20231107T014650Z
UID:10001027-1699975800-1699979100@aikido-contracosta.com
SUMMARY:Kids Class
DESCRIPTION:
URL:https://aikido-contracosta.com/events/kids-class-43/
LOCATION:Wah Dojo
END:VEVENT
BEGIN:VEVENT
DTSTART;TZID=America/Los_Angeles:20231114T193000
DTEND;TZID=America/Los_Angeles:20231114T210000
DTSTAMP:20260425T060028
CREATED:20231107T012118Z
LAST-MODIFIED:20231107T012118Z
UID:10000870-1699990200-1699995600@aikido-contracosta.com
SUMMARY:Regular Class
DESCRIPTION:
URL:https://aikido-contracosta.com/events/regular-class-225/
LOCATION:Wah Dojo
END:VEVENT
BEGIN:VEVENT
DTSTART;TZID=America/Los_Angeles:20231115T190000
DTEND;TZID=America/Los_Angeles:20231115T210000
DTSTAMP:20260425T060028
CREATED:20231107T022058Z
LAST-MODIFIED:20231107T022058Z
UID:10001039-1700074800-1700082000@aikido-contracosta.com
SUMMARY:Regular Class
DESCRIPTION:
URL:https://aikido-contracosta.com/events/regular-class-238/
LOCATION:St. Marks Church
END:VEVENT
BEGIN:VEVENT
DTSTART;TZID=America/Los_Angeles:20231116T153000
DTEND;TZID=America/Los_Angeles:20231116T162500
DTSTAMP:20260425T060028
CREATED:20231107T014949Z
LAST-MODIFIED:20231107T014949Z
UID:10001029-1700148600-1700151900@aikido-contracosta.com
SUMMARY:Kids Class
DESCRIPTION:
URL:https://aikido-contracosta.com/events/kids-class-45/
LOCATION:Wah Dojo
END:VEVENT
BEGIN:VEVENT
DTSTART;TZID=America/Los_Angeles:20231116T193000
DTEND;TZID=America/Los_Angeles:20231116T210000
DTSTAMP:20260425T060028
CREATED:20231107T012153Z
LAST-MODIFIED:20231107T012153Z
UID:10000872-1700163000-1700168400@aikido-contracosta.com
SUMMARY:Regular Class
DESCRIPTION:
URL:https://aikido-contracosta.com/events/regular-class-226/
LOCATION:Wah Dojo
END:VEVENT
BEGIN:VEVENT
DTSTART;TZID=America/Los_Angeles:20231118T083000
DTEND;TZID=America/Los_Angeles:20231118T113000
DTSTAMP:20260425T060028
CREATED:20231009T023031Z
LAST-MODIFIED:20231009T023031Z
UID:10001020-1700296200-1700307000@aikido-contracosta.com
SUMMARY:ASL Weapons Seminar
DESCRIPTION:
URL:https://aikido-contracosta.com/events/asl-weapons-seminar-13/
LOCATION:Aikido San Leandro\, 1033 MacArthur Blvd\,\, San Leandro\, CA\, 94577\, United States
END:VEVENT
BEGIN:VEVENT
DTSTART;TZID=America/Los_Angeles:20231119T083000
DTEND;TZID=America/Los_Angeles:20231119T113000
DTSTAMP:20260425T060028
CREATED:20231009T023056Z
LAST-MODIFIED:20231009T023056Z
UID:10001021-1700382600-1700393400@aikido-contracosta.com
SUMMARY:ASL Weapons Seminar
DESCRIPTION:
URL:https://aikido-contracosta.com/events/asl-weapons-seminar-14/
LOCATION:Aikido San Leandro\, 1033 MacArthur Blvd\,\, San Leandro\, CA\, 94577\, United States
END:VEVENT
BEGIN:VEVENT
DTSTART;TZID=America/Los_Angeles:20231121T153000
DTEND;TZID=America/Los_Angeles:20231121T162500
DTSTAMP:20260425T060028
CREATED:20231107T014837Z
LAST-MODIFIED:20231107T015041Z
UID:10001028-1700580600-1700583900@aikido-contracosta.com
SUMMARY:Kids Class
DESCRIPTION:
URL:https://aikido-contracosta.com/events/kids-class-44/
LOCATION:Wah Dojo
END:VEVENT
BEGIN:VEVENT
DTSTART;TZID=America/Los_Angeles:20231121T193000
DTEND;TZID=America/Los_Angeles:20231121T210000
DTSTAMP:20260425T060028
CREATED:20231107T012552Z
LAST-MODIFIED:20231107T012552Z
UID:10000874-1700595000-1700600400@aikido-contracosta.com
SUMMARY:Regular Class
DESCRIPTION:
URL:https://aikido-contracosta.com/events/regular-class-227/
LOCATION:Wah Dojo
END:VEVENT
BEGIN:VEVENT
DTSTART;TZID=America/Los_Angeles:20231122T190000
DTEND;TZID=America/Los_Angeles:20231122T210000
DTSTAMP:20260425T060028
CREATED:20231107T021958Z
LAST-MODIFIED:20231107T022141Z
UID:10001038-1700679600-1700686800@aikido-contracosta.com
SUMMARY:Regular Class
DESCRIPTION:
URL:https://aikido-contracosta.com/events/regular-class-237/
LOCATION:St. Marks Church
END:VEVENT
BEGIN:VEVENT
DTSTART;TZID=America/Los_Angeles:20231123T193000
DTEND;TZID=America/Los_Angeles:20231123T210000
DTSTAMP:20260425T060028
CREATED:20231107T013204Z
LAST-MODIFIED:20231107T013240Z
UID:10000876-1700767800-1700773200@aikido-contracosta.com
SUMMARY:Closed for Thanksgiving
DESCRIPTION:
URL:https://aikido-contracosta.com/events/regular-class-228/
LOCATION:Wah Dojo
END:VEVENT
BEGIN:VEVENT
DTSTART;TZID=America/Los_Angeles:20231125T120000
DTEND;TZID=America/Los_Angeles:20231125T140000
DTSTAMP:20260425T060028
CREATED:20231107T022857Z
LAST-MODIFIED:20231107T023006Z
UID:10001044-1700913600-1700920800@aikido-contracosta.com
SUMMARY:Saturday Weapons Outside by Wah Dojo
DESCRIPTION:
URL:https://aikido-contracosta.com/events/saturday-weapons-outside-by-wah-dojo-20/
LOCATION:Wah Dojo
END:VEVENT
BEGIN:VEVENT
DTSTART;TZID=America/Los_Angeles:20231128T153000
DTEND;TZID=America/Los_Angeles:20231128T162500
DTSTAMP:20260425T060028
CREATED:20231107T020344Z
LAST-MODIFIED:20231107T020344Z
UID:10001030-1701185400-1701188700@aikido-contracosta.com
SUMMARY:Kids Class
DESCRIPTION:
URL:https://aikido-contracosta.com/events/kids-class-46/
LOCATION:Wah Dojo
END:VEVENT
BEGIN:VEVENT
DTSTART;TZID=America/Los_Angeles:20231128T193000
DTEND;TZID=America/Los_Angeles:20231128T210000
DTSTAMP:20260425T060028
CREATED:20231107T013627Z
LAST-MODIFIED:20231107T013627Z
UID:10000878-1701199800-1701205200@aikido-contracosta.com
SUMMARY:Regular Class
DESCRIPTION:
URL:https://aikido-contracosta.com/events/regular-class-229/
LOCATION:Wah Dojo
END:VEVENT
BEGIN:VEVENT
DTSTART;TZID=America/Los_Angeles:20231129T190000
DTEND;TZID=America/Los_Angeles:20231129T210000
DTSTAMP:20260425T060028
CREATED:20231107T022227Z
LAST-MODIFIED:20231107T022227Z
UID:10001040-1701284400-1701291600@aikido-contracosta.com
SUMMARY:Regular Class
DESCRIPTION:
URL:https://aikido-contracosta.com/events/regular-class-239/
LOCATION:St. Marks Church
END:VEVENT
BEGIN:VEVENT
DTSTART;TZID=America/Los_Angeles:20231130T153000
DTEND;TZID=America/Los_Angeles:20231130T162500
DTSTAMP:20260425T060028
CREATED:20231107T020637Z
LAST-MODIFIED:20231107T020637Z
UID:10001032-1701358200-1701361500@aikido-contracosta.com
SUMMARY:Kids Class
DESCRIPTION:
URL:https://aikido-contracosta.com/events/kids-class-48/
LOCATION:Wah Dojo
END:VEVENT
BEGIN:VEVENT
DTSTART;TZID=America/Los_Angeles:20231130T193000
DTEND;TZID=America/Los_Angeles:20231130T210000
DTSTAMP:20260425T060028
CREATED:20231107T013720Z
LAST-MODIFIED:20231107T013720Z
UID:10000880-1701372600-1701378000@aikido-contracosta.com
SUMMARY:Regular Class
DESCRIPTION:
URL:https://aikido-contracosta.com/events/regular-class-230/
LOCATION:Wah Dojo
END:VEVENT
END:VCALENDAR