BEGIN:VCALENDAR
VERSION:2.0
PRODID:-//AikidoContraCosta.com - ECPv6.15.20//NONSGML v1.0//EN
CALSCALE:GREGORIAN
METHOD:PUBLISH
X-WR-CALNAME:AikidoContraCosta.com
X-ORIGINAL-URL:https://aikido-contracosta.com
X-WR-CALDESC:Events for AikidoContraCosta.com
REFRESH-INTERVAL;VALUE=DURATION:PT1H
X-Robots-Tag:noindex
X-PUBLISHED-TTL:PT1H
BEGIN:VTIMEZONE
TZID:America/Los_Angeles
BEGIN:DAYLIGHT
TZOFFSETFROM:-0800
TZOFFSETTO:-0700
TZNAME:PDT
DTSTART:20220313T100000
END:DAYLIGHT
BEGIN:STANDARD
TZOFFSETFROM:-0700
TZOFFSETTO:-0800
TZNAME:PST
DTSTART:20221106T090000
END:STANDARD
BEGIN:DAYLIGHT
TZOFFSETFROM:-0800
TZOFFSETTO:-0700
TZNAME:PDT
DTSTART:20230312T100000
END:DAYLIGHT
BEGIN:STANDARD
TZOFFSETFROM:-0700
TZOFFSETTO:-0800
TZNAME:PST
DTSTART:20231105T090000
END:STANDARD
BEGIN:DAYLIGHT
TZOFFSETFROM:-0800
TZOFFSETTO:-0700
TZNAME:PDT
DTSTART:20240310T100000
END:DAYLIGHT
BEGIN:STANDARD
TZOFFSETFROM:-0700
TZOFFSETTO:-0800
TZNAME:PST
DTSTART:20241103T090000
END:STANDARD
END:VTIMEZONE
BEGIN:VEVENT
DTSTART;TZID=America/Los_Angeles:20230701T120000
DTEND;TZID=America/Los_Angeles:20230701T150000
DTSTAMP:20260425T122511
CREATED:20230621T060601Z
LAST-MODIFIED:20230621T060601Z
UID:10000924-1688212800-1688223600@aikido-contracosta.com
SUMMARY:Saturday Wah Dojo (Nidan Zoom Run Though)
DESCRIPTION:
URL:https://aikido-contracosta.com/events/saturday-wah-dojo-nidan-zoom-run-though/
LOCATION:Wah Dojo
END:VEVENT
BEGIN:VEVENT
DTSTART;TZID=America/Los_Angeles:20230704T193000
DTEND;TZID=America/Los_Angeles:20230704T210000
DTSTAMP:20260425T122511
CREATED:20230621T051351Z
LAST-MODIFIED:20230621T051351Z
UID:10000780-1688499000-1688504400@aikido-contracosta.com
SUMMARY:Dojo Closed for 4th of July
DESCRIPTION:
URL:https://aikido-contracosta.com/events/dojo-closed-for-4th-of-july/
LOCATION:Wah Dojo
END:VEVENT
BEGIN:VEVENT
DTSTART;TZID=America/Los_Angeles:20230705T190000
DTEND;TZID=America/Los_Angeles:20230705T210000
DTSTAMP:20260425T122511
CREATED:20230628T185351Z
LAST-MODIFIED:20230628T185351Z
UID:10000927-1688583600-1688590800@aikido-contracosta.com
SUMMARY:Regular Class
DESCRIPTION:
URL:https://aikido-contracosta.com/events/regular-class-188/
LOCATION:St. Marks Church
END:VEVENT
BEGIN:VEVENT
DTSTART;TZID=America/Los_Angeles:20230706T153000
DTEND;TZID=America/Los_Angeles:20230706T162500
DTSTAMP:20260425T122511
CREATED:20230628T190152Z
LAST-MODIFIED:20230628T190152Z
UID:10000943-1688657400-1688660700@aikido-contracosta.com
SUMMARY:Kids Class
DESCRIPTION:
URL:https://aikido-contracosta.com/events/kids-class-19/
LOCATION:Wah Dojo
END:VEVENT
BEGIN:VEVENT
DTSTART;TZID=America/Los_Angeles:20230706T193000
DTEND;TZID=America/Los_Angeles:20230706T210000
DTSTAMP:20260425T122511
CREATED:20230621T051457Z
LAST-MODIFIED:20230621T051457Z
UID:10000783-1688671800-1688677200@aikido-contracosta.com
SUMMARY:Regular Class
DESCRIPTION:
URL:https://aikido-contracosta.com/events/regular-class-173/
LOCATION:Wah Dojo
END:VEVENT
BEGIN:VEVENT
DTSTART;TZID=America/Los_Angeles:20230708T120000
DTEND;TZID=America/Los_Angeles:20230708T140000
DTSTAMP:20260425T122511
CREATED:20230702T210800Z
LAST-MODIFIED:20230702T210800Z
UID:10000950-1688817600-1688824800@aikido-contracosta.com
SUMMARY:Saturday Weapons Outside by Wah Dojo
DESCRIPTION:
URL:https://aikido-contracosta.com/events/saturday-weapons-outside-by-wah-dojo-8/
LOCATION:Wah Dojo
END:VEVENT
BEGIN:VEVENT
DTSTART;TZID=America/Los_Angeles:20230711T153000
DTEND;TZID=America/Los_Angeles:20230711T162500
DTSTAMP:20260425T122511
CREATED:20230628T185902Z
LAST-MODIFIED:20230628T185902Z
UID:10000939-1689089400-1689092700@aikido-contracosta.com
SUMMARY:Kids Class
DESCRIPTION:
URL:https://aikido-contracosta.com/events/kids-class-17/
LOCATION:Wah Dojo
END:VEVENT
BEGIN:VEVENT
DTSTART;TZID=America/Los_Angeles:20230711T193000
DTEND;TZID=America/Los_Angeles:20230711T210000
DTSTAMP:20260425T122511
CREATED:20230621T051535Z
LAST-MODIFIED:20230621T051535Z
UID:10000784-1689103800-1689109200@aikido-contracosta.com
SUMMARY:Regular Class
DESCRIPTION:
URL:https://aikido-contracosta.com/events/regular-class-174/
LOCATION:Wah Dojo
END:VEVENT
BEGIN:VEVENT
DTSTART;TZID=America/Los_Angeles:20230712T190000
DTEND;TZID=America/Los_Angeles:20230712T210000
DTSTAMP:20260425T122511
CREATED:20230628T185438Z
LAST-MODIFIED:20230628T185438Z
UID:10000929-1689188400-1689195600@aikido-contracosta.com
SUMMARY:Regular Class
DESCRIPTION:
URL:https://aikido-contracosta.com/events/regular-class-189/
LOCATION:St. Marks Church
END:VEVENT
BEGIN:VEVENT
DTSTART;TZID=America/Los_Angeles:20230713T153000
DTEND;TZID=America/Los_Angeles:20230713T162500
DTSTAMP:20260425T122511
CREATED:20230628T185951Z
LAST-MODIFIED:20230628T185951Z
UID:10000941-1689262200-1689265500@aikido-contracosta.com
SUMMARY:Kids Class
DESCRIPTION:
URL:https://aikido-contracosta.com/events/kids-class-18/
LOCATION:Wah Dojo
END:VEVENT
BEGIN:VEVENT
DTSTART;TZID=America/Los_Angeles:20230713T193000
DTEND;TZID=America/Los_Angeles:20230713T210000
DTSTAMP:20260425T122511
CREATED:20230621T051622Z
LAST-MODIFIED:20230621T051622Z
UID:10000786-1689276600-1689282000@aikido-contracosta.com
SUMMARY:Regular Class
DESCRIPTION:
URL:https://aikido-contracosta.com/events/regular-class-175/
LOCATION:Wah Dojo
END:VEVENT
BEGIN:VEVENT
DTSTART;TZID=America/Los_Angeles:20230715T120000
DTEND;TZID=America/Los_Angeles:20230715T140000
DTSTAMP:20260425T122511
CREATED:20230702T210844Z
LAST-MODIFIED:20230702T210844Z
UID:10000951-1689422400-1689429600@aikido-contracosta.com
SUMMARY:Saturday Weapons Outside by Wah Dojo
DESCRIPTION:
URL:https://aikido-contracosta.com/events/saturday-weapons-outside-by-wah-dojo-9/
LOCATION:Wah Dojo
END:VEVENT
BEGIN:VEVENT
DTSTART;TZID=America/Los_Angeles:20230718T153000
DTEND;TZID=America/Los_Angeles:20230718T162500
DTSTAMP:20260425T122511
CREATED:20230628T190430Z
LAST-MODIFIED:20230628T190430Z
UID:10000945-1689694200-1689697500@aikido-contracosta.com
SUMMARY:Kids Class
DESCRIPTION:
URL:https://aikido-contracosta.com/events/kids-class-20/
LOCATION:Wah Dojo
END:VEVENT
BEGIN:VEVENT
DTSTART;TZID=America/Los_Angeles:20230718T193000
DTEND;TZID=America/Los_Angeles:20230718T210000
DTSTAMP:20260425T122511
CREATED:20230621T051735Z
LAST-MODIFIED:20230621T051735Z
UID:10000789-1689708600-1689714000@aikido-contracosta.com
SUMMARY:Regular Class
DESCRIPTION:
URL:https://aikido-contracosta.com/events/regular-class-176/
LOCATION:Wah Dojo
END:VEVENT
BEGIN:VEVENT
DTSTART;TZID=America/Los_Angeles:20230719T190000
DTEND;TZID=America/Los_Angeles:20230719T210000
DTSTAMP:20260425T122511
CREATED:20230628T185557Z
LAST-MODIFIED:20230628T185557Z
UID:10000932-1689793200-1689800400@aikido-contracosta.com
SUMMARY:Regular Class
DESCRIPTION:
URL:https://aikido-contracosta.com/events/regular-class-190/
LOCATION:St. Marks Church
END:VEVENT
BEGIN:VEVENT
DTSTART;TZID=America/Los_Angeles:20230720T153000
DTEND;TZID=America/Los_Angeles:20230720T162500
DTSTAMP:20260425T122511
CREATED:20230628T190549Z
LAST-MODIFIED:20230628T190549Z
UID:10000946-1689867000-1689870300@aikido-contracosta.com
SUMMARY:Kids Class
DESCRIPTION:
URL:https://aikido-contracosta.com/events/kids-class-21/
LOCATION:Wah Dojo
END:VEVENT
BEGIN:VEVENT
DTSTART;TZID=America/Los_Angeles:20230720T193000
DTEND;TZID=America/Los_Angeles:20230720T210000
DTSTAMP:20260425T122511
CREATED:20230621T051835Z
LAST-MODIFIED:20230621T051835Z
UID:10000791-1689881400-1689886800@aikido-contracosta.com
SUMMARY:Regular Class
DESCRIPTION:
URL:https://aikido-contracosta.com/events/regular-class-177/
LOCATION:Wah Dojo
END:VEVENT
BEGIN:VEVENT
DTSTART;TZID=America/Los_Angeles:20230722T083000
DTEND;TZID=America/Los_Angeles:20230722T113000
DTSTAMP:20260425T122511
CREATED:20230606T191657Z
LAST-MODIFIED:20230606T191657Z
UID:10000777-1690014600-1690025400@aikido-contracosta.com
SUMMARY:ASL Weapons Seminar (see Special Events page)
DESCRIPTION:
URL:https://aikido-contracosta.com/events/asl-weapons-seminar-see-special-events-page/
LOCATION:Aikido San Leandro\, 1033 MacArthur Blvd\,\, San Leandro\, CA\, 94577\, United States
END:VEVENT
BEGIN:VEVENT
DTSTART;TZID=America/Los_Angeles:20230723T083000
DTEND;TZID=America/Los_Angeles:20230723T113000
DTSTAMP:20260425T122511
CREATED:20230606T191726Z
LAST-MODIFIED:20230606T191726Z
UID:10000778-1690101000-1690111800@aikido-contracosta.com
SUMMARY:ASL Weapon Seminar (see Special Events page)
DESCRIPTION:
URL:https://aikido-contracosta.com/events/asl-weapon-seminar-see-special-events-page-2/
LOCATION:Aikido San Leandro\, 1033 MacArthur Blvd\,\, San Leandro\, CA\, 94577\, United States
END:VEVENT
BEGIN:VEVENT
DTSTART;TZID=America/Los_Angeles:20230725T153000
DTEND;TZID=America/Los_Angeles:20230725T162500
DTSTAMP:20260425T122511
CREATED:20230628T190622Z
LAST-MODIFIED:20230628T190622Z
UID:10000947-1690299000-1690302300@aikido-contracosta.com
SUMMARY:Kids Class
DESCRIPTION:
URL:https://aikido-contracosta.com/events/kids-class-22/
LOCATION:Wah Dojo
END:VEVENT
BEGIN:VEVENT
DTSTART;TZID=America/Los_Angeles:20230725T193000
DTEND;TZID=America/Los_Angeles:20230725T210000
DTSTAMP:20260425T122511
CREATED:20230621T051918Z
LAST-MODIFIED:20230621T051918Z
UID:10000793-1690313400-1690318800@aikido-contracosta.com
SUMMARY:Regular Class
DESCRIPTION:
URL:https://aikido-contracosta.com/events/regular-class-178/
LOCATION:Wah Dojo
END:VEVENT
BEGIN:VEVENT
DTSTART;TZID=America/Los_Angeles:20230726T190000
DTEND;TZID=America/Los_Angeles:20230726T210000
DTSTAMP:20260425T122511
CREATED:20230628T185700Z
LAST-MODIFIED:20230628T185700Z
UID:10000935-1690398000-1690405200@aikido-contracosta.com
SUMMARY:Regular Class
DESCRIPTION:
URL:https://aikido-contracosta.com/events/regular-class-191/
LOCATION:St. Marks Church
END:VEVENT
BEGIN:VEVENT
DTSTART;TZID=America/Los_Angeles:20230727T153000
DTEND;TZID=America/Los_Angeles:20230727T162500
DTSTAMP:20260425T122511
CREATED:20230628T190703Z
LAST-MODIFIED:20230628T190703Z
UID:10000948-1690471800-1690475100@aikido-contracosta.com
SUMMARY:Kids Class
DESCRIPTION:
URL:https://aikido-contracosta.com/events/kids-class-23/
LOCATION:Wah Dojo
END:VEVENT
BEGIN:VEVENT
DTSTART;TZID=America/Los_Angeles:20230727T193000
DTEND;TZID=America/Los_Angeles:20230727T210000
DTSTAMP:20260425T122511
CREATED:20230621T051944Z
LAST-MODIFIED:20230621T051944Z
UID:10000794-1690486200-1690491600@aikido-contracosta.com
SUMMARY:Regular Class
DESCRIPTION:
URL:https://aikido-contracosta.com/events/regular-class-179/
LOCATION:Wah Dojo
END:VEVENT
BEGIN:VEVENT
DTSTART;TZID=America/Los_Angeles:20230729T120000
DTEND;TZID=America/Los_Angeles:20230729T140000
DTSTAMP:20260425T122511
CREATED:20230702T211035Z
LAST-MODIFIED:20230702T211035Z
UID:10000952-1690632000-1690639200@aikido-contracosta.com
SUMMARY:No Class Today
DESCRIPTION:
URL:https://aikido-contracosta.com/events/no-class-today/
END:VEVENT
END:VCALENDAR