BEGIN:VCALENDAR
VERSION:2.0
PRODID:-//AikidoContraCosta.com - ECPv6.15.20//NONSGML v1.0//EN
CALSCALE:GREGORIAN
METHOD:PUBLISH
X-ORIGINAL-URL:https://aikido-contracosta.com
X-WR-CALDESC:Events for AikidoContraCosta.com
REFRESH-INTERVAL;VALUE=DURATION:PT1H
X-Robots-Tag:noindex
X-PUBLISHED-TTL:PT1H
BEGIN:VTIMEZONE
TZID:America/Los_Angeles
BEGIN:DAYLIGHT
TZOFFSETFROM:-0800
TZOFFSETTO:-0700
TZNAME:PDT
DTSTART:20220313T100000
END:DAYLIGHT
BEGIN:STANDARD
TZOFFSETFROM:-0700
TZOFFSETTO:-0800
TZNAME:PST
DTSTART:20221106T090000
END:STANDARD
BEGIN:DAYLIGHT
TZOFFSETFROM:-0800
TZOFFSETTO:-0700
TZNAME:PDT
DTSTART:20230312T100000
END:DAYLIGHT
BEGIN:STANDARD
TZOFFSETFROM:-0700
TZOFFSETTO:-0800
TZNAME:PST
DTSTART:20231105T090000
END:STANDARD
BEGIN:DAYLIGHT
TZOFFSETFROM:-0800
TZOFFSETTO:-0700
TZNAME:PDT
DTSTART:20240310T100000
END:DAYLIGHT
BEGIN:STANDARD
TZOFFSETFROM:-0700
TZOFFSETTO:-0800
TZNAME:PST
DTSTART:20241103T090000
END:STANDARD
END:VTIMEZONE
BEGIN:VEVENT
DTSTART;TZID=America/Los_Angeles:20230404T193000
DTEND;TZID=America/Los_Angeles:20230404T210000
DTSTAMP:20260425T170121
CREATED:20230410T175951Z
LAST-MODIFIED:20230410T175951Z
UID:10000847-1680636600-1680642000@aikido-contracosta.com
SUMMARY:Regular Class
DESCRIPTION:
URL:https://aikido-contracosta.com/events/regular-class-139/
LOCATION:Wah Dojo
END:VEVENT
BEGIN:VEVENT
DTSTART;TZID=America/Los_Angeles:20230405T190000
DTEND;TZID=America/Los_Angeles:20230405T210000
DTSTAMP:20260425T170121
CREATED:20230410T180758Z
LAST-MODIFIED:20230410T180758Z
UID:10000855-1680721200-1680728400@aikido-contracosta.com
SUMMARY:Regular Class
DESCRIPTION:
URL:https://aikido-contracosta.com/events/regular-class-147/
LOCATION:St. Marks Church
END:VEVENT
BEGIN:VEVENT
DTSTART;TZID=America/Los_Angeles:20230406T193000
DTEND;TZID=America/Los_Angeles:20230406T210000
DTSTAMP:20260425T170121
CREATED:20230410T180031Z
LAST-MODIFIED:20230410T180031Z
UID:10000848-1680809400-1680814800@aikido-contracosta.com
SUMMARY:Regular Class
DESCRIPTION:
URL:https://aikido-contracosta.com/events/regular-class-140/
LOCATION:Wah Dojo
END:VEVENT
BEGIN:VEVENT
DTSTART;TZID=America/Los_Angeles:20230408T120000
DTEND;TZID=America/Los_Angeles:20230408T140000
DTSTAMP:20260425T170121
CREATED:20230410T181243Z
LAST-MODIFIED:20230410T181243Z
UID:10000859-1680955200-1680962400@aikido-contracosta.com
SUMMARY:Saturday Weapons Outside by Wah Dojo
DESCRIPTION:
URL:https://aikido-contracosta.com/events/saturday-weapons-outside-by-wah-dojo-5/
LOCATION:Wah Dojo
END:VEVENT
BEGIN:VEVENT
DTSTART;TZID=America/Los_Angeles:20230411T193000
DTEND;TZID=America/Los_Angeles:20230411T210000
DTSTAMP:20260425T170121
CREATED:20230410T180111Z
LAST-MODIFIED:20230410T180111Z
UID:10000849-1681241400-1681246800@aikido-contracosta.com
SUMMARY:Regular Class
DESCRIPTION:
URL:https://aikido-contracosta.com/events/regular-class-141/
LOCATION:Wah Dojo
END:VEVENT
BEGIN:VEVENT
DTSTART;TZID=America/Los_Angeles:20230412T190000
DTEND;TZID=America/Los_Angeles:20230412T210000
DTSTAMP:20260425T170121
CREATED:20230410T180833Z
LAST-MODIFIED:20230410T180833Z
UID:10000856-1681326000-1681333200@aikido-contracosta.com
SUMMARY:Regular Class
DESCRIPTION:
URL:https://aikido-contracosta.com/events/regular-class-148/
LOCATION:St. Marks Church
END:VEVENT
BEGIN:VEVENT
DTSTART;TZID=America/Los_Angeles:20230413T193000
DTEND;TZID=America/Los_Angeles:20230413T210000
DTSTAMP:20260425T170121
CREATED:20230410T180145Z
LAST-MODIFIED:20230410T180145Z
UID:10000850-1681414200-1681419600@aikido-contracosta.com
SUMMARY:Regular Class
DESCRIPTION:
URL:https://aikido-contracosta.com/events/regular-class-142/
LOCATION:Wah Dojo
END:VEVENT
BEGIN:VEVENT
DTSTART;TZID=America/Los_Angeles:20230415T083000
DTEND;TZID=America/Los_Angeles:20230415T233000
DTSTAMP:20260425T170121
CREATED:20230317T005855Z
LAST-MODIFIED:20230317T005855Z
UID:10000840-1681547400-1681601400@aikido-contracosta.com
SUMMARY:Monthly ASL Weapons Seminar
DESCRIPTION:
URL:https://aikido-contracosta.com/events/monthly-asl-weapons-seminar-3/
LOCATION:Aikido San Leandro\, 1033 MacArthur Blvd\,\, San Leandro\, CA\, 94577\, United States
END:VEVENT
BEGIN:VEVENT
DTSTART;TZID=America/Los_Angeles:20230416T083000
DTEND;TZID=America/Los_Angeles:20230416T233000
DTSTAMP:20260425T170121
CREATED:20230317T005748Z
LAST-MODIFIED:20230317T005748Z
UID:10000839-1681633800-1681687800@aikido-contracosta.com
SUMMARY:Monthly ASL Weapons Seminar
DESCRIPTION:
URL:https://aikido-contracosta.com/events/monthly-asl-weapons-seminar-2/
LOCATION:Aikido San Leandro\, 1033 MacArthur Blvd\,\, San Leandro\, CA\, 94577\, United States
END:VEVENT
BEGIN:VEVENT
DTSTART;TZID=America/Los_Angeles:20230418T193000
DTEND;TZID=America/Los_Angeles:20230418T210000
DTSTAMP:20260425T170121
CREATED:20230410T180301Z
LAST-MODIFIED:20230410T180301Z
UID:10000851-1681846200-1681851600@aikido-contracosta.com
SUMMARY:Regular Class
DESCRIPTION:
URL:https://aikido-contracosta.com/events/regular-class-143/
LOCATION:Wah Dojo
END:VEVENT
BEGIN:VEVENT
DTSTART;TZID=America/Los_Angeles:20230419T190000
DTEND;TZID=America/Los_Angeles:20230419T210000
DTSTAMP:20260425T170121
CREATED:20230410T181107Z
LAST-MODIFIED:20230410T181107Z
UID:10000858-1681930800-1681938000@aikido-contracosta.com
SUMMARY:Regular Class
DESCRIPTION:
URL:https://aikido-contracosta.com/events/regular-class-150/
LOCATION:St. Marks Church
END:VEVENT
BEGIN:VEVENT
DTSTART;TZID=America/Los_Angeles:20230420T193000
DTEND;TZID=America/Los_Angeles:20230420T210000
DTSTAMP:20260425T170121
CREATED:20230410T180335Z
LAST-MODIFIED:20230410T180335Z
UID:10000852-1682019000-1682024400@aikido-contracosta.com
SUMMARY:Regular Class
DESCRIPTION:
URL:https://aikido-contracosta.com/events/regular-class-144/
LOCATION:Wah Dojo
END:VEVENT
BEGIN:VEVENT
DTSTART;TZID=America/Los_Angeles:20230422T120000
DTEND;TZID=America/Los_Angeles:20230422T140000
DTSTAMP:20260425T170121
CREATED:20230312T213755Z
LAST-MODIFIED:20230312T213755Z
UID:10000825-1682164800-1682172000@aikido-contracosta.com
SUMMARY:Saturday in Wah Dojo
DESCRIPTION:
URL:https://aikido-contracosta.com/events/saturday-in-wah-dojo-7/
LOCATION:Wah Dojo
END:VEVENT
BEGIN:VEVENT
DTSTART;TZID=America/Los_Angeles:20230425T193000
DTEND;TZID=America/Los_Angeles:20230425T210000
DTSTAMP:20260425T170121
CREATED:20230410T180404Z
LAST-MODIFIED:20230410T180404Z
UID:10000853-1682451000-1682456400@aikido-contracosta.com
SUMMARY:Regular Class
DESCRIPTION:
URL:https://aikido-contracosta.com/events/regular-class-145/
LOCATION:Wah Dojo
END:VEVENT
BEGIN:VEVENT
DTSTART;TZID=America/Los_Angeles:20230426T190000
DTEND;TZID=America/Los_Angeles:20230426T210000
DTSTAMP:20260425T170121
CREATED:20230410T180911Z
LAST-MODIFIED:20230410T180937Z
UID:10000857-1682535600-1682542800@aikido-contracosta.com
SUMMARY:Regular Class
DESCRIPTION:
URL:https://aikido-contracosta.com/events/regular-class-149/
LOCATION:St. Marks Church
END:VEVENT
BEGIN:VEVENT
DTSTART;TZID=America/Los_Angeles:20230427T153000
DTEND;TZID=America/Los_Angeles:20230427T162500
DTSTAMP:20260425T170121
CREATED:20230427T213728Z
LAST-MODIFIED:20230427T213728Z
UID:10000860-1682609400-1682612700@aikido-contracosta.com
SUMMARY:Kids Class
DESCRIPTION:
URL:https://aikido-contracosta.com/events/kids-class/
LOCATION:Wah Dojo
END:VEVENT
BEGIN:VEVENT
DTSTART;TZID=America/Los_Angeles:20230427T193000
DTEND;TZID=America/Los_Angeles:20230427T210000
DTSTAMP:20260425T170121
CREATED:20230410T180509Z
LAST-MODIFIED:20230410T180622Z
UID:10000854-1682623800-1682629200@aikido-contracosta.com
SUMMARY:Regular Class
DESCRIPTION:
URL:https://aikido-contracosta.com/events/regular-class-146/
LOCATION:Wah Dojo
END:VEVENT
BEGIN:VEVENT
DTSTART;TZID=America/Los_Angeles:20230429T110000
DTEND;TZID=America/Los_Angeles:20230429T130000
DTSTAMP:20260425T170121
CREATED:20230410T175340Z
LAST-MODIFIED:20230427T213439Z
UID:10000843-1682766000-1682773200@aikido-contracosta.com
SUMMARY:No Class- Wah Karate Dojo Rankings
DESCRIPTION:
URL:https://aikido-contracosta.com/events/saturday-weapons-outside-by-wah-dojo/
LOCATION:Wah Dojo
END:VEVENT
END:VCALENDAR